Workbook

Sheet Training_Data
A1: Date | B1: Group | C1: Duration (hours) | D1: Coach | E1: Hourly Rate | F1: Total
A2: 2026-05-01 | B2: Group 6 | C2: 2 | D2: Coach A | E2: =VLOOKUP(TrainingTable[[#This Row],[Coach]],Variables!A:B,2,FALSE()) -> 20 | F2: =C2*E2 -> 40
A3: 2026-05-02 | B3: Group 3 | C3: 1.5 | D3: Coach C | E3: =VLOOKUP(TrainingTable[[#This Row],[Coach]],Variables!A:B,2,FALSE()) -> 22 | F3: =C3*E3 -> 33
A4: 2026-05-03 | B4: Group 2 | C4: 3 | D4: Coach D | E4: =VLOOKUP(TrainingTable[[#This Row],[Coach]],Variables!A:B,2,FALSE()) -> 30 | F4: =C4*E4 -> 90
A5: 2026-05-04 | B5: Group 5 | C5: 4 | D5: Coach B | E5: =VLOOKUP(TrainingTable[[#This Row],[Coach]],Variables!A:B,2,FALSE()) -> 25 | F5: =C5*E5 -> 100
A6: 2026-05-05 | B6: Group 3 | C6: 2 | D6: Coach A | E6: =VLOOKUP(TrainingTable[[#This Row],[Coach]],Variables!A:B,2,FALSE()) -> 20 | F6: =C6*E6 -> 40
A7: 2026-05-06 | B7: Group 2 | C7: 5 | D7: Coach E | E7: =VLOOKUP(TrainingTable[[#This Row],[Coach]],Variables!A:B,2,FALSE()) -> 28 | F7: =C7*E7 -> 140
A8: 2026-05-07 | B8: Group 3 | C8: 6 | D8: Coach B | E8: =VLOOKUP(TrainingTable[[#This Row],[Coach]],Variables!A:B,2,FALSE()) -> 25 | F8: =C8*E8 -> 150
A9: 2026-05-08 | B9: Group 4 | C9: 7 | D9: Coach C | E9: =VLOOKUP(TrainingTable[[#This Row],[Coach]],Variables!A:B,2,FALSE()) -> 22 | F9: =C9*E9 -> 154
A10: 2026-05-09 | B10: Group 2 | C10: 6 | D10: Coach B | E10: =VLOOKUP(TrainingTable[[#This Row],[Coach]],Variables!A:B,2,FALSE()) -> 25 | F10: =C10*E10 -> 150
E11: =IFERROR(VLOOKUP(TrainingTable[[#This Row],[Coach]],Variables!A:B,2,FALSE()),"") | F11: =IFERROR(C11*E11,"")
E12: =IFERROR(VLOOKUP(TrainingTable[[#This Row],[Coach]],Variables!A:B,2,FALSE()),"") | F12: =IFERROR(C12*E12,"")
E13: =IFERROR(VLOOKUP(TrainingTable[[#This Row],[Coach]],Variables!A:B,2,FALSE()),"") | F13: =IFERROR(C13*E13,"")
E14: =IFERROR(VLOOKUP(TrainingTable[[#This Row],[Coach]],Variables!A:B,2,FALSE()),"") | F14: =IFERROR(C14*E14,"")
E15: =IFERROR(VLOOKUP(TrainingTable[[#This Row],[Coach]],Variables!A:B,2,FALSE()),"") | F15: =IFERROR(C15*E15,"")
E16: =IFERROR(VLOOKUP(TrainingTable[[#This Row],[Coach]],Variables!A:B,2,FALSE()),"") | F16: =IFERROR(C16*E16,"")
E17: =IFERROR(VLOOKUP(TrainingTable[[#This Row],[Coach]],Variables!A:B,2,FALSE()),"") | F17: =IFERROR(C17*E17,"")
E18: =IFERROR(VLOOKUP(TrainingTable[[#This Row],[Coach]],Variables!A:B,2,FALSE()),"") | F18: =IFERROR(C18*E18,"")
E19: =IFERROR(VLOOKUP(TrainingTable[[#This Row],[Coach]],Variables!A:B,2,FALSE()),"") | F19: =IFERROR(C19*E19,"")
E20: =IFERROR(VLOOKUP(TrainingTable[[#This Row],[Coach]],Variables!A:B,2,FALSE()),"") | F20: =IFERROR(C20*E20,"")
E21: =IFERROR(VLOOKUP(TrainingTable[[#This Row],[Coach]],Variables!A:B,2,FALSE()),"") | F21: =IFERROR(C21*E21,"")
E22: =IFERROR(VLOOKUP(TrainingTable[[#This Row],[Coach]],Variables!A:B,2,FALSE()),"") | F22: =IFERROR(C22*E22,"")
... E81: =IFERROR(VLOOKUP(TrainingTable[[#This Row],[Coach]],Variables!A:B,2,FALSE()),"") | F81: =IFERROR(C81*E81,"")

Sheet Variables
A1: Coach | B1: Hourly Rate | D1: Group
A2: Coach A | B2: 20 | D2: Group 1
A3: Coach B | B3: 25 | D3: Group 2
A4: Coach C | B4: 22 | D4: Group 3
A5: Coach D | B5: 30 | D5: Group 4
A6: Coach E | B6: 28 | D6: Group 5
D7: Group 6
D8: Group 7
D9: Group 8
D10: Group 9
D11: Group 10

Sheet Coach_A
A1: Name: | B1: Coach A
A2: Hourly Rate: | B2: =VLOOKUP(B1,Variables!A:B,2,FALSE()) -> 20
A3: Hours Worked: | B3: =SUMIF(Training_Data!D:D,B1,Training_Data!C:C) -> 4
A4: Total: | B4: =B2*B3 -> 80
A6: =IFERROR(INDEX(Training_Data!$A$2:$A$81,SMALL(IF(Training_Data!$D$2:$D$81=$B$1,ROW(Training_Data!$A$2:$A$81)-ROW(Training_Data!$A$2)+1),2)),"") | B6: =IFERROR(INDEX(Training_Data!$B$2:$B$81,SMALL(IF(Training_Data!$D$2:$D$81=$B$1,ROW(Training_Data!$B$2:$B$81)-ROW(Training_Data!$B$2)+1),2)),"") | C6: =IFERROR(INDEX(Training_Data!$C$2:$C$81,SMALL(IF(Training_Data!$D$2:$D$81=$B$1,ROW(Training_Data!$C$2:$C$81)-ROW(Training_Data!$C$2)+1),2)),"") | D6: =IFERROR(C6*$B$2,"")
A7: =IFERROR(INDEX(Training_Data!$A$2:$A$81,SMALL(IF(Training_Data!$D$2:$D$81=$B$1,ROW(Training_Data!$A$2:$A$81)-ROW(Training_Data!$A$2)+1),3)),"") | B7: =IFERROR(INDEX(Training_Data!$B$2:$B$81,SMALL(IF(Training_Data!$D$2:$D$81=$B$1,ROW(Training_Data!$B$2:$B$81)-ROW(Training_Data!$B$2)+1),3)),"") | C7: =IFERROR(INDEX(Training_Data!$C$2:$C$81,SMALL(IF(Training_Data!$D$2:$D$81=$B$1,ROW(Training_Data!$C$2:$C$81)-ROW(Training_Data!$C$2)+1),3)),"") | D7: =IFERROR(C7*$B$2,"")
A8: =IFERROR(INDEX(Training_Data!$A$2:$A$81,SMALL(IF(Training_Data!$D$2:$D$81=$B$1,ROW(Training_Data!$A$2:$A$81)-ROW(Training_Data!$A$2)+1),4)),"") | B8: =IFERROR(INDEX(Training_Data!$B$2:$B$81,SMALL(IF(Training_Data!$D$2:$D$81=$B$1,ROW(Training_Data!$B$2:$B$81)-ROW(Training_Data!$B$2)+1),4)),"") | C8: =IFERROR(INDEX(Training_Data!$C$2:$C$81,SMALL(IF(Training_Data!$D$2:$D$81=$B$1,ROW(Training_Data!$C$2:$C$81)-ROW(Training_Data!$C$2)+1),4)),"") | D8: =IFERROR(C8*$B$2,"")
A9: =IFERROR(INDEX(Training_Data!$A$2:$A$81,SMALL(IF(Training_Data!$D$2:$D$81=$B$1,ROW(Training_Data!$A$2:$A$81)-ROW(Training_Data!$A$2)+1),5)),"") | B9: =IFERROR(INDEX(Training_Data!$B$2:$B$81,SMALL(IF(Training_Data!$D$2:$D$81=$B$1,ROW(Training_Data!$B$2:$B$81)-ROW(Training_Data!$B$2)+1),5)),"") | C9: =IFERROR(INDEX(Training_Data!$C$2:$C$81,SMALL(IF(Training_Data!$D$2:$D$81=$B$1,ROW(Training_Data!$C$2:$C$81)-ROW(Training_Data!$C$2)+1),5)),"") | D9: =IFERROR(C9*$B$2,"")
A10: =IFERROR(INDEX(Training_Data!$A$2:$A$81,SMALL(IF(Training_Data!$D$2:$D$81=$B$1,ROW(Training_Data!$A$2:$A$81)-ROW(Training_Data!$A$2)+1),6)),"") | B10: =IFERROR(INDEX(Training_Data!$B$2:$B$81,SMALL(IF(Training_Data!$D$2:$D$81=$B$1,ROW(Training_Data!$B$2:$B$81)-ROW(Training_Data!$B$2)+1),6)),"") | C10: =IFERROR(INDEX(Training_Data!$C$2:$C$81,SMALL(IF(Training_Data!$D$2:$D$81=$B$1,ROW(Training_Data!$C$2:$C$81)-ROW(Training_Data!$C$2)+1),6)),"") | D10: =IFERROR(C10*$B$2,"")
A11: =IFERROR(INDEX(Training_Data!$A$2:$A$81,SMALL(IF(Training_Data!$D$2:$D$81=$B$1,ROW(Training_Data!$A$2:$A$81)-ROW(Training_Data!$A$2)+1),7)),"") | B11: =IFERROR(INDEX(Training_Data!$B$2:$B$81,SMALL(IF(Training_Data!$D$2:$D$81=$B$1,ROW(Training_Data!$B$2:$B$81)-ROW(Training_Data!$B$2)+1),7)),"") | C11: =IFERROR(INDEX(Training_Data!$C$2:$C$81,SMALL(IF(Training_Data!$D$2:$D$81=$B$1,ROW(Training_Data!$C$2:$C$81)-ROW(Training_Data!$C$2)+1),7)),"") | D11: =IFERROR(C11*$B$2,"")
A12: =IFERROR(INDEX(Training_Data!$A$2:$A$81,SMALL(IF(Training_Data!$D$2:$D$81=$B$1,ROW(Training_Data!$A$2:$A$81)-ROW(Training_Data!$A$2)+1),8)),"") | B12: =IFERROR(INDEX(Training_Data!$B$2:$B$81,SMALL(IF(Training_Data!$D$2:$D$81=$B$1,ROW(Training_Data!$B$2:$B$81)-ROW(Training_Data!$B$2)+1),8)),"") | C12: =IFERROR(INDEX(Training_Data!$C$2:$C$81,SMALL(IF(Training_Data!$D$2:$D$81=$B$1,ROW(Training_Data!$C$2:$C$81)-ROW(Training_Data!$C$2)+1),8)),"") | D12: =IFERROR(C12*$B$2,"")
A13: =IFERROR(INDEX(Training_Data!$A$2:$A$81,SMALL(IF(Training_Data!$D$2:$D$81=$B$1,ROW(Training_Data!$A$2:$A$81)-ROW(Training_Data!$A$2)+1),9)),"") | B13: =IFERROR(INDEX(Training_Data!$B$2:$B$81,SMALL(IF(Training_Data!$D$2:$D$81=$B$1,ROW(Training_Data!$B$2:$B$81)-ROW(Training_Data!$B$2)+1),9)),"") | C13: =IFERROR(INDEX(Training_Data!$C$2:$C$81,SMALL(IF(Training_Data!$D$2:$D$81=$B$1,ROW(Training_Data!$C$2:$C$81)-ROW(Training_Data!$C$2)+1),9)),"") | D13: =IFERROR(C13*$B$2,"")

Sheet Coach_B
A1: Name: | B1: Coach B
A2: Hourly Rate: | B2: =VLOOKUP(B1,Variables!A:B,2,FALSE()) -> 25
A3: Hours Worked: | B3: =SUMIF(Training_Data!D:D,B1,Training_Data!C:C) -> 16
A4: Total: | B4: =B2*B3 -> 400
A6: =IFERROR(INDEX(Training_Data!$A$2:$A$81,SMALL(IF(Training_Data!$D$2:$D$81=$B$1,ROW(Training_Data!$A$2:$A$81)-ROW(Training_Data!$A$2)+1),2)),"") | B6: =IFERROR(INDEX(Training_Data!$B$2:$B$81,SMALL(IF(Training_Data!$D$2:$D$81=$B$1,ROW(Training_Data!$B$2:$B$81)-ROW(Training_Data!$B$2)+1),2)),"") | C6: =IFERROR(INDEX(Training_Data!$C$2:$C$81,SMALL(IF(Training_Data!$D$2:$D$81=$B$1,ROW(Training_Data!$C$2:$C$81)-ROW(Training_Data!$C$2)+1),2)),"") | D6: =IFERROR(C6*$B$2,"")
A7: =IFERROR(INDEX(Training_Data!$A$2:$A$81,SMALL(IF(Training_Data!$D$2:$D$81=$B$1,ROW(Training_Data!$A$2:$A$81)-ROW(Training_Data!$A$2)+1),3)),"") | B7: =IFERROR(INDEX(Training_Data!$B$2:$B$81,SMALL(IF(Training_Data!$D$2:$D$81=$B$1,ROW(Training_Data!$B$2:$B$81)-ROW(Training_Data!$B$2)+1),3)),"") | C7: =IFERROR(INDEX(Training_Data!$C$2:$C$81,SMALL(IF(Training_Data!$D$2:$D$81=$B$1,ROW(Training_Data!$C$2:$C$81)-ROW(Training_Data!$C$2)+1),3)),"") | D7: =IFERROR(C7*$B$2,"")
A8: =IFERROR(INDEX(Training_Data!$A$2:$A$81,SMALL(IF(Training_Data!$D$2:$D$81=$B$1,ROW(Training_Data!$A$2:$A$81)-ROW(Training_Data!$A$2)+1),4)),"") | B8: =IFERROR(INDEX(Training_Data!$B$2:$B$81,SMALL(IF(Training_Data!$D$2:$D$81=$B$1,ROW(Training_Data!$B$2:$B$81)-ROW(Training_Data!$B$2)+1),4)),"") | C8: =IFERROR(INDEX(Training_Data!$C$2:$C$81,SMALL(IF(Training_Data!$D$2:$D$81=$B$1,ROW(Training_Data!$C$2:$C$81)-ROW(Training_Data!$C$2)+1),4)),"") | D8: =IFERROR(C8*$B$2,"")
A9: =IFERROR(INDEX(Training_Data!$A$2:$A$81,SMALL(IF(Training_Data!$D$2:$D$81=$B$1,ROW(Training_Data!$A$2:$A$81)-ROW(Training_Data!$A$2)+1),5)),"") | B9: =IFERROR(INDEX(Training_Data!$B$2:$B$81,SMALL(IF(Training_Data!$D$2:$D$81=$B$1,ROW(Training_Data!$B$2:$B$81)-ROW(Training_Data!$B$2)+1),5)),"") | C9: =IFERROR(INDEX(Training_Data!$C$2:$C$81,SMALL(IF(Training_Data!$D$2:$D$81=$B$1,ROW(Training_Data!$C$2:$C$81)-ROW(Training_Data!$C$2)+1),5)),"") | D9: =IFERROR(C9*$B$2,"")
A10: =IFERROR(INDEX(Training_Data!$A$2:$A$81,SMALL(IF(Training_Data!$D$2:$D$81=$B$1,ROW(Training_Data!$A$2:$A$81)-ROW(Training_Data!$A$2)+1),6)),"") | B10: =IFERROR(INDEX(Training_Data!$B$2:$B$81,SMALL(IF(Training_Data!$D$2:$D$81=$B$1,ROW(Training_Data!$B$2:$B$81)-ROW(Training_Data!$B$2)+1),6)),"") | C10: =IFERROR(INDEX(Training_Data!$C$2:$C$81,SMALL(IF(Training_Data!$D$2:$D$81=$B$1,ROW(Training_Data!$C$2:$C$81)-ROW(Training_Data!$C$2)+1),6)),"") | D10: =IFERROR(C10*$B$2,"")
A11: =IFERROR(INDEX(Training_Data!$A$2:$A$81,SMALL(IF(Training_Data!$D$2:$D$81=$B$1,ROW(Training_Data!$A$2:$A$81)-ROW(Training_Data!$A$2)+1),7)),"") | B11: =IFERROR(INDEX(Training_Data!$B$2:$B$81,SMALL(IF(Training_Data!$D$2:$D$81=$B$1,ROW(Training_Data!$B$2:$B$81)-ROW(Training_Data!$B$2)+1),7)),"") | C11: =IFERROR(INDEX(Training_Data!$C$2:$C$81,SMALL(IF(Training_Data!$D$2:$D$81=$B$1,ROW(Training_Data!$C$2:$C$81)-ROW(Training_Data!$C$2)+1),7)),"") | D11: =IFERROR(C11*$B$2,"")
A12: =IFERROR(INDEX(Training_Data!$A$2:$A$81,SMALL(IF(Training_Data!$D$2:$D$81=$B$1,ROW(Training_Data!$A$2:$A$81)-ROW(Training_Data!$A$2)+1),8)),"") | B12: =IFERROR(INDEX(Training_Data!$B$2:$B$81,SMALL(IF(Training_Data!$D$2:$D$81=$B$1,ROW(Training_Data!$B$2:$B$81)-ROW(Training_Data!$B$2)+1),8)),"") | C12: =IFERROR(INDEX(Training_Data!$C$2:$C$81,SMALL(IF(Training_Data!$D$2:$D$81=$B$1,ROW(Training_Data!$C$2:$C$81)-ROW(Training_Data!$C$2)+1),8)),"") | D12: =IFERROR(C12*$B$2,"")
A13: =IFERROR(INDEX(Training_Data!$A$2:$A$81,SMALL(IF(Training_Data!$D$2:$D$81=$B$1,ROW(Training_Data!$A$2:$A$81)-ROW(Training_Data!$A$2)+1),9)),"") | B13: =IFERROR(INDEX(Training_Data!$B$2:$B$81,SMALL(IF(Training_Data!$D$2:$D$81=$B$1,ROW(Training_Data!$B$2:$B$81)-ROW(Training_Data!$B$2)+1),9)),"") | C13: =IFERROR(INDEX(Training_Data!$C$2:$C$81,SMALL(IF(Training_Data!$D$2:$D$81=$B$1,ROW(Training_Data!$C$2:$C$81)-ROW(Training_Data!$C$2)+1),9)),"") | D13: =IFERROR(C13*$B$2,"")

Sheet Coach_C
A1: Name: | B1: Coach C
A2: Hourly Rate: | B2: =VLOOKUP(B1,Variables!A:B,2,FALSE()) -> 22
A3: Hours Worked: | B3: =SUMIF(Training_Data!D:D,B1,Training_Data!C:C) -> 8.5
A4: Total: | B4: =B2*B3 -> 187
A6: =IFERROR(INDEX(Training_Data!$A$2:$A$81,SMALL(IF(Training_Data!$D$2:$D$81=$B$1,ROW(Training_Data!$A$2:$A$81)-ROW(Training_Data!$A$2)+1),2)),"") | B6: =IFERROR(INDEX(Training_Data!$B$2:$B$81,SMALL(IF(Training_Data!$D$2:$D$81=$B$1,ROW(Training_Data!$B$2:$B$81)-ROW(Training_Data!$B$2)+1),2)),"") | C6: =IFERROR(INDEX(Training_Data!$C$2:$C$81,SMALL(IF(Training_Data!$D$2:$D$81=$B$1,ROW(Training_Data!$C$2:$C$81)-ROW(Training_Data!$C$2)+1),2)),"") | D6: =IFERROR(C6*$B$2,"")
A7: =IFERROR(INDEX(Training_Data!$A$2:$A$81,SMALL(IF(Training_Data!$D$2:$D$81=$B$1,ROW(Training_Data!$A$2:$A$81)-ROW(Training_Data!$A$2)+1),3)),"") | B7: =IFERROR(INDEX(Training_Data!$B$2:$B$81,SMALL(IF(Training_Data!$D$2:$D$81=$B$1,ROW(Training_Data!$B$2:$B$81)-ROW(Training_Data!$B$2)+1),3)),"") | C7: =IFERROR(INDEX(Training_Data!$C$2:$C$81,SMALL(IF(Training_Data!$D$2:$D$81=$B$1,ROW(Training_Data!$C$2:$C$81)-ROW(Training_Data!$C$2)+1),3)),"") | D7: =IFERROR(C7*$B$2,"")
A8: =IFERROR(INDEX(Training_Data!$A$2:$A$81,SMALL(IF(Training_Data!$D$2:$D$81=$B$1,ROW(Training_Data!$A$2:$A$81)-ROW(Training_Data!$A$2)+1),4)),"") | B8: =IFERROR(INDEX(Training_Data!$B$2:$B$81,SMALL(IF(Training_Data!$D$2:$D$81=$B$1,ROW(Training_Data!$B$2:$B$81)-ROW(Training_Data!$B$2)+1),4)),"") | C8: =IFERROR(INDEX(Training_Data!$C$2:$C$81,SMALL(IF(Training_Data!$D$2:$D$81=$B$1,ROW(Training_Data!$C$2:$C$81)-ROW(Training_Data!$C$2)+1),4)),"") | D8: =IFERROR(C8*$B$2,"")
A9: =IFERROR(INDEX(Training_Data!$A$2:$A$81,SMALL(IF(Training_Data!$D$2:$D$81=$B$1,ROW(Training_Data!$A$2:$A$81)-ROW(Training_Data!$A$2)+1),5)),"") | B9: =IFERROR(INDEX(Training_Data!$B$2:$B$81,SMALL(IF(Training_Data!$D$2:$D$81=$B$1,ROW(Training_Data!$B$2:$B$81)-ROW(Training_Data!$B$2)+1),5)),"") | C9: =IFERROR(INDEX(Training_Data!$C$2:$C$81,SMALL(IF(Training_Data!$D$2:$D$81=$B$1,ROW(Training_Data!$C$2:$C$81)-ROW(Training_Data!$C$2)+1),5)),"") | D9: =IFERROR(C9*$B$2,"")
A10: =IFERROR(INDEX(Training_Data!$A$2:$A$81,SMALL(IF(Training_Data!$D$2:$D$81=$B$1,ROW(Training_Data!$A$2:$A$81)-ROW(Training_Data!$A$2)+1),6)),"") | B10: =IFERROR(INDEX(Training_Data!$B$2:$B$81,SMALL(IF(Training_Data!$D$2:$D$81=$B$1,ROW(Training_Data!$B$2:$B$81)-ROW(Training_Data!$B$2)+1),6)),"") | C10: =IFERROR(INDEX(Training_Data!$C$2:$C$81,SMALL(IF(Training_Data!$D$2:$D$81=$B$1,ROW(Training_Data!$C$2:$C$81)-ROW(Training_Data!$C$2)+1),6)),"") | D10: =IFERROR(C10*$B$2,"")
A11: =IFERROR(INDEX(Training_Data!$A$2:$A$81,SMALL(IF(Training_Data!$D$2:$D$81=$B$1,ROW(Training_Data!$A$2:$A$81)-ROW(Training_Data!$A$2)+1),7)),"") | B11: =IFERROR(INDEX(Training_Data!$B$2:$B$81,SMALL(IF(Training_Data!$D$2:$D$81=$B$1,ROW(Training_Data!$B$2:$B$81)-ROW(Training_Data!$B$2)+1),7)),"") | C11: =IFERROR(INDEX(Training_Data!$C$2:$C$81,SMALL(IF(Training_Data!$D$2:$D$81=$B$1,ROW(Training_Data!$C$2:$C$81)-ROW(Training_Data!$C$2)+1),7)),"") | D11: =IFERROR(C11*$B$2,"")
A12: =IFERROR(INDEX(Training_Data!$A$2:$A$81,SMALL(IF(Training_Data!$D$2:$D$81=$B$1,ROW(Training_Data!$A$2:$A$81)-ROW(Training_Data!$A$2)+1),8)),"") | B12: =IFERROR(INDEX(Training_Data!$B$2:$B$81,SMALL(IF(Training_Data!$D$2:$D$81=$B$1,ROW(Training_Data!$B$2:$B$81)-ROW(Training_Data!$B$2)+1),8)),"") | C12: =IFERROR(INDEX(Training_Data!$C$2:$C$81,SMALL(IF(Training_Data!$D$2:$D$81=$B$1,ROW(Training_Data!$C$2:$C$81)-ROW(Training_Data!$C$2)+1),8)),"") | D12: =IFERROR(C12*$B$2,"")
A13: =IFERROR(INDEX(Training_Data!$A$2:$A$81,SMALL(IF(Training_Data!$D$2:$D$81=$B$1,ROW(Training_Data!$A$2:$A$81)-ROW(Training_Data!$A$2)+1),9)),"") | B13: =IFERROR(INDEX(Training_Data!$B$2:$B$81,SMALL(IF(Training_Data!$D$2:$D$81=$B$1,ROW(Training_Data!$B$2:$B$81)-ROW(Training_Data!$B$2)+1),9)),"") | C13: =IFERROR(INDEX(Training_Data!$C$2:$C$81,SMALL(IF(Training_Data!$D$2:$D$81=$B$1,ROW(Training_Data!$C$2:$C$81)-ROW(Training_Data!$C$2)+1),9)),"") | D13: =IFERROR(C13*$B$2,"")

Sheet Coach_D
A1: Name: | B1: Coach D
A2: Hourly Rate: | B2: =VLOOKUP(B1,Variables!A:B,2,FALSE()) -> 30
A3: Hours Worked: | B3: =SUMIF(Training_Data!D:D,B1,Training_Data!C:C) -> 3
A4: Total: | B4: =B2*B3 -> 90
A6: =IFERROR(INDEX(Training_Data!$A$2:$A$81,SMALL(IF(Training_Data!$D$2:$D$81=$B$1,ROW(Training_Data!$A$2:$A$81)-ROW(Training_Data!$A$2)+1),2)),"") | B6: =IFERROR(INDEX(Training_Data!$B$2:$B$81,SMALL(IF(Training_Data!$D$2:$D$81=$B$1,ROW(Training_Data!$B$2:$B$81)-ROW(Training_Data!$B$2)+1),2)),"") | C6: =IFERROR(INDEX(Training_Data!$C$2:$C$81,SMALL(IF(Training_Data!$D$2:$D$81=$B$1,ROW(Training_Data!$C$2:$C$81)-ROW(Training_Data!$C$2)+1),2)),"") | D6: =IFERROR(C6*$B$2,"")
A7: =IFERROR(INDEX(Training_Data!$A$2:$A$81,SMALL(IF(Training_Data!$D$2:$D$81=$B$1,ROW(Training_Data!$A$2:$A$81)-ROW(Training_Data!$A$2)+1),3)),"") | B7: =IFERROR(INDEX(Training_Data!$B$2:$B$81,SMALL(IF(Training_Data!$D$2:$D$81=$B$1,ROW(Training_Data!$B$2:$B$81)-ROW(Training_Data!$B$2)+1),3)),"") | C7: =IFERROR(INDEX(Training_Data!$C$2:$C$81,SMALL(IF(Training_Data!$D$2:$D$81=$B$1,ROW(Training_Data!$C$2:$C$81)-ROW(Training_Data!$C$2)+1),3)),"") | D7: =IFERROR(C7*$B$2,"")
A8: =IFERROR(INDEX(Training_Data!$A$2:$A$81,SMALL(IF(Training_Data!$D$2:$D$81=$B$1,ROW(Training_Data!$A$2:$A$81)-ROW(Training_Data!$A$2)+1),4)),"") | B8: =IFERROR(INDEX(Training_Data!$B$2:$B$81,SMALL(IF(Training_Data!$D$2:$D$81=$B$1,ROW(Training_Data!$B$2:$B$81)-ROW(Training_Data!$B$2)+1),4)),"") | C8: =IFERROR(INDEX(Training_Data!$C$2:$C$81,SMALL(IF(Training_Data!$D$2:$D$81=$B$1,ROW(Training_Data!$C$2:$C$81)-ROW(Training_Data!$C$2)+1),4)),"") | D8: =IFERROR(C8*$B$2,"")
A9: =IFERROR(INDEX(Training_Data!$A$2:$A$81,SMALL(IF(Training_Data!$D$2:$D$81=$B$1,ROW(Training_Data!$A$2:$A$81)-ROW(Training_Data!$A$2)+1),5)),"") | B9: =IFERROR(INDEX(Training_Data!$B$2:$B$81,SMALL(IF(Training_Data!$D$2:$D$81=$B$1,ROW(Training_Data!$B$2:$B$81)-ROW(Training_Data!$B$2)+1),5)),"") | C9: =IFERROR(INDEX(Training_Data!$C$2:$C$81,SMALL(IF(Training_Data!$D$2:$D$81=$B$1,ROW(Training_Data!$C$2:$C$81)-ROW(Training_Data!$C$2)+1),5)),"") | D9: =IFERROR(C9*$B$2,"")
A10: =IFERROR(INDEX(Training_Data!$A$2:$A$81,SMALL(IF(Training_Data!$D$2:$D$81=$B$1,ROW(Training_Data!$A$2:$A$81)-ROW(Training_Data!$A$2)+1),6)),"") | B10: =IFERROR(INDEX(Training_Data!$B$2:$B$81,SMALL(IF(Training_Data!$D$2:$D$81=$B$1,ROW(Training_Data!$B$2:$B$81)-ROW(Training_Data!$B$2)+1),6)),"") | C10: =IFERROR(INDEX(Training_Data!$C$2:$C$81,SMALL(IF(Training_Data!$D$2:$D$81=$B$1,ROW(Training_Data!$C$2:$C$81)-ROW(Training_Data!$C$2)+1),6)),"") | D10: =IFERROR(C10*$B$2,"")
A11: =IFERROR(INDEX(Training_Data!$A$2:$A$81,SMALL(IF(Training_Data!$D$2:$D$81=$B$1,ROW(Training_Data!$A$2:$A$81)-ROW(Training_Data!$A$2)+1),7)),"") | B11: =IFERROR(INDEX(Training_Data!$B$2:$B$81,SMALL(IF(Training_Data!$D$2:$D$81=$B$1,ROW(Training_Data!$B$2:$B$81)-ROW(Training_Data!$B$2)+1),7)),"") | C11: =IFERROR(INDEX(Training_Data!$C$2:$C$81,SMALL(IF(Training_Data!$D$2:$D$81=$B$1,ROW(Training_Data!$C$2:$C$81)-ROW(Training_Data!$C$2)+1),7)),"") | D11: =IFERROR(C11*$B$2,"")
A12: =IFERROR(INDEX(Training_Data!$A$2:$A$81,SMALL(IF(Training_Data!$D$2:$D$81=$B$1,ROW(Training_Data!$A$2:$A$81)-ROW(Training_Data!$A$2)+1),8)),"") | B12: =IFERROR(INDEX(Training_Data!$B$2:$B$81,SMALL(IF(Training_Data!$D$2:$D$81=$B$1,ROW(Training_Data!$B$2:$B$81)-ROW(Training_Data!$B$2)+1),8)),"") | C12: =IFERROR(INDEX(Training_Data!$C$2:$C$81,SMALL(IF(Training_Data!$D$2:$D$81=$B$1,ROW(Training_Data!$C$2:$C$81)-ROW(Training_Data!$C$2)+1),8)),"") | D12: =IFERROR(C12*$B$2,"")
A13: =IFERROR(INDEX(Training_Data!$A$2:$A$81,SMALL(IF(Training_Data!$D$2:$D$81=$B$1,ROW(Training_Data!$A$2:$A$81)-ROW(Training_Data!$A$2)+1),9)),"") | B13: =IFERROR(INDEX(Training_Data!$B$2:$B$81,SMALL(IF(Training_Data!$D$2:$D$81=$B$1,ROW(Training_Data!$B$2:$B$81)-ROW(Training_Data!$B$2)+1),9)),"") | C13: =IFERROR(INDEX(Training_Data!$C$2:$C$81,SMALL(IF(Training_Data!$D$2:$D$81=$B$1,ROW(Training_Data!$C$2:$C$81)-ROW(Training_Data!$C$2)+1),9)),"") | D13: =IFERROR(C13*$B$2,"")

Sheet Coach_E
A1: Name: | B1: Coach E
A2: Hourly Rate: | B2: =VLOOKUP(B1,Variables!A:B,2,FALSE()) -> 28
A3: Hours Worked: | B3: =SUMIF(Training_Data!D:D,B1,Training_Data!C:C) -> 5
A4: Total: | B4: =B2*B3 -> 140
A6: =IFERROR(INDEX(Training_Data!$A$2:$A$81,SMALL(IF(Training_Data!$D$2:$D$81=$B$1,ROW(Training_Data!$A$2:$A$81)-ROW(Training_Data!$A$2)+1),2)),"") | B6: =IFERROR(INDEX(Training_Data!$B$2:$B$81,SMALL(IF(Training_Data!$D$2:$D$81=$B$1,ROW(Training_Data!$B$2:$B$81)-ROW(Training_Data!$B$2)+1),2)),"") | C6: =IFERROR(INDEX(Training_Data!$C$2:$C$81,SMALL(IF(Training_Data!$D$2:$D$81=$B$1,ROW(Training_Data!$C$2:$C$81)-ROW(Training_Data!$C$2)+1),2)),"") | D6: =IFERROR(C6*$B$2,"")
A7: =IFERROR(INDEX(Training_Data!$A$2:$A$81,SMALL(IF(Training_Data!$D$2:$D$81=$B$1,ROW(Training_Data!$A$2:$A$81)-ROW(Training_Data!$A$2)+1),3)),"") | B7: =IFERROR(INDEX(Training_Data!$B$2:$B$81,SMALL(IF(Training_Data!$D$2:$D$81=$B$1,ROW(Training_Data!$B$2:$B$81)-ROW(Training_Data!$B$2)+1),3)),"") | C7: =IFERROR(INDEX(Training_Data!$C$2:$C$81,SMALL(IF(Training_Data!$D$2:$D$81=$B$1,ROW(Training_Data!$C$2:$C$81)-ROW(Training_Data!$C$2)+1),3)),"") | D7: =IFERROR(C7*$B$2,"")
A8: =IFERROR(INDEX(Training_Data!$A$2:$A$81,SMALL(IF(Training_Data!$D$2:$D$81=$B$1,ROW(Training_Data!$A$2:$A$81)-ROW(Training_Data!$A$2)+1),4)),"") | B8: =IFERROR(INDEX(Training_Data!$B$2:$B$81,SMALL(IF(Training_Data!$D$2:$D$81=$B$1,ROW(Training_Data!$B$2:$B$81)-ROW(Training_Data!$B$2)+1),4)),"") | C8: =IFERROR(INDEX(Training_Data!$C$2:$C$81,SMALL(IF(Training_Data!$D$2:$D$81=$B$1,ROW(Training_Data!$C$2:$C$81)-ROW(Training_Data!$C$2)+1),4)),"") | D8: =IFERROR(C8*$B$2,"")
A9: =IFERROR(INDEX(Training_Data!$A$2:$A$81,SMALL(IF(Training_Data!$D$2:$D$81=$B$1,ROW(Training_Data!$A$2:$A$81)-ROW(Training_Data!$A$2)+1),5)),"") | B9: =IFERROR(INDEX(Training_Data!$B$2:$B$81,SMALL(IF(Training_Data!$D$2:$D$81=$B$1,ROW(Training_Data!$B$2:$B$81)-ROW(Training_Data!$B$2)+1),5)),"") | C9: =IFERROR(INDEX(Training_Data!$C$2:$C$81,SMALL(IF(Training_Data!$D$2:$D$81=$B$1,ROW(Training_Data!$C$2:$C$81)-ROW(Training_Data!$C$2)+1),5)),"") | D9: =IFERROR(C9*$B$2,"")
A10: =IFERROR(INDEX(Training_Data!$A$2:$A$81,SMALL(IF(Training_Data!$D$2:$D$81=$B$1,ROW(Training_Data!$A$2:$A$81)-ROW(Training_Data!$A$2)+1),6)),"") | B10: =IFERROR(INDEX(Training_Data!$B$2:$B$81,SMALL(IF(Training_Data!$D$2:$D$81=$B$1,ROW(Training_Data!$B$2:$B$81)-ROW(Training_Data!$B$2)+1),6)),"") | C10: =IFERROR(INDEX(Training_Data!$C$2:$C$81,SMALL(IF(Training_Data!$D$2:$D$81=$B$1,ROW(Training_Data!$C$2:$C$81)-ROW(Training_Data!$C$2)+1),6)),"") | D10: =IFERROR(C10*$B$2,"")
A11: =IFERROR(INDEX(Training_Data!$A$2:$A$81,SMALL(IF(Training_Data!$D$2:$D$81=$B$1,ROW(Training_Data!$A$2:$A$81)-ROW(Training_Data!$A$2)+1),7)),"") | B11: =IFERROR(INDEX(Training_Data!$B$2:$B$81,SMALL(IF(Training_Data!$D$2:$D$81=$B$1,ROW(Training_Data!$B$2:$B$81)-ROW(Training_Data!$B$2)+1),7)),"") | C11: =IFERROR(INDEX(Training_Data!$C$2:$C$81,SMALL(IF(Training_Data!$D$2:$D$81=$B$1,ROW(Training_Data!$C$2:$C$81)-ROW(Training_Data!$C$2)+1),7)),"") | D11: =IFERROR(C11*$B$2,"")
A12: =IFERROR(INDEX(Training_Data!$A$2:$A$81,SMALL(IF(Training_Data!$D$2:$D$81=$B$1,ROW(Training_Data!$A$2:$A$81)-ROW(Training_Data!$A$2)+1),8)),"") | B12: =IFERROR(INDEX(Training_Data!$B$2:$B$81,SMALL(IF(Training_Data!$D$2:$D$81=$B$1,ROW(Training_Data!$B$2:$B$81)-ROW(Training_Data!$B$2)+1),8)),"") | C12: =IFERROR(INDEX(Training_Data!$C$2:$C$81,SMALL(IF(Training_Data!$D$2:$D$81=$B$1,ROW(Training_Data!$C$2:$C$81)-ROW(Training_Data!$C$2)+1),8)),"") | D12: =IFERROR(C12*$B$2,"")
A13: =IFERROR(INDEX(Training_Data!$A$2:$A$81,SMALL(IF(Training_Data!$D$2:$D$81=$B$1,ROW(Training_Data!$A$2:$A$81)-ROW(Training_Data!$A$2)+1),9)),"") | B13: =IFERROR(INDEX(Training_Data!$B$2:$B$81,SMALL(IF(Training_Data!$D$2:$D$81=$B$1,ROW(Training_Data!$B$2:$B$81)-ROW(Training_Data!$B$2)+1),9)),"") | C13: =IFERROR(INDEX(Training_Data!$C$2:$C$81,SMALL(IF(Training_Data!$D$2:$D$81=$B$1,ROW(Training_Data!$C$2:$C$81)-ROW(Training_Data!$C$2)+1),9)),"") | D13: =IFERROR(C13*$B$2,"")
