Workbook
Name Sonstiges: Listen!$M$2:$M$80
Name Obst: Listen!$A$2:$A$80
Name Gemüse: Listen!$B$2:$B$80
Name Aufschnitt: Listen!$C$2:$C$80
Name Milchprodukte: Listen!$D$2:$D$80
Name Backwaren: Listen!$E$2:$E$80
Name Tiefkühl: Listen!$F$2:$F$80
Name Getränke: Listen!$G$2:$G$80
Name Gewürze: Listen!$H$2:$H$80
Name Haltbares: Listen!$I$2:$I$80
Name Süßes: Listen!$J$2:$J$80
Name Haushalt: Listen!$K$2:$K$80
Name Drogerie: Listen!$L$2:$L$80
Name Obst_A: Einkauf!$A$2:$A$61
Name Gemüse_A: Einkauf!$C$2:$C$61
Name Aufschnitt_A: Einkauf!$E$2:$E$61
Name Milchprodukte__A: Einkauf!$G$2:$G$61
Name Backwaren_A: Einkauf!$I$2:$I$61
Name Tiefkühl_A: Einkauf!$K$2:$K$61
Name Getränke_A: Einkauf!$M$2:$M$61
Name Gewürze_A: Einkauf!$O$2:$O$61
Name Haltbares_A: Einkauf!$Q$2:$Q$61
Name Süßes_A: Einkauf!$S$2:$S$61
Name Haushalt_A: Einkauf!$U$2:$U$61
Name Drogerie_A: Einkauf!$W$2:$W$61
Name Sonstiges_A: Einkauf!$Y$2:$Y$61
Name Test: #REF!
Name Obst_M: Einkauf!$B$2:$B$61
Name Gemüse_M: Einkauf!$D$2:$D$61
Name Aufschnitt_M: Einkauf!$F$2:$F$61
Name Milchprodukte_M: Einkauf!$H$2:$H$61
Name Backwaren_M: Einkauf!$J$2:$J$61
Name Tiefkühl_M: Einkauf!$L$2:$L$61
Name Getränke_M: Einkauf!$N$2:$N$61
Name Gewürze_M: Einkauf!$P$2:$P$61
Name Haltbares_M: Einkauf!$R$2:$R$61
Name Süßes_M: Einkauf!$T$2:$T$61
Name Haushalt_M: Einkauf!$V$2:$V$61
Name Drogerie_M: Einkauf!$X$2:$X$61
Name Sonstiges_M: Einkauf!$Z$2:$Z$61
Name Gewürze_K: Einkauf!$O$2:$O$17

Sheet Einkauf
A1: Obst | B1: M | C1: Gemüse | D1: M | E1: Aufschnitt/Fleisch/Fisch | F1: M | G1: Milchprodukte/ Eier/Desserts | H1: M | I1: Backwaren | J1: M | K1: Tiefkühlprodukte | L1: M | M1: Getränke | N1: M | O1: Gewürze | P1: M | Q1: Haltbares | R1: M | S1: Süßes und Salziges | T1: M | U1: Haushalt | V1: M | W1: Drogerie/Kosmetik | X1: M | Y1: Sonstiges | Z1: M
A2: Äpfel | B2: 1 kg | C2: Gurke | D2: 2 | E2: Bierschinken | F2: 100g | G2: Eier | H2: 10 | I2: Mischbrot | J2: 2 | K2: Meeresfrüchte | L2: 1 | M2: Bier | N2: 1 K | O2: Estragon | P2: 1 | Q2: Balsamico | R2: 1 | S2: Nougat | T2: 1 | U2: Entkalker | V2: 1 | W2: Deo/Antitranspirant | X2: 1 | Y2: Batterien AAA | Z2: 4
A3: Kirschen | B3: 1 kg | C3: Weißkraut | D3: 1 | E3: Corned Beef | F3: 200g | I3: Toastbrot | J3: 1 | K3: Bohnen | L3: 1 | M3: Bitter Lemon | N3: 12 | O3: Oregano | P3: 1 | Q3: Bratöl | R3: 1 | S3: Studentenfutter | T3: 1 | U3: Spülmaschinensalz | V3: 1 | W3: Duschgel | X3: 1 | Y3: Kerzen | Z3: 2
A4: Pfirsiche | B4: 5 | E4: Knackwurst | F4: 4 | M4: Säfte | N4: 6 | O4: Safran | P4: 1 | Q4: Grüner Tee | R4: 200 g | U4: Waschmittel bunt | V4: 1 | W4: Zahnbürste | X4: 1
Q5: Mehl | R5: 2 kg
Q6: Reis | R6: 500 g

Sheet Druck
B1: Obst | C1: M | E1: Gemüse | F1: M | H1: Aufschnitt/Fleisch/Fisch | I1: M | K1: Milchprodukte/ Eier/Desserts | L1: M | N1: Backwaren | O1: M | Q1: Tiefkühl | R1: M | T1: Getränke | U1: M | W1: Gewürze | X1: M | Z1: Haltbares | AA1: M | AC1: Süßes und Salziges | AD1: M | AF1: Haushalt | AG1: M | AI1: Drogerie/Kosmetik | AJ1: M | AL1: Sonstiges | AM1: M
B2: =Obst_A -> Äpfel | C2: =Obst_M -> 1 kg | E2: =Gemüse_A -> Gurke | F2: =Gemüse_M -> 2 | H2: =Aufschnitt_A -> Bierschinken | I2: =Aufschnitt_M -> 100g | K2: =Milchprodukte__A -> Eier | L2: =Milchprodukte_M -> 10 | N2: =Backwaren_A -> Mischbrot | O2: =Backwaren_M -> 2 | Q2: =Tiefkühl_A -> Meeresfrüchte | R2: =Tiefkühl_M -> 1 | T2: =Getränke_A -> Bier | U2: =Getränke_M -> 1 K | W2: =Gewürze_A -> Estragon | X2: =Gewürze_M -> 1 | Z2: =Haltbares_A -> Balsamico | AA2: =Haltbares_M -> 1 | AC2: =Süßes_A -> Nougat | AD2: =Süßes_M -> 1 | AF2: =Haushalt_A -> Entkalker | AG2: =Haushalt_M -> 1 | AI2: =Drogerie_A -> Deo/Antitranspirant | AJ2: =Drogerie_M -> 1 | AL2: =Sonstiges_A -> Batterien AAA | AM2: =Sonstiges_M -> 4
B3: =Obst_A -> Kirschen | C3: =Obst_M -> 1 kg | E3: =Gemüse_A -> Weißkraut | F3: 3 | H3: =Aufschnitt_A -> Corned Beef | I3: =Aufschnitt_M -> 200g | K3: =Milchprodukte__A -> 0 | L3: =Milchprodukte_M -> 0 | N3: =Backwaren_A -> Toastbrot | O3: =Backwaren_M -> 1 | Q3: =Tiefkühl_A -> Bohnen | R3: =Tiefkühl_M -> 1 | T3: =Getränke_A -> Bitter Lemon | U3: =Getränke_M -> 12 | W3: =Gewürze_A -> Oregano | X3: =Gewürze_M -> 1 | Z3: =Haltbares_A -> Bratöl | AA3: =Haltbares_M -> 1 | AC3: =Süßes_A -> Studentenfutter | AD3: =Süßes_M -> 1 | AF3: =Haushalt_A -> Spülmaschinensalz | AG3: =Haushalt_M -> 1 | AI3: =Drogerie_A -> Duschgel | AJ3: =Drogerie_M -> 1 | AL3: =Sonstiges_A -> Kerzen | AM3: =Sonstiges_M -> 2
B4: =Obst_A -> Pfirsiche | C4: =Obst_M -> 5 | E4: =Gemüse_A -> 0 | H4: =Aufschnitt_A -> Knackwurst | I4: =Aufschnitt_M -> 4 | K4: =Milchprodukte__A -> 0 | L4: =Milchprodukte_M -> 0 | N4: =Backwaren_A -> 0 | O4: =Backwaren_M -> 0 | Q4: =Tiefkühl_A -> 0 | R4: =Tiefkühl_M -> 0 | T4: =Getränke_A -> Säfte | U4: =Getränke_M -> 6 | W4: =Gewürze_A -> Safran | X4: =Gewürze_M -> 1 | Z4: =Haltbares_A -> Grüner Tee | AA4: =Haltbares_M -> 200 g | AC4: =Süßes_A -> 0 | AD4: =Süßes_M -> 0 | AF4: =Haushalt_A -> Waschmittel bunt | AI4: =Drogerie_A -> Zahnbürste | AJ4: =Drogerie_M -> 1 | AL4: =Sonstiges_A -> 0 | AM4: =Sonstiges_M -> 0
B5: =Obst_A -> 0 | C5: =Obst_M -> 0 | E5: =Gemüse_A -> 0 | H5: =Aufschnitt_A -> 0 | I5: =Aufschnitt_M -> 0 | K5: =Milchprodukte__A -> 0 | L5: =Milchprodukte_M -> 0 | N5: =Backwaren_A -> 0 | O5: =Backwaren_M -> 0 | Q5: =Tiefkühl_A -> 0 | R5: =Tiefkühl_M -> 0 | T5: =Getränke_A -> 0 | U5: =Getränke_M -> 0 | W5: =Gewürze_A -> 0 | X5: =Gewürze_M -> 0 | Z5: =Haltbares_A -> Mehl | AA5: =Haltbares_M -> 2 kg | AC5: =Süßes_A -> 0 | AD5: =Süßes_M -> 0 | AF5: =Haushalt_A -> 0 | AI5: =Drogerie_A -> 0 | AJ5: =Drogerie_M -> 0 | AL5: =Sonstiges_A -> 0 | AM5: =Sonstiges_M -> 0
B6: =Obst_A -> 0 | C6: =Obst_M -> 0 | E6: =Gemüse_A -> 0 | H6: =Aufschnitt_A -> 0 | I6: =Aufschnitt_M -> 0 | K6: =Milchprodukte__A -> 0 | L6: =Milchprodukte_M -> 0 | N6: =Backwaren_A -> 0 | O6: =Backwaren_M -> 0 | Q6: =Tiefkühl_A -> 0 | R6: =Tiefkühl_M -> 0 | T6: =Getränke_A -> 0 | U6: =Getränke_M -> 0 | W6: =Gewürze_A -> 0 | X6: =Gewürze_M -> 0 | Z6: =Haltbares_A -> Reis | AA6: =Haltbares_M -> 500 g | AC6: =Süßes_A -> 0 | AD6: =Süßes_M -> 0 | AF6: =Haushalt_A -> 0 | AI6: =Drogerie_A -> 0 | AJ6: =Drogerie_M -> 0 | AL6: =Sonstiges_A -> 0 | AM6: =Sonstiges_M -> 0
B7: =Obst_A -> 0 | C7: =Obst_M -> 0 | E7: =Gemüse_A -> 0 | H7: =Aufschnitt_A -> 0 | I7: =Aufschnitt_M -> 0 | K7: =Milchprodukte__A -> 0 | L7: =Milchprodukte_M -> 0 | N7: =Backwaren_A -> 0 | O7: =Backwaren_M -> 0 | Q7: =Tiefkühl_A -> 0 | R7: =Tiefkühl_M -> 0 | T7: =Getränke_A -> 0 | U7: =Getränke_M -> 0 | W7: =Gewürze_A -> 0 | X7: =Gewürze_M -> 0 | Z7: =Haltbares_A -> 0 | AA7: =Haltbares_M -> 0 | AC7: =Süßes_A -> 0 | AD7: =Süßes_M -> 0 | AF7: =Haushalt_A -> 0 | AI7: =Drogerie_A -> 0 | AJ7: =Drogerie_M -> 0 | AL7: =Sonstiges_A -> 0 | AM7: =Sonstiges_M -> 0
B8: =Obst_A -> 0 | C8: =Obst_M -> 0 | E8: =Gemüse_A -> 0 | H8: =Aufschnitt_A -> 0 | I8: =Aufschnitt_M -> 0 | K8: =Milchprodukte__A -> 0 | L8: =Milchprodukte_M -> 0 | N8: =Backwaren_A -> 0 | O8: =Backwaren_M -> 0 | Q8: =Tiefkühl_A -> 0 | R8: =Tiefkühl_M -> 0 | T8: =Getränke_A -> 0 | U8: =Getränke_M -> 0 | W8: =Gewürze_A -> 0 | X8: =Gewürze_M -> 0 | Z8: =Haltbares_A -> 0 | AA8: =Haltbares_M -> 0 | AC8: =Süßes_A -> 0 | AD8: =Süßes_M -> 0 | AF8: =Haushalt_A -> 0 | AI8: =Drogerie_A -> 0 | AJ8: =Drogerie_M -> 0 | AL8: =Sonstiges_A -> 0 | AM8: =Sonstiges_M -> 0
B9: =Obst_A -> 0 | C9: =Obst_M -> 0 | E9: =Gemüse_A -> 0 | H9: =Aufschnitt_A -> 0 | I9: =Aufschnitt_M -> 0 | K9: =Milchprodukte__A -> 0 | L9: =Milchprodukte_M -> 0 | N9: =Backwaren_A -> 0 | O9: =Backwaren_M -> 0 | Q9: =Tiefkühl_A -> 0 | R9: =Tiefkühl_M -> 0 | T9: =Getränke_A -> 0 | U9: =Getränke_M -> 0 | W9: =Gewürze_A -> 0 | X9: =Gewürze_M -> 0 | Z9: =Haltbares_A -> 0 | AA9: =Haltbares_M -> 0 | AC9: =Süßes_A -> 0 | AD9: =Süßes_M -> 0 | AF9: =Haushalt_A -> 0 | AI9: =Drogerie_A -> 0 | AJ9: =Drogerie_M -> 0 | AL9: =Sonstiges_A -> 0 | AM9: =Sonstiges_M -> 0
B10: =Obst_A -> 0 | C10: =Obst_M -> 0 | E10: =Gemüse_A -> 0 | H10: =Aufschnitt_A -> 0 | I10: =Aufschnitt_M -> 0 | K10: =Milchprodukte__A -> 0 | L10: =Milchprodukte_M -> 0 | N10: =Backwaren_A -> 0 | O10: =Backwaren_M -> 0 | Q10: =Tiefkühl_A -> 0 | R10: =Tiefkühl_M -> 0 | T10: =Getränke_A -> 0 | U10: =Getränke_M -> 0 | W10: =Gewürze_A -> 0 | X10: =Gewürze_M -> 0 | Z10: =Haltbares_A -> 0 | AA10: =Haltbares_M -> 0 | AC10: =Süßes_A -> 0 | AD10: =Süßes_M -> 0 | AF10: =Haushalt_A -> 0 | AI10: =Drogerie_A -> 0 | AJ10: =Drogerie_M -> 0 | AL10: =Sonstiges_A -> 0 | AM10: =Sonstiges_M -> 0
B11: =Obst_A -> 0 | C11: =Obst_M -> 0 | E11: =Gemüse_A -> 0 | H11: =Aufschnitt_A -> 0 | I11: =Aufschnitt_M -> 0 | K11: =Milchprodukte__A -> 0 | L11: =Milchprodukte_M -> 0 | N11: =Backwaren_A -> 0 | O11: =Backwaren_M -> 0 | Q11: =Tiefkühl_A -> 0 | R11: =Tiefkühl_M -> 0 | T11: =Getränke_A -> 0 | U11: =Getränke_M -> 0 | W11: =Gewürze_A -> 0 | X11: =Gewürze_M -> 0 | Z11: =Haltbares_A -> 0 | AA11: =Haltbares_M -> 0 | AC11: =Süßes_A -> 0 | AD11: =Süßes_M -> 0 | AF11: =Haushalt_A -> 0 | AI11: =Drogerie_A -> 0 | AJ11: =Drogerie_M -> 0 | AL11: =Sonstiges_A -> 0 | AM11: =Sonstiges_M -> 0
B12: =Obst_A -> 0 | C12: =Obst_M -> 0 | E12: =Gemüse_A -> 0 | H12: =Aufschnitt_A -> 0 | I12: =Aufschnitt_M -> 0 | K12: =Milchprodukte__A -> 0 | L12: =Milchprodukte_M -> 0 | N12: =Backwaren_A -> 0 | O12: =Backwaren_M -> 0 | Q12: =Tiefkühl_A -> 0 | R12: =Tiefkühl_M -> 0 | T12: =Getränke_A -> 0 | U12: =Getränke_M -> 0 | W12: =Gewürze_A -> 0 | X12: =Gewürze_M -> 0 | Z12: =Haltbares_A -> 0 | AA12: =Haltbares_M -> 0 | AC12: =Süßes_A -> 0 | AD12: =Süßes_M -> 0 | AF12: =Haushalt_A -> 0 | AI12: =Drogerie_A -> 0 | AJ12: =Drogerie_M -> 0 | AL12: =Sonstiges_A -> 0 | AM12: =Sonstiges_M -> 0
B13: =Obst_A -> 0 | C13: =Obst_M -> 0 | E13: =Gemüse_A -> 0 | H13: =Aufschnitt_A -> 0 | I13: =Aufschnitt_M -> 0 | K13: =Milchprodukte__A -> 0 | L13: =Milchprodukte_M -> 0 | N13: =Backwaren_A -> 0 | O13: =Backwaren_M -> 0 | Q13: =Tiefkühl_A -> 0 | R13: =Tiefkühl_M -> 0 | T13: =Getränke_A -> 0 | U13: =Getränke_M -> 0 | W13: =Gewürze_A -> 0 | X13: =Gewürze_M -> 0 | Z13: =Haltbares_A -> 0 | AA13: =Haltbares_M -> 0 | AC13: =Süßes_A -> 0 | AD13: =Süßes_M -> 0 | AF13: =Haushalt_A -> 0 | AI13: =Drogerie_A -> 0 | AJ13: =Drogerie_M -> 0 | AL13: =Sonstiges_A -> 0 | AM13: =Sonstiges_M -> 0
B14: =Obst_A -> 0 | C14: =Obst_M -> 0 | E14: =Gemüse_A -> 0 | H14: =Aufschnitt_A -> 0 | I14: =Aufschnitt_M -> 0 | K14: =Milchprodukte__A -> 0 | L14: =Milchprodukte_M -> 0 | N14: =Backwaren_A -> 0 | O14: =Backwaren_M -> 0 | Q14: =Tiefkühl_A -> 0 | R14: =Tiefkühl_M -> 0 | T14: =Getränke_A -> 0 | U14: =Getränke_M -> 0 | W14: =Gewürze_A -> 0 | X14: =Gewürze_M -> 0 | Z14: =Haltbares_A -> 0 | AA14: =Haltbares_M -> 0 | AC14: =Süßes_A -> 0 | AD14: =Süßes_M -> 0 | AF14: =Haushalt_A -> 0 | AI14: =Drogerie_A -> 0 | AJ14: =Drogerie_M -> 0 | AL14: =Sonstiges_A -> 0 | AM14: =Sonstiges_M -> 0
B15: =Obst_A -> 0 | C15: =Obst_M -> 0 | E15: =Gemüse_A -> 0 | H15: =Aufschnitt_A -> 0 | I15: =Aufschnitt_M -> 0 | K15: =Milchprodukte__A -> 0 | L15: =Milchprodukte_M -> 0 | N15: =Backwaren_A -> 0 | O15: =Backwaren_M -> 0 | Q15: =Tiefkühl_A -> 0 | R15: =Tiefkühl_M -> 0 | T15: =Getränke_A -> 0 | U15: =Getränke_M -> 0 | W15: =Gewürze_A -> 0 | X15: =Gewürze_M -> 0 | Z15: =Haltbares_A -> 0 | AA15: =Haltbares_M -> 0 | AC15: =Süßes_A -> 0 | AD15: =Süßes_M -> 0 | AF15: =Haushalt_A -> 0 | AI15: =Drogerie_A -> 0 | AJ15: =Drogerie_M -> 0 | AL15: =Sonstiges_A -> 0 | AM15: =Sonstiges_M -> 0
... B61: =Obst_A -> 0 | C61: =Obst_M -> 0 | E61: =Gemüse_A -> 0 | H61: =Aufschnitt_A -> 0 | I61: =Aufschnitt_M -> 0 | K61: =Milchprodukte__A -> 0 | L61: =Milchprodukte_M -> 0 | N61: =Backwaren_A -> 0 | O61: =Backwaren_M -> 0 | Q61: =Tiefkühl_A -> 0 | R61: =Tiefkühl_M -> 0 | T61: =Getränke_A -> 0 | U61: =Getränke_M -> 0 | W61: =Gewürze_A -> 0 | X61: =Gewürze_M -> 0 | Z61: =Haltbares_A -> 0 | AA61: =Haltbares_M -> 0 | AC61: =Süßes_A -> 0 | AD61: =Süßes_M -> 0 | AF61: =Haushalt_A -> 0 | AI61: =Drogerie_A -> 0 | AJ61: =Drogerie_M -> 0 | AL61: =Sonstiges_A -> 0 | AM61: =Sonstiges_M -> 0

Sheet Druck kompakt
B1: Obst | C1: M | E1: Gemüse | F1: M | H1: Aufschnitt/Fleisch/Fisch | I1: M | K1: Milchprodukte/ Eier/Desserts | L1: M | N1: Backwaren | O1: M | Q1: Tiefkühl | R1: M | T1: Getränke | U1: M
B2: =Obst_A -> Äpfel | C2: =Obst_M -> 1 kg | E2: =Gemüse_A -> Gurke | F2: =Gemüse_M -> 2 | H2: =Aufschnitt_A -> Bierschinken | I2: =Aufschnitt_M -> 100g | K2: =Milchprodukte__A -> Eier | L2: =Milchprodukte_M -> 10 | N2: =Backwaren_A -> Mischbrot | O2: =Backwaren_M -> 2 | Q2: =Tiefkühl_A -> Meeresfrüchte | R2: =Tiefkühl_M -> 1 | T2: =Getränke_A -> Bier | U2: =Getränke_M -> 1 K
B3: =Obst_A -> Kirschen | C3: =Obst_M -> 1 kg | E3: =Gemüse_A -> Weißkraut | F3: 3 | H3: =Aufschnitt_A -> Corned Beef | I3: =Aufschnitt_M -> 200g | K3: =Milchprodukte__A -> 0 | L3: =Milchprodukte_M -> 0 | N3: =Backwaren_A -> Toastbrot | O3: =Backwaren_M -> 1 | Q3: =Tiefkühl_A -> Bohnen | R3: =Tiefkühl_M -> 1 | T3: =Getränke_A -> Bitter Lemon | U3: =Getränke_M -> 12
B4: =Obst_A -> Pfirsiche | C4: =Obst_M -> 5 | E4: =Gemüse_A -> 0 | H4: =Aufschnitt_A -> Knackwurst | I4: =Aufschnitt_M -> 4 | K4: =Milchprodukte__A -> 0 | L4: =Milchprodukte_M -> 0 | N4: =Backwaren_A -> 0 | O4: =Backwaren_M -> 0 | Q4: =Tiefkühl_A -> 0 | R4: =Tiefkühl_M -> 0 | T4: =Getränke_A -> Säfte | U4: =Getränke_M -> 6
B5: =Obst_A -> 0 | C5: =Obst_M -> 0 | E5: =Gemüse_A -> 0 | H5: =Aufschnitt_A -> 0 | I5: =Aufschnitt_M -> 0 | K5: =Milchprodukte__A -> 0 | L5: =Milchprodukte_M -> 0 | N5: =Backwaren_A -> 0 | O5: =Backwaren_M -> 0 | Q5: =Tiefkühl_A -> 0 | R5: =Tiefkühl_M -> 0 | T5: =Getränke_A -> 0 | U5: =Getränke_M -> 0
B6: =Obst_A -> 0 | C6: =Obst_M -> 0 | E6: =Gemüse_A -> 0 | H6: =Aufschnitt_A -> 0 | I6: =Aufschnitt_M -> 0 | K6: =Milchprodukte__A -> 0 | L6: =Milchprodukte_M -> 0 | N6: =Backwaren_A -> 0 | O6: =Backwaren_M -> 0 | Q6: =Tiefkühl_A -> 0 | R6: =Tiefkühl_M -> 0 | T6: =Getränke_A -> 0 | U6: =Getränke_M -> 0
B7: =Obst_A -> 0 | C7: =Obst_M -> 0 | E7: =Gemüse_A -> 0 | H7: =Aufschnitt_A -> 0 | I7: =Aufschnitt_M -> 0 | K7: =Milchprodukte__A -> 0 | L7: =Milchprodukte_M -> 0 | N7: =Backwaren_A -> 0 | O7: =Backwaren_M -> 0 | Q7: =Tiefkühl_A -> 0 | R7: =Tiefkühl_M -> 0 | T7: =Getränke_A -> 0 | U7: =Getränke_M -> 0
B8: =Obst_A -> 0 | C8: =Obst_M -> 0 | E8: =Gemüse_A -> 0 | H8: =Aufschnitt_A -> 0 | I8: =Aufschnitt_M -> 0 | K8: =Milchprodukte__A -> 0 | L8: =Milchprodukte_M -> 0 | N8: =Backwaren_A -> 0 | O8: =Backwaren_M -> 0 | Q8: =Tiefkühl_A -> 0 | R8: =Tiefkühl_M -> 0 | T8: =Getränke_A -> 0 | U8: =Getränke_M -> 0
B9: =Obst_A -> 0 | C9: =Obst_M -> 0 | E9: =Gemüse_A -> 0 | H9: =Aufschnitt_A -> 0 | I9: =Aufschnitt_M -> 0 | K9: =Milchprodukte__A -> 0 | L9: =Milchprodukte_M -> 0 | N9: =Backwaren_A -> 0 | O9: =Backwaren_M -> 0 | Q9: =Tiefkühl_A -> 0 | R9: =Tiefkühl_M -> 0 | T9: =Getränke_A -> 0 | U9: =Getränke_M -> 0
B10: =Obst_A -> 0 | C10: =Obst_M -> 0 | E10: =Gemüse_A -> 0 | H10: =Aufschnitt_A -> 0 | I10: =Aufschnitt_M -> 0 | K10: =Milchprodukte__A -> 0 | L10: =Milchprodukte_M -> 0 | N10: =Backwaren_A -> 0 | O10: =Backwaren_M -> 0 | Q10: =Tiefkühl_A -> 0 | R10: =Tiefkühl_M -> 0 | T10: =Getränke_A -> 0 | U10: =Getränke_M -> 0
B11: =Obst_A -> 0 | C11: =Obst_M -> 0 | E11: =Gemüse_A -> 0 | H11: =Aufschnitt_A -> 0 | I11: =Aufschnitt_M -> 0 | K11: =Milchprodukte__A -> 0 | L11: =Milchprodukte_M -> 0 | N11: =Backwaren_A -> 0 | O11: =Backwaren_M -> 0 | Q11: =Tiefkühl_A -> 0 | R11: =Tiefkühl_M -> 0 | T11: =Getränke_A -> 0 | U11: =Getränke_M -> 0
B12: =Obst_A -> 0 | C12: =Obst_M -> 0 | E12: =Gemüse_A -> 0 | H12: =Aufschnitt_A -> 0 | I12: =Aufschnitt_M -> 0 | K12: =Milchprodukte__A -> 0 | L12: =Milchprodukte_M -> 0 | N12: =Backwaren_A -> 0 | O12: =Backwaren_M -> 0 | Q12: =Tiefkühl_A -> 0 | R12: =Tiefkühl_M -> 0 | T12: =Getränke_A -> 0 | U12: =Getränke_M -> 0
B13: =Obst_A -> 0 | C13: =Obst_M -> 0 | E13: =Gemüse_A -> 0 | H13: =Aufschnitt_A -> 0 | I13: =Aufschnitt_M -> 0 | K13: =Milchprodukte__A -> 0 | L13: =Milchprodukte_M -> 0 | N13: =Backwaren_A -> 0 | O13: =Backwaren_M -> 0 | Q13: =Tiefkühl_A -> 0 | R13: =Tiefkühl_M -> 0 | T13: =Getränke_A -> 0 | U13: =Getränke_M -> 0
B14: =Obst_A -> 0 | C14: =Obst_M -> 0 | E14: =Gemüse_A -> 0 | H14: =Aufschnitt_A -> 0 | I14: =Aufschnitt_M -> 0 | K14: =Milchprodukte__A -> 0 | L14: =Milchprodukte_M -> 0 | N14: =Backwaren_A -> 0 | O14: =Backwaren_M -> 0 | Q14: =Tiefkühl_A -> 0 | R14: =Tiefkühl_M -> 0 | T14: =Getränke_A -> 0 | U14: =Getränke_M -> 0
B15: =Obst_A -> 0 | C15: =Obst_M -> 0 | E15: =Gemüse_A -> 0 | H15: =Aufschnitt_A -> 0 | I15: =Aufschnitt_M -> 0 | K15: =Milchprodukte__A -> 0 | L15: =Milchprodukte_M -> 0 | N15: =Backwaren_A -> 0 | O15: =Backwaren_M -> 0 | Q15: =Tiefkühl_A -> 0 | R15: =Tiefkühl_M -> 0 | T15: =Getränke_A -> 0 | U15: =Getränke_M -> 0
... B18: =Obst_A -> 0 | C18: =Obst_M -> 0 | E18: =Gemüse_A -> 0 | H18: =Aufschnitt_A -> 0 | I18: =Aufschnitt_M -> 0 | K18: =Milchprodukte__A -> 0 | L18: =Milchprodukte_M -> 0 | N18: =Backwaren_A -> 0 | O18: =Backwaren_M -> 0 | Q18: =Tiefkühl_A -> 0 | R18: =Tiefkühl_M -> 0 | T18: =Getränke_A -> 0 | U18: =Getränke_M -> 0
B19: Gewürze | C19: M | E19: Haltbares | F19: M | H19: Süßes und Salziges | I19: M | K19: Haushalt | L19: M | N19: Drogerie/Kosmetik | O19: M | Q19: Sonstiges | R19: M | S19: Notizen
B20: =Einkauf!O2 -> Estragon | C20: =Einkauf!P2 -> 1 | E20: =Einkauf!Q2 -> Balsamico | F20: =Einkauf!R2 -> 1 | H20: =Einkauf!S2 -> Nougat | I20: =Einkauf!T2 -> 1 | K20: =Einkauf!U2 -> Entkalker | L20: =Einkauf!V2 -> 1 | N20: =Einkauf!W2 -> Deo/Antitranspirant | O20: =Einkauf!X2 -> 1 | Q20: =Einkauf!Y2 -> Batterien AAA | R20: =Einkauf!Z2 -> 4
B21: =Einkauf!O3 -> Oregano | C21: =Einkauf!P3 -> 1 | E21: =Einkauf!Q3 -> Bratöl | F21: =Einkauf!R3 -> 1 | H21: =Einkauf!S3 -> Studentenfutter | I21: =Einkauf!T3 -> 1 | K21: =Einkauf!U3 -> Spülmaschinensalz | L21: =Einkauf!V3 -> 1 | N21: =Einkauf!W3 -> Duschgel | O21: =Einkauf!X3 -> 1 | Q21: =Einkauf!Y3 -> Kerzen | R21: =Einkauf!Z3 -> 2
B22: =Einkauf!O4 -> Safran | C22: =Einkauf!P4 -> 1 | E22: =Einkauf!Q4 -> Grüner Tee | F22: =Einkauf!R4 -> 200 g | H22: =Einkauf!S4 -> 0 | I22: =Einkauf!T4 -> 0 | K22: =Einkauf!U4 -> Waschmittel bunt | L22: =Einkauf!V4 -> 1 | N22: =Einkauf!W4 -> Zahnbürste | O22: =Einkauf!X4 -> 1 | Q22: =Einkauf!Y4 -> 0 | R22: =Einkauf!Z4 -> 0
B23: =Einkauf!O5 -> 0 | C23: =Einkauf!P5 -> 0 | E23: =Einkauf!Q5 -> Mehl | F23: =Einkauf!R5 -> 2 kg | H23: =Einkauf!S5 -> 0 | I23: =Einkauf!T5 -> 0 | K23: =Einkauf!U5 -> 0 | L23: =Einkauf!V5 -> 0 | N23: =Einkauf!W5 -> 0 | O23: =Einkauf!X5 -> 0 | Q23: =Einkauf!Y5 -> 0 | R23: =Einkauf!Z5 -> 0
B24: =Einkauf!O6 -> 0 | C24: =Einkauf!P6 -> 0 | E24: =Einkauf!Q6 -> Reis | F24: =Einkauf!R6 -> 500 g | H24: =Einkauf!S6 -> 0 | I24: =Einkauf!T6 -> 0 | K24: =Einkauf!U6 -> 0 | L24: =Einkauf!V6 -> 0 | N24: =Einkauf!W6 -> 0 | O24: =Einkauf!X6 -> 0 | Q24: =Einkauf!Y6 -> 0 | R24: =Einkauf!Z6 -> 0
B25: =Einkauf!O7 -> 0 | C25: =Einkauf!P7 -> 0 | E25: =Einkauf!Q7 -> 0 | F25: =Einkauf!R7 -> 0 | H25: =Einkauf!S7 -> 0 | I25: =Einkauf!T7 -> 0 | K25: =Einkauf!U7 -> 0 | L25: =Einkauf!V7 -> 0 | N25: =Einkauf!W7 -> 0 | O25: =Einkauf!X7 -> 0 | Q25: =Einkauf!Y7 -> 0 | R25: =Einkauf!Z7 -> 0
B26: =Einkauf!O8 -> 0 | C26: =Einkauf!P8 -> 0 | E26: =Einkauf!Q8 -> 0 | F26: =Einkauf!R8 -> 0 | H26: =Einkauf!S8 -> 0 | I26: =Einkauf!T8 -> 0 | K26: =Einkauf!U8 -> 0 | L26: =Einkauf!V8 -> 0 | N26: =Einkauf!W8 -> 0 | O26: =Einkauf!X8 -> 0 | Q26: =Einkauf!Y8 -> 0 | R26: =Einkauf!Z8 -> 0
B27: =Einkauf!O9 -> 0 | C27: =Einkauf!P9 -> 0 | E27: =Einkauf!Q9 -> 0 | F27: =Einkauf!R9 -> 0 | H27: =Einkauf!S9 -> 0 | I27: =Einkauf!T9 -> 0 | K27: =Einkauf!U9 -> 0 | L27: =Einkauf!V9 -> 0 | N27: =Einkauf!W9 -> 0 | O27: =Einkauf!X9 -> 0 | Q27: =Einkauf!Y9 -> 0 | R27: =Einkauf!Z9 -> 0
B28: =Einkauf!O10 -> 0 | C28: =Einkauf!P10 -> 0 | E28: =Einkauf!Q10 -> 0 | F28: =Einkauf!R10 -> 0 | H28: =Einkauf!S10 -> 0 | I28: =Einkauf!T10 -> 0 | K28: =Einkauf!U10 -> 0 | L28: =Einkauf!V10 -> 0 | N28: =Einkauf!W10 -> 0 | O28: =Einkauf!X10 -> 0 | Q28: =Einkauf!Y10 -> 0 | R28: =Einkauf!Z10 -> 0
B29: =Einkauf!O11 -> 0 | C29: =Einkauf!P11 -> 0 | E29: =Einkauf!Q11 -> 0 | F29: =Einkauf!R11 -> 0 | H29: =Einkauf!S11 -> 0 | I29: =Einkauf!T11 -> 0 | K29: =Einkauf!U11 -> 0 | L29: =Einkauf!V11 -> 0 | N29: =Einkauf!W11 -> 0 | O29: =Einkauf!X11 -> 0 | Q29: =Einkauf!Y11 -> 0 | R29: =Einkauf!Z11 -> 0
B30: =Einkauf!O12 -> 0 | C30: =Einkauf!P12 -> 0 | E30: =Einkauf!Q12 -> 0 | F30: =Einkauf!R12 -> 0 | H30: =Einkauf!S12 -> 0 | I30: =Einkauf!T12 -> 0 | K30: =Einkauf!U12 -> 0 | L30: =Einkauf!V12 -> 0 | N30: =Einkauf!W12 -> 0 | O30: =Einkauf!X12 -> 0 | Q30: =Einkauf!Y12 -> 0 | R30: =Einkauf!Z12 -> 0
B31: =Einkauf!O13 -> 0 | C31: =Einkauf!P13 -> 0 | E31: =Einkauf!Q13 -> 0 | F31: =Einkauf!R13 -> 0 | H31: =Einkauf!S13 -> 0 | I31: =Einkauf!T13 -> 0 | K31: =Einkauf!U13 -> 0 | L31: =Einkauf!V13 -> 0 | N31: =Einkauf!W13 -> 0 | O31: =Einkauf!X13 -> 0 | Q31: =Einkauf!Y13 -> 0 | R31: =Einkauf!Z13 -> 0
... B36: =Einkauf!O18 -> 0 | C36: =Einkauf!P18 -> 0 | E36: =Einkauf!Q18 -> 0 | F36: =Einkauf!R18 -> 0 | H36: =Einkauf!S18 -> 0 | I36: =Einkauf!T18 -> 0 | K36: =Einkauf!U18 -> 0 | L36: =Einkauf!V18 -> 0 | N36: =Einkauf!W18 -> 0 | O36: =Einkauf!X18 -> 0 | Q36: =Einkauf!Y18 -> 0 | R36: =Einkauf!Z18 -> 0

Sheet Listen
A1: Obst | B1: Gemüse | C1: Aufschnitt/Fleisch/Fisch | D1: Milchprodukte/ Eier/Desserts | E1: Backwaren | F1: Tiefkühl | G1: Getränke | H1: Gewürze | I1: Haltbares | J1: Süßes und Salziges | K1: Haushalt | L1: Drogerie/Kosmetik | M1: Sonstiges
A2: Ananas | B2: Artischocken | C2: Bierschinken | D2: Butter | E2: Baguette | F2: Backfisch | G2: Bier | H2: Anis | I2: Backpulver | J2: Apfelringe | K2: Abfallbeutel | L2: Aftershave | M2: Babybedarf
A3: Äpfel | B3: Aubergine | C3: Blutwurst | D3: Camembert | E3: Baguettebrötchen | F3: Backwaren | G3: Bitter Lemon | H3: Basilikum | I3: Balsamico | J3: Bonbons | K3: Allzweckreiniger | L3: Badezusatz | M3: Batterien
A4: Aprikosen | B4: Blumenkohl | C4: Bockwurst | D4: Cremespeise | E4: Brot (diverse) | F4: Baguette belegt | G4: Cola | H4: Bohnenkraut | I4: Bandnudeln | J4: Chips | K4: Alufolie | L4: Bodylotion | M4: Geschenkpapier
A5: Avocado | B5: Bohnen | C5: Bratwurst | D5: Edelschimmelkäse | E5: Brötchen | F5: Beerenmischung | G5: Energydrink | H5: Chili | I5: Bouillon | J5: Cracker | K5: Badreiniger | L5: Damenhygiene | M5: Insektizide
A6: Bananen | B6: Brokkoli | C6: Chorizo | D6: Eier | E6: Burger Buns | F6: Blumenkohl | G6: Limettensaft | H6: Dill | I6: Bratöl | J6: Erdnussflips | K6: Bioabfalltüten | L6: Deo/Antitranspirant | M6: Kerzen
A7: Birnen | B7: Champignon | C7: Corned Beef | D7: Feta | E7: Ciabatta | F7: Bohnen | G7: Limonade | H7: Estragon | I7: Corn Flakes | J7: Gebäck | K7: Blauspüler | L7: Duschgel | M7: Servietten
A8: Brombeeren | B8: Chicoree | C8: Entrecôte | D8: Frischkäse | E8: Fladenbrot | F8: Broccoli | G8: Mixgetränke | H8: Fenchel | I8: Dosengerichte | J8: Grissini | K8: Bodenwischer | L8: Gesichtscreme | M8: Tierbedarf
A9: Datteln | B9: Eisbergsalat | C9: Fleischsalat | D9: Götterspeise | E9: Hot Dog Brötchen | F9: Brötchen | G9: Säfte | H9: Gewürzmischung | I9: Dressing | J9: Gummibärchen | K9: Entkalker | L9: Haarspülung
A10: Erdbeeren | B10: Erbsen | C10: Frikadellen | D10: Griespudding | E10: Knäckebrot | F10: Burger Patties | G10: Sekt | H10: Gewürznelken | I10: Essig | J10: Käse-Dip | K10: Färbemittel | L10: Handcreme
A11: Heidelbeeren | B11: Feldsalat | C11: Grillspieße | D11: Grillkäse | E11: Mischbrot | F11: Döner | G11: Sirup | H11: Ingwer | I11: Fertiggerichte | J11: Kaugummi | K11: Farbfangtücher | L11: Interdentalbürste
A12: Himbeeren | B12: Fenchel | C12: Hackfleisch gemischt | D12: Grütze | E12: Toastbrot | F12: Dorade | G12: Spirtuosen | H12: Kardamon | I12: Fischkonserve | J12: Kekse | K12: Fensterreiniger | L12: Kosmetiktücher
A13: Johannisbeeren | B13: Gurke | C13: Hackfleisch Rind | D13: Hartkäse | E13: Vollkornbrot | F13: Eis | G13: Tonic | H13: Knoblauch | I13: Fleischkonserve | J13: Lakritze | K13: Fleckenentferner | L13: Make-up
A14: Kirschen | B14: Ingwer | C14: Hackfleisch Schwein | D14: Harzer Käse | E14: Zwieback | F14: Ente | G14: Wasser | H14: Koriander | I14: Fond | J14: Mandeln | K14: Frischhaltefolie | L14: Mückenschutz
A15: Kiwi | B15: Kartoffeln | C15: Hähnchenbrust | D15: Joghurt | F15: Erbsen | G15: Wein | H15: Kräutermischung | I15: Früchtetee | J15: Nacho | K15: Fusselroller | L15: Mundspülung
A16: Limetten | B16: Knoblauch | C16: Hähnchenfilet | D16: Kaffeesahne | F16: Erdbeeren | G16: Zitronensaft | H16: Kreuzkümmel | I16: Gemüsekonserve | J16: Nougat | K16: Gefrierbeutel | L16: Nagellack
A17: Mandarine | B17: Kohlrabi | C17: Hähnchenkeule | D17: Käsewürfel | F17: Fertiggerichte | H17: Kümmel | I17: Grüner Tee | J17: Nüsse | K17: Herdreiniger | L17: Nagellackentferner
A18: Mango | B18: Kresse | C18: Kalb | D18: Kräuterquark | F18: Fischstäbchen | H18: Lorbeerblätter | I18: Honig | J18: Paprika-Dip | K18: Kaffeefilter | L18: Parfüm
A19: Melone | B19: Kürbis | C19: Kassler | D19: Margarine | F19: Forelle | H19: Majoran | I19: Kaffee | J19: Pistazien | K19: Klarspüler | L19: Rasierklingen
A20: Nektarinen | B20: Lauch | C20: Knackwurst | D20: Milch | F20: Garnelen | H20: Minze | I20: Kakao | J20: Popcorn | K20: Klorix | L20: Rasierschaum
A21: Orangen | B21: Mais | C21: Kochschinken | D21: Milchreis | F21: Heidelbeeren | H21: Muskat | I21: Ketchup | J21: Pralinen | K21: Küchenrolle | L21: Seife
A22: Papaya | B22: Möhren | C22: Krakauer | D22: Mozzarella | F22: Himbeeren | H22: Oregano | I22: Linsen | J22: Salzstangen | K22: Möbelpflege | L22: Shampoo
A23: Passionsfrucht | B23: Oliven | C23: Lamm | D23: Ofenkäse | F23: Huhn | H23: Paprika | I23: Marmelade | J23: Schokolade | K23: Möbelpflege | L23: Sonnenschutz
A24: Pfirsiche | B24: Pampelmuse | C24: Leberkäse | D24: Parmesan | F24: Kabeljau | H24: Petersilie | I24: Mayonnaise | J24: Studentenfutter | K24: Schuhputzcreme | L24: Taschentücher
A25: Pflaumen | B25: Paprika | C25: Leberwurst | D25: Pudding | F25: Kartoffelecken | H25: Pfeffer | I25: Mehl | J25: Tortillachips | K25: Schwamm | L25: Toilettenpapier
A26: Physalis | B26: Radieschen | C26: Mettwurst | D26: Quark | F26: Lachs | H26: Piment | I26: Milchreis | J26: Trockenfrüchte | K26: Spülmaschinensalz | L26: Wattestäbchen
A27: Pitahaya | B27: Rosenkohl | C27: Mortadella | D27: Reibekäse | F27: Mais | H27: Rosmarin | I27: Müsli | J27: Waffeln | K27: Spülmaschinentabs | L27: Wimperntusche
A28: Stachelbeeren | B28: Rotkohl | C28: Pastrami | D28: Schafskäse | F28: Meeresfrüchte | H28: Safran | I28: Nudeln | K28: Spülmittel | L28: Zahnbürste
A29: Trauben | B29: Salat | C29: Pute | D29: Schmelzkäse | F29: Mischgemüse | H29: Salbei | I29: Obstkonserve | K29: Staubsaugerbeutel | L29: Zahnecreme
A30: Weintrauben | B30: Schalotten | C30: Putenbraten | D30: Schnittkäse | F30: Pangasius | H30: Salz | I30: Öl | K30: Staubwischer | L30: Zahnseide
A31: Zitrone | B31: Selleriestaude | C31: Rinderfilet | D31: Weichkäse | F31: Pizza | H31: Thymian | I31: Paniermehl | K31: Teefilter | L31: Zahnstocher
B32: Spargel | C32: Rindersteak | D32: Ziegenkäse | F32: Pommes frites | H32: Vanille | I32: Puderzucker | K32: Topfreiniger
B33: Tomaten | C33: Rippchen | F33: Pute | H33: Wacholder | I33: Reis | K33: Tücher
B34: Weißkraut | C34: Roher Schinken | F34: Rosenkohl | H34: Wasabi | I34: Reisbeutel | K34: Waschmittel bunt
B35: Zucchini | C35: Rollbraten | F35: Rotbarsch | H35: Zimt | I35: Remoulade | K35: Waschmittel weiß
B36: Zwiebeln | C36: Rostbratwürstchen | F36: Schlemmerfilet | H36: Zimtstange | I36: Risotto | K36: Weichspüler
C37: Rumpsteak | F37: Spinat | H37: Zitronengras | I37: Rohrzucker | K37: WZ-Reiniger
C38: Salami | F38: Thunfisch | H38: Zitronenschalen | I38: Salz
C39: Schmalz | F39: Tintenfisch | H39: Zwiebelgranulat | I39: Schwarzer Tee
C40: Schnitzel | I40: Senf
C41: Schweinebraten | I41: Soßenbinder
C42: Schweinefilet | I42: Spagetti
C43: Schweinesteak | I43: Suppennudeln
C44: Speck | I44: Sushireis
C45: Speckwürfel | I45: Süßstoff
C46: Streichwurst | I46: Vanillezucker
C47: Sülze | I47: Weißer Tee
C48: Sülzwurst | I48: Worcestersauce
C49: Teewurst | I49: Würfelzucker
C50: Wiener Würstchen | I50: Wurstkonserven
I51: Zucker

Sheet Vorlage Druck farbig
A1: G | B1: B | C1: Obst | D1: M | E1: G | F1: B | G1: Gemüse | H1: M | I1: G | J1: B | K1: Aufschnitt/Fleisch/Fisch | L1: M | M1: G | N1: B | O1: Milchprodukte/ Eier/Desserts | P1: M | Q1: G | R1: B | S1: Backwaren | T1: M | U1: G | V1: B | W1: Tiefkühl | X1: M | Y1: G | Z1: B | AA1: Getränke | AB1: M | AC1: G | AD1: B | AE1: Gewürze | AF1: M | AG1: G | AH1: B | AI1: Haltbares | AJ1: M | AK1: G | AL1: B | AM1: Süßes und Salziges | AN1: M | AO1: G | AP1: B | AQ1: Haushalt | AR1: M | AS1: G | AT1: B | AU1: Drogerie/Kosmetik | AV1: M | AW1: G | AX1: B | AY1: Sonstiges | AZ1: M
C2: =Obst -> Ananas | G2: =Gemüse -> Artischocken | K2: =Aufschnitt -> Bierschinken | O2: =Milchprodukte -> Butter | S2: =Backwaren -> Baguette | W2: =Tiefkühl -> Backfisch | AA2: =Getränke -> Bier | AE2: =Gewürze -> Anis | AI2: =Haltbares -> Backpulver | AM2: =Süßes -> Apfelringe | AQ2: =Haushalt -> Abfallbeutel | AU2: =Drogerie -> Aftershave | AY2: =Sonstiges -> Babybedarf
C3: =Obst -> Äpfel | G3: =Gemüse -> Aubergine | K3: =Aufschnitt -> Blutwurst | O3: =Milchprodukte -> Camembert | S3: =Backwaren -> Baguettebrötchen | W3: =Tiefkühl -> Backwaren | AA3: =Getränke -> Bitter Lemon | AE3: =Gewürze -> Basilikum | AI3: =Haltbares -> Balsamico | AM3: =Süßes -> Bonbons | AQ3: =Haushalt -> Allzweckreiniger | AU3: =Drogerie -> Badezusatz | AY3: =Sonstiges -> Batterien
C4: =Obst -> Aprikosen | G4: =Gemüse -> Blumenkohl | K4: =Aufschnitt -> Bockwurst | O4: =Milchprodukte -> Cremespeise | S4: =Backwaren -> Brot (diverse) | W4: =Tiefkühl -> Baguette belegt | AA4: =Getränke -> Cola | AE4: =Gewürze -> Bohnenkraut | AI4: =Haltbares -> Bandnudeln | AM4: =Süßes -> Chips | AQ4: =Haushalt -> Alufolie | AU4: =Drogerie -> Bodylotion | AY4: =Sonstiges -> Geschenkpapier
C5: =Obst -> Avocado | G5: =Gemüse -> Bohnen | K5: =Aufschnitt -> Bratwurst | O5: =Milchprodukte -> Edelschimmelkäse | S5: =Backwaren -> Brötchen | W5: =Tiefkühl -> Beerenmischung | AA5: =Getränke -> Energydrink | AE5: =Gewürze -> Chili | AI5: =Haltbares -> Bouillon | AM5: =Süßes -> Cracker | AQ5: =Haushalt -> Badreiniger | AU5: =Drogerie -> Damenhygiene | AY5: =Sonstiges -> Insektizide
C6: =Obst -> Bananen | G6: =Gemüse -> Brokkoli | K6: =Aufschnitt -> Chorizo | O6: =Milchprodukte -> Eier | S6: =Backwaren -> Burger Buns | W6: =Tiefkühl -> Blumenkohl | AA6: =Getränke -> Limettensaft | AE6: =Gewürze -> Dill | AI6: =Haltbares -> Bratöl | AM6: =Süßes -> Erdnussflips | AQ6: =Haushalt -> Bioabfalltüten | AU6: =Drogerie -> Deo/Antitranspirant | AY6: =Sonstiges -> Kerzen
C7: =Obst -> Birnen | G7: =Gemüse -> Champignon | K7: =Aufschnitt -> Corned Beef | O7: =Milchprodukte -> Feta | S7: =Backwaren -> Ciabatta | W7: =Tiefkühl -> Bohnen | AA7: =Getränke -> Limonade | AE7: =Gewürze -> Estragon | AI7: =Haltbares -> Corn Flakes | AM7: =Süßes -> Gebäck | AQ7: =Haushalt -> Blauspüler | AU7: =Drogerie -> Duschgel | AY7: =Sonstiges -> Servietten
C8: =Obst -> Brombeeren | G8: =Gemüse -> Chicoree | K8: =Aufschnitt -> Entrecôte | O8: =Milchprodukte -> Frischkäse | S8: =Backwaren -> Fladenbrot | W8: =Tiefkühl -> Broccoli | AA8: =Getränke -> Mixgetränke | AE8: =Gewürze -> Fenchel | AI8: =Haltbares -> Dosengerichte | AM8: =Süßes -> Grissini | AQ8: =Haushalt -> Bodenwischer | AU8: =Drogerie -> Gesichtscreme | AY8: =Sonstiges -> Tierbedarf
C9: =Obst -> Datteln | G9: =Gemüse -> Eisbergsalat | K9: =Aufschnitt -> Fleischsalat | O9: =Milchprodukte -> Götterspeise | S9: =Backwaren -> Hot Dog Brötchen | W9: =Tiefkühl -> Brötchen | AA9: =Getränke -> Säfte | AE9: =Gewürze -> Gewürzmischung | AI9: =Haltbares -> Dressing | AM9: =Süßes -> Gummibärchen | AQ9: =Haushalt -> Entkalker | AU9: =Drogerie -> Haarspülung | AY9: =Sonstiges -> 0
C10: =Obst -> Erdbeeren | G10: =Gemüse -> Erbsen | K10: =Aufschnitt -> Frikadellen | O10: =Milchprodukte -> Griespudding | S10: =Backwaren -> Knäckebrot | W10: =Tiefkühl -> Burger Patties | AA10: =Getränke -> Sekt | AE10: =Gewürze -> Gewürznelken | AI10: =Haltbares -> Essig | AM10: =Süßes -> Käse-Dip | AQ10: =Haushalt -> Färbemittel | AU10: =Drogerie -> Handcreme | AY10: =Sonstiges -> 0
C11: =Obst -> Heidelbeeren | G11: =Gemüse -> Feldsalat | K11: =Aufschnitt -> Grillspieße | O11: =Milchprodukte -> Grillkäse | S11: =Backwaren -> Mischbrot | W11: =Tiefkühl -> Döner | AA11: =Getränke -> Sirup | AE11: =Gewürze -> Ingwer | AI11: =Haltbares -> Fertiggerichte | AM11: =Süßes -> Kaugummi | AQ11: =Haushalt -> Farbfangtücher | AU11: =Drogerie -> Interdentalbürste | AY11: =Sonstiges -> 0
C12: =Obst -> Himbeeren | G12: =Gemüse -> Fenchel | K12: =Aufschnitt -> Hackfleisch gemischt | O12: =Milchprodukte -> Grütze | S12: =Backwaren -> Toastbrot | W12: =Tiefkühl -> Dorade | AA12: =Getränke -> Spirtuosen | AE12: =Gewürze -> Kardamon | AI12: =Haltbares -> Fischkonserve | AM12: =Süßes -> Kekse | AQ12: =Haushalt -> Fensterreiniger | AU12: =Drogerie -> Kosmetiktücher | AY12: =Sonstiges -> 0
C13: =Obst -> Johannisbeeren | G13: =Gemüse -> Gurke | K13: =Aufschnitt -> Hackfleisch Rind | O13: =Milchprodukte -> Hartkäse | S13: =Backwaren -> Vollkornbrot | W13: =Tiefkühl -> Eis | AA13: =Getränke -> Tonic | AE13: =Gewürze -> Knoblauch | AI13: =Haltbares -> Fleischkonserve | AM13: =Süßes -> Lakritze | AQ13: =Haushalt -> Fleckenentferner | AU13: =Drogerie -> Make-up | AY13: =Sonstiges -> 0
... C61: =Obst -> 0 | G61: =Gemüse -> 0 | K61: =Aufschnitt -> 0 | O61: =Milchprodukte -> 0 | S61: =Backwaren -> 0 | W61: =Tiefkühl -> 0 | AA61: =Getränke -> 0 | AE61: =Gewürze -> 0 | AI61: =Haltbares -> 0 | AM61: =Süßes -> 0 | AQ61: =Haushalt -> 0 | AU61: =Drogerie -> 0 | AY61: =Sonstiges -> 0

Sheet Vorlage Druck  S_W
A1: G | B1: B | C1: Obst | D1: G | E1: B | F1: Gemüse | G1: G | H1: B | I1: Aufschnitt/Fleisch/Fisch | J1: G | K1: B | L1: Milchprodukte/ Eier/Desserts | M1: G | N1: B | O1: Backwaren | P1: G | Q1: B | R1: Tiefkühl | S1: G | T1: B | U1: Getränke | V1: G | W1: B | X1: Gewürze | Y1: G | Z1: B | AA1: Haltbares | AB1: G | AC1: B | AD1: Süßes und salziges | AE1: G | AF1: B | AG1: Haushalt | AH1: G | AI1: B | AJ1: Drogerie/Kosmetik | AK1: G | AL1: B | AM1: Sonstiges
C2: =Obst -> Ananas | F2: =Gemüse -> Artischocken | I2: =Aufschnitt -> Bierschinken | L2: =Milchprodukte -> Butter | O2: =Backwaren -> Baguette | R2: =Tiefkühl -> Backfisch | U2: =Getränke -> Bier | X2: =Gewürze -> Anis | AA2: =Haltbares -> Backpulver | AD2: =Süßes -> Apfelringe | AG2: =Haushalt -> Abfallbeutel | AJ2: =Drogerie -> Aftershave | AM2: =Sonstiges -> Babybedarf
C3: =Obst -> Äpfel | F3: =Gemüse -> Aubergine | I3: =Aufschnitt -> Blutwurst | L3: =Milchprodukte -> Camembert | O3: =Backwaren -> Baguettebrötchen | R3: =Tiefkühl -> Backwaren | U3: =Getränke -> Bitter Lemon | X3: =Gewürze -> Basilikum | AA3: =Haltbares -> Balsamico | AD3: =Süßes -> Bonbons | AG3: =Haushalt -> Allzweckreiniger | AJ3: =Drogerie -> Badezusatz | AM3: =Sonstiges -> Batterien
C4: =Obst -> Aprikosen | F4: =Gemüse -> Blumenkohl | I4: =Aufschnitt -> Bockwurst | L4: =Milchprodukte -> Cremespeise | O4: =Backwaren -> Brot (diverse) | R4: =Tiefkühl -> Baguette belegt | U4: =Getränke -> Cola | X4: =Gewürze -> Bohnenkraut | AA4: =Haltbares -> Bandnudeln | AD4: =Süßes -> Chips | AG4: =Haushalt -> Alufolie | AJ4: =Drogerie -> Bodylotion | AM4: =Sonstiges -> Geschenkpapier
C5: =Obst -> Avocado | F5: =Gemüse -> Bohnen | I5: =Aufschnitt -> Bratwurst | L5: =Milchprodukte -> Edelschimmelkäse | O5: =Backwaren -> Brötchen | R5: =Tiefkühl -> Beerenmischung | U5: =Getränke -> Energydrink | X5: =Gewürze -> Chili | AA5: =Haltbares -> Bouillon | AD5: =Süßes -> Cracker | AG5: =Haushalt -> Badreiniger | AJ5: =Drogerie -> Damenhygiene | AM5: =Sonstiges -> Insektizide
C6: =Obst -> Bananen | F6: =Gemüse -> Brokkoli | I6: =Aufschnitt -> Chorizo | L6: =Milchprodukte -> Eier | O6: =Backwaren -> Burger Buns | R6: =Tiefkühl -> Blumenkohl | U6: =Getränke -> Limettensaft | X6: =Gewürze -> Dill | AA6: =Haltbares -> Bratöl | AD6: =Süßes -> Erdnussflips | AG6: =Haushalt -> Bioabfalltüten | AJ6: =Drogerie -> Deo/Antitranspirant | AM6: =Sonstiges -> Kerzen
C7: =Obst -> Birnen | F7: =Gemüse -> Champignon | I7: =Aufschnitt -> Corned Beef | L7: =Milchprodukte -> Feta | O7: =Backwaren -> Ciabatta | R7: =Tiefkühl -> Bohnen | U7: =Getränke -> Limonade | X7: =Gewürze -> Estragon | AA7: =Haltbares -> Corn Flakes | AD7: =Süßes -> Gebäck | AG7: =Haushalt -> Blauspüler | AJ7: =Drogerie -> Duschgel | AM7: =Sonstiges -> Servietten
C8: =Obst -> Brombeeren | F8: =Gemüse -> Chicoree | I8: =Aufschnitt -> Entrecôte | L8: =Milchprodukte -> Frischkäse | O8: =Backwaren -> Fladenbrot | R8: =Tiefkühl -> Broccoli | U8: =Getränke -> Mixgetränke | X8: =Gewürze -> Fenchel | AA8: =Haltbares -> Dosengerichte | AD8: =Süßes -> Grissini | AG8: =Haushalt -> Bodenwischer | AJ8: =Drogerie -> Gesichtscreme | AM8: =Sonstiges -> Tierbedarf
C9: =Obst -> Datteln | F9: =Gemüse -> Eisbergsalat | I9: =Aufschnitt -> Fleischsalat | L9: =Milchprodukte -> Götterspeise | O9: =Backwaren -> Hot Dog Brötchen | R9: =Tiefkühl -> Brötchen | U9: =Getränke -> Säfte | X9: =Gewürze -> Gewürzmischung | AA9: =Haltbares -> Dressing | AD9: =Süßes -> Gummibärchen | AG9: =Haushalt -> Entkalker | AJ9: =Drogerie -> Haarspülung | AM9: =Sonstiges -> 0
C10: =Obst -> Erdbeeren | F10: =Gemüse -> Erbsen | I10: =Aufschnitt -> Frikadellen | L10: =Milchprodukte -> Griespudding | O10: =Backwaren -> Knäckebrot | R10: =Tiefkühl -> Burger Patties | U10: =Getränke -> Sekt | X10: =Gewürze -> Gewürznelken | AA10: =Haltbares -> Essig | AD10: =Süßes -> Käse-Dip | AG10: =Haushalt -> Färbemittel | AJ10: =Drogerie -> Handcreme | AM10: =Sonstiges -> 0
C11: =Obst -> Heidelbeeren | F11: =Gemüse -> Feldsalat | I11: =Aufschnitt -> Grillspieße | L11: =Milchprodukte -> Grillkäse | O11: =Backwaren -> Mischbrot | R11: =Tiefkühl -> Döner | U11: =Getränke -> Sirup | X11: =Gewürze -> Ingwer | AA11: =Haltbares -> Fertiggerichte | AD11: =Süßes -> Kaugummi | AG11: =Haushalt -> Farbfangtücher | AJ11: =Drogerie -> Interdentalbürste | AM11: =Sonstiges -> 0
C12: =Obst -> Himbeeren | F12: =Gemüse -> Fenchel | I12: =Aufschnitt -> Hackfleisch gemischt | L12: =Milchprodukte -> Grütze | O12: =Backwaren -> Toastbrot | R12: =Tiefkühl -> Dorade | U12: =Getränke -> Spirtuosen | X12: =Gewürze -> Kardamon | AA12: =Haltbares -> Fischkonserve | AD12: =Süßes -> Kekse | AG12: =Haushalt -> Fensterreiniger | AJ12: =Drogerie -> Kosmetiktücher | AM12: =Sonstiges -> 0
C13: =Obst -> Johannisbeeren | F13: =Gemüse -> Gurke | I13: =Aufschnitt -> Hackfleisch Rind | L13: =Milchprodukte -> Hartkäse | O13: =Backwaren -> Vollkornbrot | R13: =Tiefkühl -> Eis | U13: =Getränke -> Tonic | X13: =Gewürze -> Knoblauch | AA13: =Haltbares -> Fleischkonserve | AD13: =Süßes -> Lakritze | AG13: =Haushalt -> Fleckenentferner | AJ13: =Drogerie -> Make-up | AM13: =Sonstiges -> 0
... C61: =Obst -> 0 | F61: =Gemüse -> 0 | I61: =Aufschnitt -> 0 | L61: =Milchprodukte -> 0 | O61: =Backwaren -> 0 | R61: =Tiefkühl -> 0 | U61: =Getränke -> 0 | X61: =Gewürze -> 0 | AA61: =Haltbares -> 0 | AD61: =Süßes -> 0 | AG61: =Haushalt -> 0 | AJ61: =Drogerie -> 0 | AM61: =Sonstiges -> 0

Sheet Hinweise
B1: Die Vorlage wurde in "Planmaker" aus der Softmaker-Office erstellt und ist bewußt einfach gehalten. Unter "Calc" aus Libreoffice oder "MS Excel" können Abweichungen im Design auftreten. Auf die Funktion sollte dies keinen Einfluß haben.
B3: Kurze Nutzungshinweise
B5: Einige Arbeitsblätter sind durch den "Blattschutz" vor versehentlichen Änderungen geschützt. Es ist kein Passwort vergeben. Man kann ihn also einfach aufheben.
B6: Die Listen erheben natürlich keinen Anspruch auf Vollständigkeit. Die Produktgruppen sind nach der Anordnung in den meisten Supermärkten gewählt.
B7: Reiter "Einkauf" : Auswahl der benötigten Produkte über das Drop-Down-Menü oder freie Eingabe. Mit den schwarzen Dreiecken (Autofilter) in den Spaltenüberschriften kann die jeweilige Spalte sortiert und Filter angewandt werden. Es kommt ein Hinweis, wenn man ein Produkt eingibt, welches noch nicht in der Liste steht. Mit „Enter“ bestätigen und, wenn gewünscht, in "Listen" eintragen.
B8: Reiter "Druck" : Ausdruck der Einkaufsliste über mehrere Seiten bei langen Listen. Die Druckeinstellungen, Ränder, Umbrüche usw. müssen an den verwendeten Drucker angepasst werden.
B9: Reiter "Druck kompakt" : Ausdruck auf einer Seite, wenn die Listen nicht zu lang sind.
B10: Reiter "Listen" : Pflege der Produktlisten. Mit den schwarzen Dreiecken in den Spaltenüberschriften (Autofilter) kann die jeweilige Spalte sortiert und Filter angewandt werden. Die Listen erheben natürlich keinen Anspruch auf Vollständigkeit. Die Produktgruppen sind nach der Anordnung in den meisten Supermärkten gewählt.
B11: Reiter "Vorlage Druck farbig" und "Vorlage Druck S/W": Wenn man keine Lust hat, die zu kaufenden Produkte am Rechner einzugeben, kann man die Druckvorlagen verwenden (Kästen "G" = gekauft, "B" benötigt). Die Druckeinstellungen, Ränder, Umbrüche usw. müssen an den verwendeten Drucker angepasst werden.
B12: In den Druckvorlagen sollten nicht direkt Produkte geändert werden, da sonst der Zellbezug überschrieben wird. Wenn Produkte in "Listen" ergänzt, geändert oder gelöscht werden, wird dies automatisch in die Drucklisten übernommen.
