Workbook
Name FTage: HTab!$B$2:$B$34
Name xDat: Gesamt!$L$5:$L$16
Name xZeit: Gesamt!$L$5:$O$16

Sheet Feb
B1: =TEXT(Gesamt!B1,) | F1: =IFERROR(DATE(I1,MONTH(1&RIGHT(CELL("dateiname",$B$1),LEN(CELL("dateiname",$B$1))-FIND("]",CELL("dateiname",$B$1)))),1),"Blattname !") -> 45689 | I1: =Gesamt!I1 -> 2025

Sheet Mrz
B1: =TEXT(Gesamt!B1,) | F1: =DATE(I1,MONTH(1&RIGHT(CELL("dateiname",$B$1),LEN(CELL("dateiname",$B$1))-FIND("]",CELL("dateiname",$B$1)))),1) -> #VALUE! | I1: =Gesamt!I1 -> 2025

Sheet Gesamt
E1: Zusammenfassung | I1: 2025
B2: Monat | C2: Std. Soll | D2: Std. Ist | E2: Ü-Std. | F2: Feiertag | G2: Urlaub | H2: Urlaub | I2: krank | J2: Bemerkung | L2: Anrechnung Zeiten für FT, Urlaub und Krank sowie Soll-Std./Monat und Urlaubanspruch
B3: ="Übertrag "&$I$1-1 -> Übertrag 2024 | E3: 28.75 | G3: Hilfssp. | H3: 1 | I3: 18
B4: =DATE($I$1,1,1) -> 45658 | L4: Datum | M4: Urlaub | N4: Soll-Std. | O4: Ers.-Zeit
B5: =DATE($I$1,2,1) -> 45689 | C5: =INDIRECT(TEXT($B5,"MMM")&"!"&C$17) -> 0 | D5: =INDIRECT(TEXT($B5,"MMM")&"!"&D$17) -> 0 | E5: =INDIRECT(TEXT($B5,"MMM")&"!"&E$17) -> 0 | F5: =INDIRECT(TEXT($B5,"MMM")&"!"&F$17) -> 0 | G5: =INDEX(xZeit,MATCH(B5,xDat,1),2) -> 15 | H5: =INDIRECT(TEXT($B5,"MMM")&"!"&H$17) -> 0 | I5: =INDIRECT(TEXT($B5,"MMM")&"!"&I$17) -> 0 | L5: 45292 | M5: 0 | N5: 0 | O5: =ROUND((N5/21.5*5/3)/5,1)*5 -> 0
B6: =DATE($I$1,3,1) -> 45717 | C6: =INDIRECT(TEXT($B6,"MMM")&"!"&C$17) -> #REF! | D6: =INDIRECT(TEXT($B6,"MMM")&"!"&D$17) -> #REF! | E6: =INDIRECT(TEXT($B6,"MMM")&"!"&E$17) -> #REF! | F6: =INDIRECT(TEXT($B6,"MMM")&"!"&F$17) -> #REF! | G6: =INDEX(xZeit,MATCH(B6,xDat,1),2) -> 15 | H6: =INDIRECT(TEXT($B6,"MMM")&"!"&H$17) -> #REF! | I6: =INDIRECT(TEXT($B6,"MMM")&"!"&I$17) -> #REF! | L6: 45323 | M6: 14 | N6: 20 | O6: =ROUND((N6/21.5*5/3)/5,1)*5 -> 1.5
B7: =DATE($I$1,4,1) -> 45748 | L7: 45689 | M7: 15 | N7: 30 | O7: =ROUND((N7/21.5*5/3)/5,1)*5 -> 2.5
B8: =DATE($I$1,5,1) -> 45778 | L8: 45748 | M8: 16 | N8: 40 | O8: =ROUND((N8/21.5*5/3)/5,1)*5 -> 3
B9: =DATE($I$1,6,1) -> 45809 | L9: 45809 | M9: 17 | N9: 50 | O9: =ROUND((N9/21.5*5/3)/5,1)*5 -> 4
B10: =DATE($I$1,7,1) -> 45839 | L10: 45870 | M10: 18 | N10: 20 | O10: =ROUND((N10/21.5*5/3)/5,1)*5 -> 1.5
B11: =DATE($I$1,8,1) -> 45870 | L11: 45931 | M11: 19 | N11: 40 | O11: =ROUND((N11/21.5*5/3)/5,1)*5 -> 3
B12: =DATE($I$1,9,1) -> 45901 | L12: 45992 | M12: 20 | O12: =ROUND((N12/21.5*5/3)/5,1)*5 -> 0
B13: =DATE($I$1,10,1) -> 45931 | O13: =ROUND((N13/21.5*5/3)/5,1)*5 -> 0
B14: =DATE($I$1,11,1) -> 45962 | O14: =ROUND((N14/21.5*5/3)/5,1)*5 -> 0
B15: =DATE($I$1,12,1) -> 45992 | O15: =ROUND((N15/21.5*5/3)/5,1)*5 -> 0
B16: ="gesamt "&$I$1 -> gesamt 2025 | O16: =ROUND((N16/21.5*5/3)/5,1)*5 -> 0
B17: Zellen im Monatsblatt | C17: F35 | D17: F39 | E17: E35 | F17: E36 | H17: E37 | I17: E38
B18: Alle Zellen mit Hintergrundfarbe (hellblau) können geändert werden.

Sheet HTab
B1: Feiertage
A2: =A13-1 -> 2024 | B2: =DATE($A2,1,1) -> 45292 | C2: Neujahr
B3: =DATE($A2,1,6) -> 45297 | C3: Heilige drei Könige
B4: =DATE($A2,3,28)+MOD(24-MOD($A2,19)*10.63,29)-MOD(TRUNC($A2*5/4)+MOD(24-MOD($A2,19)*10.63,29)+1,7)-2 -> 45380 | C4: Karfreitag
B5: =DATE($A2,3,28)+MOD(24-MOD($A2,19)*10.63,29)-MOD(TRUNC($A2*5/4)+MOD(24-MOD($A2,19)*10.63,29)+1,7)+1 -> 45383 | C5: Ostermontag
B6: =DATE($A2,5,1) -> 45413 | C6: Tag der Arbeit
B7: =DATE($A2,3,28)+MOD(24-MOD($A2,19)*10.63,29)-MOD(TRUNC($A2*5/4)+MOD(24-MOD($A2,19)*10.63,29)+1,7)+39 -> 45421 | C7: Christi Himmelfahrt
B8: =DATE($A2,3,28)+MOD(24-MOD($A2,19)*10.63,29)-MOD(TRUNC($A2*5/4)+MOD(24-MOD($A2,19)*10.63,29)+1,7)+50 -> 45432 | C8: Pfingstmontag
B9: =DATE($A2,10,3) -> 45568 | C9: Tag der deutschen Einheit
B10: =DATE($A2,10,31) -> 45596 | C10: Reformationstag
B11: =DATE($A2,12,25) -> 45651 | C11: 1. Weihnachtsfeiertag
B12: =DATE($A2,12,26) -> 45652 | C12: 2. Weihnachtsfeiertag
A13: =Gesamt!I1 -> 2025 | B13: =DATE($A13,1,1) -> 45658 | C13: Neujahr
B14: =DATE($A13,1,6) -> 45663 | C14: Heilige drei Könige
B15: =DATE($A13,3,28)+MOD(24-MOD($A13,19)*10.63,29)-MOD(TRUNC($A13*5/4)+MOD(24-MOD($A13,19)*10.63,29)+1,7)-2 -> 45765 | C15: Karfreitag
B16: =DATE($A13,3,28)+MOD(24-MOD($A13,19)*10.63,29)-MOD(TRUNC($A13*5/4)+MOD(24-MOD($A13,19)*10.63,29)+1,7)+1 -> 45768 | C16: Ostermontag
B17: =DATE($A13,5,1) -> 45778 | C17: Tag der Arbeit
B18: =DATE($A13,3,28)+MOD(24-MOD($A13,19)*10.63,29)-MOD(TRUNC($A13*5/4)+MOD(24-MOD($A13,19)*10.63,29)+1,7)+39 -> 45806 | C18: Christi Himmelfahrt
B19: =DATE($A13,3,28)+MOD(24-MOD($A13,19)*10.63,29)-MOD(TRUNC($A13*5/4)+MOD(24-MOD($A13,19)*10.63,29)+1,7)+50 -> 45817 | C19: Pfingstmontag
B20: =DATE($A13,10,3) -> 45933 | C20: Tag der deutschen Einheit
B21: =DATE($A13,10,31) -> 45961 | C21: Reformationstag
B22: =DATE($A13,12,25) -> 46016 | C22: 1. Weihnachtsfeiertag
B23: =DATE($A13,12,26) -> 46017 | C23: 2. Weihnachtsfeiertag
A24: =A13+1 -> 2026 | B24: =DATE($A24,1,1) -> 46023 | C24: Neujahr
B25: =DATE($A24,1,6) -> 46028 | C25: Heilige drei Könige
B26: =DATE($A24,3,28)+MOD(24-MOD($A24,19)*10.63,29)-MOD(TRUNC($A24*5/4)+MOD(24-MOD($A24,19)*10.63,29)+1,7)-2 -> 46115 | C26: Karfreitag
B27: =DATE($A24,3,28)+MOD(24-MOD($A24,19)*10.63,29)-MOD(TRUNC($A24*5/4)+MOD(24-MOD($A24,19)*10.63,29)+1,7)+1 -> 46118 | C27: Ostermontag
B28: =DATE($A24,5,1) -> 46143 | C28: Tag der Arbeit
B29: =DATE($A24,3,28)+MOD(24-MOD($A24,19)*10.63,29)-MOD(TRUNC($A24*5/4)+MOD(24-MOD($A24,19)*10.63,29)+1,7)+39 -> 46156 | C29: Christi Himmelfahrt
B30: =DATE($A24,3,28)+MOD(24-MOD($A24,19)*10.63,29)-MOD(TRUNC($A24*5/4)+MOD(24-MOD($A24,19)*10.63,29)+1,7)+50 -> 46167 | C30: Pfingstmontag
B31: =DATE($A24,10,3) -> 46298 | C31: Tag der deutschen Einheit
B32: =DATE($A24,10,31) -> 46326 | C32: Reformationstag
B33: =DATE($A24,12,25) -> 46381 | C33: 1. Weihnachtsfeiertag
B34: =DATE($A24,12,26) -> 46382 | C34: 2. Weihnachtsfeiertag
