Workbook
Name ereignis: Werte!$A$7:$A$10

Sheet Dashboard
E1: Blutdruckübersicht | H1: 2025 | I1: ** | O1: =Werte!A17 -> Mittelwerte
O2: Monat | P2: Sys | Q2: Dia | R2: Puls | S2: Sys* | T2: Dia* | U2: Puls*
O3: =Werte!A19 -> Januar | P3: =Werte!B19 -> 0.47826087 | Q3: =Werte!C19 -> 0.95652174 | R3: =Werte!D19 -> 1.4347826 | S3: =Werte!E19 -> 1.4516129 | T3: =Werte!F19 -> 0 | U3: =Werte!G19 -> 0
O4: =Werte!A20 -> Februar | P4: =Werte!B20 -> 0 | Q4: =Werte!C20 -> 0 | R4: =Werte!D20 -> 0 | S4: =Werte!E20 -> 0 | T4: =Werte!F20 -> 0 | U4: =Werte!G20 -> 0
O5: =Werte!A21 -> März | P5: =Werte!B21 -> 0 | Q5: =Werte!C21 -> 0 | R5: =Werte!D21 -> 0 | S5: =Werte!E21 -> 0 | T5: =Werte!F21 -> 0 | U5: =Werte!G21 -> 0
O6: =Werte!A22 -> April | P6: =Werte!B22 -> 0 | Q6: =Werte!C22 -> 0 | R6: =Werte!D22 -> 0 | S6: =Werte!E22 -> 0 | T6: =Werte!F22 -> 0 | U6: =Werte!G22 -> 0
O7: =Werte!A23 -> Mai | P7: =Werte!B23 -> 0 | Q7: =Werte!C23 -> 0 | R7: =Werte!D23 -> 0 | S7: =Werte!E23 -> 0 | T7: =Werte!F23 -> 0 | U7: =Werte!G23 -> 0
O8: =Werte!A24 -> Juni | P8: =Werte!B24 -> 0 | Q8: =Werte!C24 -> 0 | R8: =Werte!D24 -> 0 | S8: =Werte!E24 -> 0 | T8: =Werte!F24 -> 0 | U8: =Werte!G24 -> 0
O9: =Werte!A25 -> Juli | P9: =Werte!B25 -> 0 | Q9: =Werte!C25 -> 0 | R9: =Werte!D25 -> 0 | S9: =Werte!E25 -> 0 | T9: =Werte!F25 -> 0 | U9: =Werte!G25 -> 0
O10: =Werte!A26 -> August | P10: =Werte!B26 -> 0 | Q10: =Werte!C26 -> 0 | R10: =Werte!D26 -> 0 | S10: =Werte!E26 -> 0 | T10: =Werte!F26 -> 0 | U10: =Werte!G26 -> 0
O11: =Werte!A27 -> September | P11: =Werte!B27 -> 0 | Q11: =Werte!C27 -> 0 | R11: =Werte!D27 -> 0 | S11: =Werte!E27 -> 0 | T11: =Werte!F27 -> 0 | U11: =Werte!G27 -> 0
O12: =Werte!A28 -> Oktober | P12: =Werte!B28 -> 0 | Q12: =Werte!C28 -> 0 | R12: =Werte!D28 -> 0 | S12: =Werte!E28 -> 0 | T12: =Werte!F28 -> 0 | U12: =Werte!G28 -> 0
O13: =Werte!A29 -> November | P13: =Werte!B29 -> 0 | Q13: =Werte!C29 -> 0 | R13: =Werte!D29 -> 0 | S13: =Werte!E29 -> 0 | T13: =Werte!F29 -> 0 | U13: =Werte!G29 -> 0
O14: =Werte!A30 -> Dezember | P14: =Werte!B30 -> 0 | Q14: =Werte!C30 -> 0 | R14: =Werte!D30 -> 0 | S14: =Werte!E30 -> 0 | T14: =Werte!F30 -> 0 | U14: =Werte!G30 -> 0

Sheet Werte
A1: Blutdruckwerte | H1: kritischer Wert | K1: Feiertage | L1: Berechnung Ostern
A2: Sys | B2: 120 | C2: 128 | D2: 129 | E2: 159 | F2: 160 | G2: 180 | H2: 80 | I2: Neujahr | J2: =WEEKDAY(K2) -> 4 | K2: =DATE(Dashboard!$H$1,1,1) -> 45658 | L2: =7*ROUND((4&-Dashboard!$H$1)/7+MOD(19*MOD(Dashboard!$H$1,19)-7,30)*0.14,)-6 -> #VALUE! | M2: =WEEKDAY(L2) -> #VALUE!
A3: Dia | B3: 80 | C3: 84 | D3: 85 | E3: 99 | F3: 100 | G3: 110 | H3: 60 | I3: Heilige drei Könige | J3: =WEEKDAY(K3) -> 2 | K3: =DATE(Dashboard!$H$1,1,6) -> 45663
A4: Puls | B4: 85 | I4: Karfreitag | J4: =WEEKDAY(K4) -> #VALUE! | K4: =7*ROUND((4&-Dashboard!$H$1)/7+MOD(19*MOD(Dashboard!$H$1,19)-7,30)*0.14,)-6-2 -> #VALUE!
I5: Ostermontag | J5: =WEEKDAY(K5) -> #VALUE! | K5: =7*ROUND((4&-Dashboard!$H$1)/7+MOD(19*MOD(Dashboard!$H$1,19)-7,30)*0.14,)-6+1 -> #VALUE!
A6: Ereignisse | B6: Ereignisse_2 | I6: Tag der Arbeit | J6: =WEEKDAY(K6) -> 5 | K6: =DATE(Dashboard!$H$1,5,1) -> 45778
I7: Christi Himmelfahrt | J7: =WEEKDAY(K7) -> #VALUE! | K7: =7*ROUND((4&-Dashboard!$H$1)/7+MOD(19*MOD(Dashboard!$H$1,19)-7,30)*0.14,)-6+39 -> #VALUE!
A8: Df | B8: Durchfall | I8: Pfingstmontag | J8: =WEEKDAY(K8) -> #VALUE! | K8: =7*ROUND((4&-Dashboard!$H$1)/7+MOD(19*MOD(Dashboard!$H$1,19)-7,30)*0.14,)-6+50 -> #VALUE!
A9: Eb | B9: Erbrechen | I9: Fronleichnam | J9: =WEEKDAY(K9) -> #VALUE! | K9: =7*ROUND((4&-Dashboard!$H$1)/7+MOD(19*MOD(Dashboard!$H$1,19)-7,30)*0.14,)-6+60 -> #VALUE!
A10: Üb | B10: Übelkeit | I10: Tag der deutschen Einheit | J10: =WEEKDAY(K10) -> 6 | K10: =DATE(Dashboard!$H$1,10,3) -> 45933
I11: Allerheiligen | J11: =WEEKDAY(K11) -> 7 | K11: =DATE(Dashboard!$H$1,11,1) -> 45962
I12: 1. Weihnachtsfeiertag | J12: =WEEKDAY(K12) -> 5 | K12: =DATE(Dashboard!$H$1,12,25) -> 46016
I13: 2. Weihnachtsfeiertag | J13: =WEEKDAY(K13) -> 6 | K13: =DATE(Dashboard!$H$1,12,26) -> 46017
A17: Mittelwerte
A18: Monat | B18: Sys | C18: Dia | D18: Puls | E18: Sys* | F18: Dia* | G18: Puls*
A19: Januar | B19: =Januar!B33 -> 0.47826087 | C19: =Januar!C33 -> 0.95652174 | D19: =Januar!D33 -> 1.4347826 | E19: =Januar!E33 -> 1.4516129 | F19: =Januar!F33 -> 0 | G19: =Januar!G33 -> 0
A20: Februar | B20: =Februar!B33 -> 0 | C20: =Februar!C33 -> 0 | D20: =Februar!D33 -> 0 | E20: =Februar!E33 -> 0 | F20: =Februar!F33 -> 0 | G20: =Februar!G33 -> 0
A21: März | B21: =März!B33 -> 0 | C21: =März!C33 -> 0 | D21: =März!D33 -> 0 | E21: =März!E33 -> 0 | F21: =März!F33 -> 0 | G21: =März!G33 -> 0
A22: April | B22: =April!B32 -> 0 | C22: =April!C32 -> 0 | D22: =April!D32 -> 0 | E22: =April!E32 -> 0 | F22: =April!F32 -> 0 | G22: =April!G32 -> 0
A23: Mai | B23: =Mai!B33 -> 0 | C23: =Mai!C33 -> 0 | D23: =Mai!D33 -> 0 | E23: =Mai!E33 -> 0 | F23: =Mai!F33 -> 0 | G23: =Mai!G33 -> 0
A24: Juni | B24: =Juni!B32 -> 0 | C24: =Juni!C32 -> 0 | D24: =Juni!D32 -> 0 | E24: =Juni!E32 -> 0 | F24: =Juni!F32 -> 0 | G24: =Juni!G32 -> 0
A25: Juli | B25: =Juli!B33 -> 0 | C25: =Juli!C33 -> 0 | D25: =Juli!D33 -> 0 | E25: =Juli!E33 -> 0 | F25: =Juli!F33 -> 0 | G25: =Juli!G33 -> 0
A26: August | B26: =August!B33 -> 0 | C26: =August!C33 -> 0 | D26: =August!D33 -> 0 | E26: =August!E33 -> 0 | F26: =August!F33 -> 0 | G26: =August!G33 -> 0
A27: September | B27: =September!B32 -> 0 | C27: =September!C32 -> 0 | D27: =September!D32 -> 0 | E27: =September!E32 -> 0 | F27: =September!F32 -> 0 | G27: =September!G32 -> 0
A28: Oktober | B28: =Oktober!B33 -> 0 | C28: =Oktober!C33 -> 0 | D28: =Oktober!D33 -> 0 | E28: =Oktober!E33 -> 0 | F28: =Oktober!F33 -> 0 | G28: =Oktober!G33 -> 0
A29: November | B29: =November!B32 -> 0 | C29: =November!C32 -> 0 | D29: =November!D32 -> 0 | E29: =November!E32 -> 0 | F29: =November!F32 -> 0 | G29: =November!G32 -> 0
A30: Dezember | B30: =Dezember!B33 -> 0 | C30: =Dezember!C33 -> 0 | D30: =Dezember!D33 -> 0 | E30: =Dezember!E33 -> 0 | F30: =Dezember!F33 -> 0 | G30: =Dezember!G33 -> 0

Sheet Januar
A1: Werte Datum | B1: Sys | C1: Dia | D1: Puls | E1: Sys* | F1: Dia* | G1: Puls* | H1: Ereignis
A2: =DATE(Dashboard!$H$1,1,1) -> 45658 | B2: 11 | C2: 22 | D2: 33 | E2: 45 | F2: 0 | G2: 0
A3: =A2+1 -> 45659 | E3: 0 | F3: 0 | G3: 0
A4: =A3+1 -> 45660 | E4: 0 | F4: 0 | G4: 0
A5: =A4+1 -> 45661 | E5: 0 | F5: 0 | G5: 0
A6: =A5+1 -> 45662 | E6: 0 | F6: 0 | G6: 0
A7: =A6+1 -> 45663 | E7: 0 | F7: 0 | G7: 0
A8: =A7+1 -> 45664 | E8: 0 | F8: 0 | G8: 0
A9: =A8+1 -> 45665 | E9: 0 | F9: 0 | G9: 0
A10: =A9+1 -> 45666 | E10: 0 | F10: 0 | G10: 0
A11: =A10+1 -> 45667 | B11: 0 | C11: 0 | D11: 0 | E11: 0 | F11: 0 | G11: 0
A12: =A11+1 -> 45668 | B12: 0 | C12: 0 | D12: 0 | E12: 0 | F12: 0 | G12: 0
A13: =A12+1 -> 45669 | B13: 0 | C13: 0 | D13: 0 | E13: 0 | F13: 0 | G13: 0
A14: =A13+1 -> 45670 | B14: 0 | C14: 0 | D14: 0 | E14: 0 | F14: 0 | G14: 0
A15: =A14+1 -> 45671 | B15: 0 | C15: 0 | D15: 0 | E15: 0 | F15: 0 | G15: 0
A16: =A15+1 -> 45672 | B16: 0 | C16: 0 | D16: 0 | E16: 0 | F16: 0 | G16: 0
A17: =A16+1 -> 45673 | B17: 0 | C17: 0 | D17: 0 | E17: 0 | F17: 0 | G17: 0
A18: =A17+1 -> 45674 | B18: 0 | C18: 0 | D18: 0 | E18: 0 | F18: 0 | G18: 0
A19: =A18+1 -> 45675 | B19: 0 | C19: 0 | D19: 0 | E19: 0 | F19: 0 | G19: 0
A20: =A19+1 -> 45676 | B20: 0 | C20: 0 | D20: 0 | E20: 0 | F20: 0 | G20: 0
A21: =A20+1 -> 45677 | B21: 0 | C21: 0 | D21: 0 | E21: 0 | F21: 0 | G21: 0
A22: =A21+1 -> 45678 | B22: 0 | C22: 0 | D22: 0 | E22: 0 | F22: 0 | G22: 0
... A32: =A31+1 -> 45688 | B32: 0 | C32: 0 | D32: 0 | E32: 0 | F32: 0 | G32: 0
A33: Ergebnis | B33: =SUBTOTAL(101,Tabelle1[[Sys]]) -> 0.47826087 | C33: =SUBTOTAL(101,Tabelle1[[Dia]]) -> 0.95652174 | D33: =SUBTOTAL(101,Tabelle1[[Puls]]) -> 1.4347826 | E33: =SUBTOTAL(101,Tabelle1[[Sys*]]) -> 1.4516129 | F33: =SUBTOTAL(101,Tabelle1[[Dia*]]) -> 0 | G33: =SUBTOTAL(101,Tabelle1[[Puls*]]) -> 0

Sheet Februar
A1: Werte Datum | B1: Sys | C1: Dia | D1: Puls | E1: Sys* | F1: Dia* | G1: Puls* | H1: Ereignis2
A2: =Januar!A32+1 -> 45689 | B2: 0 | C2: 0 | D2: 0 | E2: 0 | F2: 0 | G2: 0
A3: =A2+1 -> 45690 | B3: 0 | C3: 0 | D3: 0 | E3: 0 | F3: 0 | G3: 0
A4: =A3+1 -> 45691 | B4: 0 | C4: 0 | D4: 0 | E4: 0 | F4: 0 | G4: 0
A5: =A4+1 -> 45692 | B5: 0 | C5: 0 | D5: 0 | E5: 0 | F5: 0 | G5: 0
A6: =A5+1 -> 45693 | B6: 0 | C6: 0 | D6: 0 | E6: 0 | F6: 0 | G6: 0
A7: =A6+1 -> 45694 | B7: 0 | C7: 0 | D7: 0 | E7: 0 | F7: 0 | G7: 0
A8: =A7+1 -> 45695 | B8: 0 | C8: 0 | D8: 0 | E8: 0 | F8: 0 | G8: 0
A9: =A8+1 -> 45696 | B9: 0 | C9: 0 | D9: 0 | E9: 0 | F9: 0 | G9: 0
A10: =A9+1 -> 45697 | B10: 0 | C10: 0 | D10: 0 | E10: 0 | F10: 0 | G10: 0
A11: =A10+1 -> 45698 | B11: 0 | C11: 0 | D11: 0 | E11: 0 | F11: 0 | G11: 0
A12: =A11+1 -> 45699 | B12: 0 | C12: 0 | D12: 0 | E12: 0 | F12: 0 | G12: 0
A13: =A12+1 -> 45700 | B13: 0 | C13: 0 | D13: 0 | E13: 0 | F13: 0 | G13: 0
A14: =A13+1 -> 45701 | B14: 0 | C14: 0 | D14: 0 | E14: 0 | F14: 0 | G14: 0
... A29: =A28+1 -> 45716 | B29: 0 | C29: 0 | D29: 0 | E29: 0 | F29: 0 | G29: 0
A33: Ergebnis | B33: =SUBTOTAL(101,Tabelle2[[Sys]]) -> 0 | C33: =SUBTOTAL(101,Tabelle2[[Dia]]) -> 0 | D33: =SUBTOTAL(101,Tabelle2[[Puls]]) -> 0 | E33: =SUBTOTAL(101,Tabelle2[[Sys*]]) -> 0 | F33: =SUBTOTAL(101,Tabelle2[[Dia*]]) -> 0 | G33: =SUBTOTAL(101,Tabelle2[[Puls*]]) -> 0

Sheet März
A1: Werte Datum | B1: Sys | C1: Dia | D1: Puls | E1: Sys* | F1: Dia* | G1: Puls* | H1: Ereignis2
A2: =Februar!A29+1 -> 45717 | B2: 0 | C2: 0 | D2: 0 | E2: 0 | F2: 0 | G2: 0
A3: =A2+1 -> 45718 | B3: 0 | C3: 0 | D3: 0 | E3: 0 | F3: 0 | G3: 0
A4: =A3+1 -> 45719 | B4: 0 | C4: 0 | D4: 0 | E4: 0 | F4: 0 | G4: 0
A5: =A4+1 -> 45720 | B5: 0 | C5: 0 | D5: 0 | E5: 0 | F5: 0 | G5: 0
A6: =A5+1 -> 45721 | B6: 0 | C6: 0 | D6: 0 | E6: 0 | F6: 0 | G6: 0
A7: =A6+1 -> 45722 | B7: 0 | C7: 0 | D7: 0 | E7: 0 | F7: 0 | G7: 0
A8: =A7+1 -> 45723 | B8: 0 | C8: 0 | D8: 0 | E8: 0 | F8: 0 | G8: 0
A9: =A8+1 -> 45724 | B9: 0 | C9: 0 | D9: 0 | E9: 0 | F9: 0 | G9: 0
A10: =A9+1 -> 45725 | B10: 0 | C10: 0 | D10: 0 | E10: 0 | F10: 0 | G10: 0
A11: =A10+1 -> 45726 | B11: 0 | C11: 0 | D11: 0 | E11: 0 | F11: 0 | G11: 0
A12: =A11+1 -> 45727 | B12: 0 | C12: 0 | D12: 0 | E12: 0 | F12: 0 | G12: 0
A13: =A12+1 -> 45728 | B13: 0 | C13: 0 | D13: 0 | E13: 0 | F13: 0 | G13: 0
A14: =A13+1 -> 45729 | B14: 0 | C14: 0 | D14: 0 | E14: 0 | F14: 0 | G14: 0
... A31: =A30+1 -> 45746 | B31: 0 | C31: 0 | D31: 0 | E31: 0 | F31: 0 | G31: 0
A32: =A31+1 -> 45747
A33: Ergebnis | B33: =SUBTOTAL(101,Tabelle4[[Sys]]) -> 0 | C33: =SUBTOTAL(101,Tabelle4[[Dia]]) -> 0 | D33: =SUBTOTAL(101,Tabelle4[[Puls]]) -> 0 | E33: =SUBTOTAL(101,Tabelle4[[Sys*]]) -> 0 | F33: =SUBTOTAL(101,Tabelle4[[Dia*]]) -> 0 | G33: =SUBTOTAL(101,Tabelle4[[Puls*]]) -> 0

Sheet April
A1: Werte Datum | B1: Sys | C1: Dia | D1: Puls | E1: Sys* | F1: Dia* | G1: Puls* | H1: Ereignis
A2: =März!A32+1 -> 45748 | B2: 0 | C2: 0 | D2: 0 | E2: 0 | F2: 0 | G2: 0
A3: =A2+1 -> 45749 | B3: 0 | C3: 0 | D3: 0 | E3: 0 | F3: 0 | G3: 0
A4: =A3+1 -> 45750 | B4: 0 | C4: 0 | D4: 0 | E4: 0 | F4: 0 | G4: 0
A5: =A4+1 -> 45751 | B5: 0 | C5: 0 | D5: 0 | E5: 0 | F5: 0 | G5: 0
A6: =A5+1 -> 45752 | B6: 0 | C6: 0 | D6: 0 | E6: 0 | F6: 0 | G6: 0
A7: =A6+1 -> 45753 | B7: 0 | C7: 0 | D7: 0 | E7: 0 | F7: 0 | G7: 0
A8: =A7+1 -> 45754 | B8: 0 | C8: 0 | D8: 0 | E8: 0 | F8: 0 | G8: 0
A9: =A8+1 -> 45755 | B9: 0 | C9: 0 | D9: 0 | E9: 0 | F9: 0 | G9: 0
A10: =A9+1 -> 45756 | B10: 0 | C10: 0 | D10: 0 | E10: 0 | F10: 0 | G10: 0
A11: =A10+1 -> 45757 | B11: 0 | C11: 0 | D11: 0 | E11: 0 | F11: 0 | G11: 0
A12: =A11+1 -> 45758 | B12: 0 | C12: 0 | D12: 0 | E12: 0 | F12: 0 | G12: 0
A13: =A12+1 -> 45759 | B13: 0 | C13: 0 | D13: 0 | E13: 0 | F13: 0 | G13: 0
A14: =A13+1 -> 45760 | B14: 0 | C14: 0 | D14: 0 | E14: 0 | F14: 0 | G14: 0
... A31: =A30+1 -> 45777 | B31: 0 | C31: 0 | D31: 0 | E31: 0 | F31: 0 | G31: 0
A32: Ergebnis | B32: =SUBTOTAL(101,Tabelle5[[Sys]]) -> 0 | C32: =SUBTOTAL(101,Tabelle5[[Dia]]) -> 0 | D32: =SUBTOTAL(101,Tabelle5[[Puls]]) -> 0 | E32: =SUBTOTAL(101,Tabelle5[[Sys*]]) -> 0 | F32: =SUBTOTAL(101,Tabelle5[[Dia*]]) -> 0 | G32: =SUBTOTAL(101,Tabelle5[[Puls*]]) -> 0

Sheet Mai
A1: Werte Datum | B1: Sys | C1: Dia | D1: Puls | E1: Sys* | F1: Dia* | G1: Puls* | H1: Ereignis
A2: =April!A31+1 -> 45778 | B2: 0 | C2: 0 | D2: 0 | E2: 0 | F2: 0 | G2: 0
A3: =A2+1 -> 45779 | B3: 0 | C3: 0 | D3: 0 | E3: 0 | F3: 0 | G3: 0
A4: =A3+1 -> 45780 | B4: 0 | C4: 0 | D4: 0 | E4: 0 | F4: 0 | G4: 0
A5: =A4+1 -> 45781 | B5: 0 | C5: 0 | D5: 0 | E5: 0 | F5: 0 | G5: 0
A6: =A5+1 -> 45782 | B6: 0 | C6: 0 | D6: 0 | E6: 0 | F6: 0 | G6: 0
A7: =A6+1 -> 45783 | B7: 0 | C7: 0 | D7: 0 | E7: 0 | F7: 0 | G7: 0
A8: =A7+1 -> 45784 | B8: 0 | C8: 0 | D8: 0 | E8: 0 | F8: 0 | G8: 0
A9: =A8+1 -> 45785 | B9: 0 | C9: 0 | D9: 0 | E9: 0 | F9: 0 | G9: 0
A10: =A9+1 -> 45786 | B10: 0 | C10: 0 | D10: 0 | E10: 0 | F10: 0 | G10: 0
A11: =A10+1 -> 45787 | B11: 0 | C11: 0 | D11: 0 | E11: 0 | F11: 0 | G11: 0
A12: =A11+1 -> 45788 | B12: 0 | C12: 0 | D12: 0 | E12: 0 | F12: 0 | G12: 0
A13: =A12+1 -> 45789 | B13: 0 | C13: 0 | D13: 0 | E13: 0 | F13: 0 | G13: 0
A14: =A13+1 -> 45790 | B14: 0 | C14: 0 | D14: 0 | E14: 0 | F14: 0 | G14: 0
... A32: =A31+1 -> 45808 | B32: 0 | C32: 0 | D32: 0 | E32: 0 | F32: 0 | G32: 0
A33: Ergebnis | B33: =SUBTOTAL(101,Tabelle3[[Sys]]) -> 0 | C33: =SUBTOTAL(101,Tabelle3[[Dia]]) -> 0 | D33: =SUBTOTAL(101,Tabelle3[[Puls]]) -> 0 | E33: =SUBTOTAL(101,Tabelle3[[Sys*]]) -> 0 | F33: =SUBTOTAL(101,Tabelle3[[Dia*]]) -> 0 | G33: =SUBTOTAL(101,Tabelle3[[Puls*]]) -> 0

Sheet Juni
A1: Werte Datum | B1: Sys | C1: Dia | D1: Puls | E1: Sys* | F1: Dia* | G1: Puls* | H1: Ereignis2
A2: =Mai!A32+1 -> 45809 | B2: 0 | C2: 0 | D2: 0 | E2: 0 | F2: 0 | G2: 0
A3: =A2+1 -> 45810 | B3: 0 | C3: 0 | D3: 0 | E3: 0 | F3: 0 | G3: 0
A4: =A3+1 -> 45811 | B4: 0 | C4: 0 | D4: 0 | E4: 0 | F4: 0 | G4: 0
A5: =A4+1 -> 45812 | B5: 0 | C5: 0 | D5: 0 | E5: 0 | F5: 0 | G5: 0
A6: =A5+1 -> 45813 | B6: 0 | C6: 0 | D6: 0 | E6: 0 | F6: 0 | G6: 0
A7: =A6+1 -> 45814 | B7: 0 | C7: 0 | D7: 0 | E7: 0 | F7: 0 | G7: 0
A8: =A7+1 -> 45815 | B8: 0 | C8: 0 | D8: 0 | E8: 0 | F8: 0 | G8: 0
A9: =A8+1 -> 45816 | B9: 0 | C9: 0 | D9: 0 | E9: 0 | F9: 0 | G9: 0
A10: =A9+1 -> 45817 | B10: 0 | C10: 0 | D10: 0 | E10: 0 | F10: 0 | G10: 0
A11: =A10+1 -> 45818 | B11: 0 | C11: 0 | D11: 0 | E11: 0 | F11: 0 | G11: 0
A12: =A11+1 -> 45819 | B12: 0 | C12: 0 | D12: 0 | E12: 0 | F12: 0 | G12: 0
A13: =A12+1 -> 45820 | B13: 0 | C13: 0 | D13: 0 | E13: 0 | F13: 0 | G13: 0
A14: =A13+1 -> 45821 | B14: 0 | C14: 0 | D14: 0 | E14: 0 | F14: 0 | G14: 0
... A31: =A30+1 -> 45838 | B31: 0 | C31: 0 | D31: 0 | E31: 0 | F31: 0 | G31: 0
A32: Ergebnis | B32: =SUBTOTAL(101,Tabelle6[[Sys]]) -> 0 | C32: =SUBTOTAL(101,Tabelle6[[Dia]]) -> 0 | D32: =SUBTOTAL(101,Tabelle6[[Puls]]) -> 0 | E32: =SUBTOTAL(101,Tabelle6[[Sys*]]) -> 0 | F32: =SUBTOTAL(101,Tabelle6[[Dia*]]) -> 0 | G32: =SUBTOTAL(101,Tabelle6[[Puls*]]) -> 0

Sheet Juli
A1: Werte Datum | B1: Sys | C1: Dia | D1: Puls | E1: Sys* | F1: Dia* | G1: Puls* | H1: Ereignis2
A2: =Juni!A31+1 -> 45839 | B2: 0 | C2: 0 | D2: 0 | E2: 0 | F2: 0 | G2: 0
A3: =A2+1 -> 45840 | B3: 0 | C3: 0 | D3: 0 | E3: 0 | F3: 0 | G3: 0
A4: =A3+1 -> 45841 | B4: 0 | C4: 0 | D4: 0 | E4: 0 | F4: 0 | G4: 0
A5: =A4+1 -> 45842 | B5: 0 | C5: 0 | D5: 0 | E5: 0 | F5: 0 | G5: 0
A6: =A5+1 -> 45843 | B6: 0 | C6: 0 | D6: 0 | E6: 0 | F6: 0 | G6: 0
A7: =A6+1 -> 45844 | B7: 0 | C7: 0 | D7: 0 | E7: 0 | F7: 0 | G7: 0
A8: =A7+1 -> 45845 | B8: 0 | C8: 0 | D8: 0 | E8: 0 | F8: 0 | G8: 0
A9: =A8+1 -> 45846 | B9: 0 | C9: 0 | D9: 0 | E9: 0 | F9: 0 | G9: 0
A10: =A9+1 -> 45847 | B10: 0 | C10: 0 | D10: 0 | E10: 0 | F10: 0 | G10: 0
A11: =A10+1 -> 45848 | B11: 0 | C11: 0 | D11: 0 | E11: 0 | F11: 0 | G11: 0
A12: =A11+1 -> 45849 | B12: 0 | C12: 0 | D12: 0 | E12: 0 | F12: 0 | G12: 0
A13: =A12+1 -> 45850 | B13: 0 | C13: 0 | D13: 0 | E13: 0 | F13: 0 | G13: 0
A14: =A13+1 -> 45851 | B14: 0 | C14: 0 | D14: 0 | E14: 0 | F14: 0 | G14: 0
... A32: =A31+1 -> 45869 | B32: 0 | C32: 0 | D32: 0 | E32: 0 | F32: 0 | G32: 0
A33: Ergebnis | B33: =SUBTOTAL(101,Tabelle7[[Sys]]) -> 0 | C33: =SUBTOTAL(101,Tabelle7[[Dia]]) -> 0 | D33: =SUBTOTAL(101,Tabelle7[[Puls]]) -> 0 | E33: =SUBTOTAL(101,Tabelle7[[Sys*]]) -> 0 | F33: =SUBTOTAL(101,Tabelle7[[Dia*]]) -> 0 | G33: =SUBTOTAL(101,Tabelle7[[Puls*]]) -> 0

Sheet August
A1: Werte Datum | B1: Sys | C1: Dia | D1: Puls | E1: Sys* | F1: Dia* | G1: Puls* | H1: Ereignis2
A2: =Juli!A32+1 -> 45870 | B2: 0 | C2: 0 | D2: 0 | E2: 0 | F2: 0 | G2: 0
A3: =A2+1 -> 45871 | B3: 0 | C3: 0 | D3: 0 | E3: 0 | F3: 0 | G3: 0
A4: =A3+1 -> 45872 | B4: 0 | C4: 0 | D4: 0 | E4: 0 | F4: 0 | G4: 0
A5: =A4+1 -> 45873 | B5: 0 | C5: 0 | D5: 0 | E5: 0 | F5: 0 | G5: 0
A6: =A5+1 -> 45874 | B6: 0 | C6: 0 | D6: 0 | E6: 0 | F6: 0 | G6: 0
A7: =A6+1 -> 45875 | B7: 0 | C7: 0 | D7: 0 | E7: 0 | F7: 0 | G7: 0
A8: =A7+1 -> 45876 | B8: 0 | C8: 0 | D8: 0 | E8: 0 | F8: 0 | G8: 0
A9: =A8+1 -> 45877 | B9: 0 | C9: 0 | D9: 0 | E9: 0 | F9: 0 | G9: 0
A10: =A9+1 -> 45878 | B10: 0 | C10: 0 | D10: 0 | E10: 0 | F10: 0 | G10: 0
A11: =A10+1 -> 45879 | B11: 0 | C11: 0 | D11: 0 | E11: 0 | F11: 0 | G11: 0
A12: =A11+1 -> 45880 | B12: 0 | C12: 0 | D12: 0 | E12: 0 | F12: 0 | G12: 0
A13: =A12+1 -> 45881 | B13: 0 | C13: 0 | D13: 0 | E13: 0 | F13: 0 | G13: 0
A14: =A13+1 -> 45882 | B14: 0 | C14: 0 | D14: 0 | E14: 0 | F14: 0 | G14: 0
... A32: =A31+1 -> 45900 | B32: 0 | C32: 0 | D32: 0 | E32: 0 | F32: 0 | G32: 0
A33: Ergebnis | B33: =SUBTOTAL(101,Tabelle8[[Sys]]) -> 0 | C33: =SUBTOTAL(101,Tabelle8[[Dia]]) -> 0 | D33: =SUBTOTAL(101,Tabelle8[[Puls]]) -> 0 | E33: =SUBTOTAL(101,Tabelle8[[Sys*]]) -> 0 | F33: =SUBTOTAL(101,Tabelle8[[Dia*]]) -> 0 | G33: =SUBTOTAL(101,Tabelle8[[Puls*]]) -> 0

Sheet September
A1: Werte Datum | B1: Sys | C1: Dia | D1: Puls | E1: Sys* | F1: Dia* | G1: Puls* | H1: Ereignis2
A2: =August!A32+1 -> 45901 | B2: 0 | C2: 0 | D2: 0 | E2: 0 | F2: 0 | G2: 0
A3: =A2+1 -> 45902 | B3: 0 | C3: 0 | D3: 0 | E3: 0 | F3: 0 | G3: 0
A4: =A3+1 -> 45903 | B4: 0 | C4: 0 | D4: 0 | E4: 0 | F4: 0 | G4: 0
A5: =A4+1 -> 45904 | B5: 0 | C5: 0 | D5: 0 | E5: 0 | F5: 0 | G5: 0
A6: =A5+1 -> 45905 | B6: 0 | C6: 0 | D6: 0 | E6: 0 | F6: 0 | G6: 0
A7: =A6+1 -> 45906 | B7: 0 | C7: 0 | D7: 0 | E7: 0 | F7: 0 | G7: 0
A8: =A7+1 -> 45907 | B8: 0 | C8: 0 | D8: 0 | E8: 0 | F8: 0 | G8: 0
A9: =A8+1 -> 45908 | B9: 0 | C9: 0 | D9: 0 | E9: 0 | F9: 0 | G9: 0
A10: =A9+1 -> 45909 | B10: 0 | C10: 0 | D10: 0 | E10: 0 | F10: 0 | G10: 0
A11: =A10+1 -> 45910 | B11: 0 | C11: 0 | D11: 0 | E11: 0 | F11: 0 | G11: 0
A12: =A11+1 -> 45911 | B12: 0 | C12: 0 | D12: 0 | E12: 0 | F12: 0 | G12: 0
A13: =A12+1 -> 45912 | B13: 0 | C13: 0 | D13: 0 | E13: 0 | F13: 0 | G13: 0
A14: =A13+1 -> 45913 | B14: 0 | C14: 0 | D14: 0 | E14: 0 | F14: 0 | G14: 0
... A31: =A30+1 -> 45930 | B31: 0 | C31: 0 | D31: 0 | E31: 0 | F31: 0 | G31: 0
A32: Ergebnis | B32: =SUBTOTAL(101,Tabelle9[[Sys]]) -> 0 | C32: =SUBTOTAL(101,Tabelle9[[Dia]]) -> 0 | D32: =SUBTOTAL(101,Tabelle9[[Puls]]) -> 0 | E32: =SUBTOTAL(101,Tabelle9[[Sys*]]) -> 0 | F32: =SUBTOTAL(101,Tabelle9[[Dia*]]) -> 0 | G32: =SUBTOTAL(101,Tabelle9[[Puls*]]) -> 0

Sheet Oktober
A1: Werte Datum | B1: Sys | C1: Dia | D1: Puls | E1: Sys* | F1: Dia* | G1: Puls* | H1: Ereignis2
A2: =September!A31+1 -> 45931 | B2: 0 | C2: 0 | D2: 0 | E2: 0 | F2: 0 | G2: 0
A3: =A2+1 -> 45932 | B3: 0 | C3: 0 | D3: 0 | E3: 0 | F3: 0 | G3: 0
A4: =A3+1 -> 45933 | B4: 0 | C4: 0 | D4: 0 | E4: 0 | F4: 0 | G4: 0
A5: =A4+1 -> 45934 | B5: 0 | C5: 0 | D5: 0 | E5: 0 | F5: 0 | G5: 0
A6: =A5+1 -> 45935 | B6: 0 | C6: 0 | D6: 0 | E6: 0 | F6: 0 | G6: 0
A7: =A6+1 -> 45936 | B7: 0 | C7: 0 | D7: 0 | E7: 0 | F7: 0 | G7: 0
A8: =A7+1 -> 45937 | B8: 0 | C8: 0 | D8: 0 | E8: 0 | F8: 0 | G8: 0
A9: =A8+1 -> 45938 | B9: 0 | C9: 0 | D9: 0 | E9: 0 | F9: 0 | G9: 0
A10: =A9+1 -> 45939 | B10: 0 | C10: 0 | D10: 0 | E10: 0 | F10: 0 | G10: 0
A11: =A10+1 -> 45940 | B11: 0 | C11: 0 | D11: 0 | E11: 0 | F11: 0 | G11: 0
A12: =A11+1 -> 45941 | B12: 0 | C12: 0 | D12: 0 | E12: 0 | F12: 0 | G12: 0
A13: =A12+1 -> 45942 | B13: 0 | C13: 0 | D13: 0 | E13: 0 | F13: 0 | G13: 0
A14: =A13+1 -> 45943 | B14: 0 | C14: 0 | D14: 0 | E14: 0 | F14: 0 | G14: 0
... A32: =A31+1 -> 45961 | B32: 0 | C32: 0 | D32: 0 | E32: 0 | F32: 0 | G32: 0
A33: Ergebnis | B33: =SUBTOTAL(101,Tabelle10[[Sys]]) -> 0 | C33: =SUBTOTAL(101,Tabelle10[[Dia]]) -> 0 | D33: =SUBTOTAL(101,Tabelle10[[Puls]]) -> 0 | E33: =SUBTOTAL(101,Tabelle10[[Sys*]]) -> 0 | F33: =SUBTOTAL(101,Tabelle10[[Dia*]]) -> 0 | G33: =SUBTOTAL(101,Tabelle10[[Puls*]]) -> 0

Sheet November
A1: Werte Datum | B1: Sys | C1: Dia | D1: Puls | E1: Sys* | F1: Dia* | G1: Puls* | H1: Ereignis2
A2: =Oktober!A32+1 -> 45962 | B2: 0 | C2: 0 | D2: 0 | E2: 0 | F2: 0 | G2: 0
A3: =A2+1 -> 45963 | B3: 0 | C3: 0 | D3: 0 | E3: 0 | F3: 0 | G3: 0
A4: =A3+1 -> 45964 | B4: 0 | C4: 0 | D4: 0 | E4: 0 | F4: 0 | G4: 0
A5: =A4+1 -> 45965 | B5: 0 | C5: 0 | D5: 0 | E5: 0 | F5: 0 | G5: 0
A6: =A5+1 -> 45966 | B6: 0 | C6: 0 | D6: 0 | E6: 0 | F6: 0 | G6: 0
A7: =A6+1 -> 45967 | B7: 0 | C7: 0 | D7: 0 | E7: 0 | F7: 0 | G7: 0
A8: =A7+1 -> 45968 | B8: 0 | C8: 0 | D8: 0 | E8: 0 | F8: 0 | G8: 0
A9: =A8+1 -> 45969 | B9: 0 | C9: 0 | D9: 0 | E9: 0 | F9: 0 | G9: 0
A10: =A9+1 -> 45970 | B10: 0 | C10: 0 | D10: 0 | E10: 0 | F10: 0 | G10: 0
A11: =A10+1 -> 45971 | B11: 0 | C11: 0 | D11: 0 | E11: 0 | F11: 0 | G11: 0
A12: =A11+1 -> 45972 | B12: 0 | C12: 0 | D12: 0 | E12: 0 | F12: 0 | G12: 0
A13: =A12+1 -> 45973 | B13: 0 | C13: 0 | D13: 0 | E13: 0 | F13: 0 | G13: 0
A14: =A13+1 -> 45974 | B14: 0 | C14: 0 | D14: 0 | E14: 0 | F14: 0 | G14: 0
... A31: =A30+1 -> 45991 | B31: 0 | C31: 0 | D31: 0 | E31: 0 | F31: 0 | G31: 0
A32: Ergebnis | B32: =SUBTOTAL(101,Tabelle11[[Sys]]) -> 0 | C32: =SUBTOTAL(101,Tabelle11[[Dia]]) -> 0 | D32: =SUBTOTAL(101,Tabelle11[[Puls]]) -> 0 | E32: =SUBTOTAL(101,Tabelle11[[Sys*]]) -> 0 | F32: =SUBTOTAL(101,Tabelle11[[Dia*]]) -> 0 | G32: =SUBTOTAL(101,Tabelle11[[Puls*]]) -> 0

Sheet Dezember
A1: Werte Datum | B1: Sys | C1: Dia | D1: Puls | E1: Sys* | F1: Dia* | G1: Puls* | H1: Ereignis2
A2: =November!A31+1 -> 45992 | B2: 0 | C2: 0 | D2: 0 | E2: 0 | F2: 0 | G2: 0
A3: =A2+1 -> 45993 | B3: 0 | C3: 0 | D3: 0 | E3: 0 | F3: 0 | G3: 0
A4: =A3+1 -> 45994 | B4: 0 | C4: 0 | D4: 0 | E4: 0 | F4: 0 | G4: 0
A5: =A4+1 -> 45995 | B5: 0 | C5: 0 | D5: 0 | E5: 0 | F5: 0 | G5: 0
A6: =A5+1 -> 45996 | B6: 0 | C6: 0 | D6: 0 | E6: 0 | F6: 0 | G6: 0
A7: =A6+1 -> 45997 | B7: 0 | C7: 0 | D7: 0 | E7: 0 | F7: 0 | G7: 0
A8: =A7+1 -> 45998 | B8: 0 | C8: 0 | D8: 0 | E8: 0 | F8: 0 | G8: 0
A9: =A8+1 -> 45999 | B9: 0 | C9: 0 | D9: 0 | E9: 0 | F9: 0 | G9: 0
A10: =A9+1 -> 46000 | B10: 0 | C10: 0 | D10: 0 | E10: 0 | F10: 0 | G10: 0
A11: =A10+1 -> 46001 | B11: 0 | C11: 0 | D11: 0 | E11: 0 | F11: 0 | G11: 0
A12: =A11+1 -> 46002 | B12: 0 | C12: 0 | D12: 0 | E12: 0 | F12: 0 | G12: 0
A13: =A12+1 -> 46003 | B13: 0 | C13: 0 | D13: 0 | E13: 0 | F13: 0 | G13: 0
A14: =A13+1 -> 46004 | B14: 0 | C14: 0 | D14: 0 | E14: 0 | F14: 0 | G14: 0
... A32: =A31+1 -> 46022 | B32: 0 | C32: 0 | D32: 0 | E32: 0 | F32: 0 | G32: 0
A33: Ergebnis | B33: =SUBTOTAL(101,Tabelle12[[Sys]]) -> 0 | C33: =SUBTOTAL(101,Tabelle12[[Dia]]) -> 0 | D33: =SUBTOTAL(101,Tabelle12[[Puls]]) -> 0 | E33: =SUBTOTAL(101,Tabelle12[[Sys*]]) -> 0 | F33: =SUBTOTAL(101,Tabelle12[[Dia*]]) -> 0 | G33: =SUBTOTAL(101,Tabelle12[[Puls*]]) -> 0
