Workbook

Sheet Tabelle1
B2: 45292 | C2:  | D2: Selektieren und nur die Ziffern der gezeigten Jahreszahl verändern,
D3: Nicht ein komplett neues Datum eintragen !!! (Formatverlusst)
B4:  | C4: wird sich per "Bezug" von KW Berechnung geholt
A5: KW 1 | B5: ='KW Berechnung'!E4 -> 45292 | C5: - | D5: =B5+6 -> 45298
A6: KW 2 | B6: =B5+7 -> 45299 | C6: - | D6: =D5+7 -> 45305 | E6:  | F6: Der Rest ist simple Weiterverrechnung von B5
A7: KW 3 | B7: =B6+7 -> 45306 | C7: - | D7: =D6+7 -> 45312
A8: KW 4 | B8: =B7+7 -> 45313 | C8: - | D8: =D7+7 -> 45319
A9: KW 5 | B9: =B8+7 -> 45320 | C9: - | D9: =D8+7 -> 45326
A10: KW 6 | B10: =B9+7 -> 45327 | C10: - | D10: =D9+7 -> 45333
A11: KW 7 | B11: =B10+7 -> 45334 | C11: - | D11: =D10+7 -> 45340
A12: KW 8 | B12: =B11+7 -> 45341 | C12: - | D12: =D11+7 -> 45347
A13: KW 9 | B13: =B12+7 -> 45348 | C13: - | D13: =D12+7 -> 45354
A14: KW 10 | B14: =B13+7 -> 45355 | C14: - | D14: =D13+7 -> 45361
A15: KW 11 | B15: =B14+7 -> 45362 | C15: - | D15: =D14+7 -> 45368
A16: KW 12 | B16: =B15+7 -> 45369 | C16: - | D16: =D15+7 -> 45375
A17: KW 13 | B17: =B16+7 -> 45376 | C17: - | D17: =D16+7 -> 45382
A18: KW 14 | B18: =B17+7 -> 45383 | C18: - | D18: =D17+7 -> 45389
... A56: KW 52 | B56: =B55+7 -> 45649 | C56: - | D56: =D55+7 -> 45655
A58: KW 1 n.J. | B58: =B56+7 -> 45656 | D58: =D56+7 -> 45662 | E58:  Ups, 

Sheet KW Berechnung
A4: =Tabelle1!B2-6 -> 45286 | C4: =_PMFN.ISOWEEK(A4) -> 52 | E4: =IF(C4<2,A4,IF(C5<2,A5,IF(C6<2,A6,IF(C7<2,A7,IF(C8<2,A8,IF(C9<2,A9,IF(C10<2,A10,IF(C11<2,A11,IF(C12<2,A12,IF(C13<2,A13,IF(C14<2,A14,A15))))))))))) -> 45292 | F4:  Ausgabe des ersten Tages der 1. KW
A5: =Tabelle1!B2-5 -> 45287 | C5: =_PMFN.ISOWEEK(A5) -> 52
A6: =Tabelle1!B2-4 -> 45288 | C6: =_PMFN.ISOWEEK(A6) -> 52
A7: =Tabelle1!B2-3 -> 45289 | C7: =_PMFN.ISOWEEK(A7) -> 52
A8: =Tabelle1!B2-2 -> 45290 | C8: =_PMFN.ISOWEEK(A8) -> 52
A9: =Tabelle1!B2-1 -> 45291 | C9: =_PMFN.ISOWEEK(A9) -> 52
A10: =Tabelle1!B2 -> 45292 | B10:  | C10: =_PMFN.ISOWEEK(A10) -> 1 | D10: Holt sich das zu benutzende Datum aus Tabelle 1 / Zelle B2
A11: =Tabelle1!B2+1 -> 45293 | C11: =_PMFN.ISOWEEK(A11) -> 1
A12: =Tabelle1!B2+2 -> 45294 | C12: =_PMFN.ISOWEEK(A12) -> 1
A13: =Tabelle1!B2+3 -> 45295 | C13: =_PMFN.ISOWEEK(A13) -> 1
A14: =Tabelle1!B2+4 -> 45296 | C14: =_PMFN.ISOWEEK(A14) -> 1
A15: =Tabelle1!B2+5 -> 45297 | C15: =_PMFN.ISOWEEK(A15) -> 1
C16:  | D16: Fragt nach der "zugehörigen" KW
