Workbook

Sheet Tabelle1
B2: 44927 | C2:  | D2: Selektieren und nur die Ziffern der gezeigten Jahreszahl verändern,
D3: Nicht ein komplett neues Datum eintragen !!! (Formatverlusst)
B4:  | C4: wird sich per "Bezug" von KW Berechnung geholt
A5: KW 1 | B5: ='KW Berechnung'!E4 -> 44928 | C5: - | D5: =B5+6 -> 44934
A6: KW 2 | B6: =B5+7 -> 44935 | C6: - | D6: =D5+7 -> 44941
A7: KW 3 | B7: =B6+7 -> 44942 | C7: - | D7: =D6+7 -> 44948
A8: KW 4 | B8: =B7+7 -> 44949 | C8: - | D8: =D7+7 -> 44955
A9: KW 5 | B9: =B8+7 -> 44956 | C9: - | D9: =D8+7 -> 44962
D12: Der Rest ist simple Weiterverrechnung von B5

Sheet KW Berechnung
A2:  | B2: Holt sich das zu benutzende Datum aus Tabelle 1 / Zelle B2
A3: 
A4: =Tabelle1!B2 -> 44927 | C4: =_PMFN.ISOWEEK(A4) -> 52 | E4: =IF(C4<2,A4,IF(C5<2,A5,IF(C6<2,A6,IF(C7<2,A7,IF(C8<2,A8,A9))))) -> 44928 | F4:  Ausgabe des ersten Tages der 1. KW
A5: =Tabelle1!B2+1 -> 44928 | C5: =_PMFN.ISOWEEK(A5) -> 1
A6: =Tabelle1!B2+2 -> 44929 | C6: =_PMFN.ISOWEEK(A6) -> 1
A7: =Tabelle1!B2+3 -> 44930 | C7: =_PMFN.ISOWEEK(A7) -> 1
A8: =Tabelle1!B2+4 -> 44931 | C8: =_PMFN.ISOWEEK(A8) -> 1
A9: =Tabelle1!B2+5 -> 44932 | C9: =_PMFN.ISOWEEK(A9) -> 1
C10:  | D10: Fragt nach der "zugehörigen" KW
