Workbook

Sheet Ausgabe
A1: =CONCATENATE(Eingabe!$A1,Eingabe!$B1,Eingabe!$C1,Eingabe!$D1,Eingabe!$E1) -> 10.03.1742
A2: =CONCATENATE(Eingabe!$A2,Eingabe!$B2,Eingabe!$C2,Eingabe!$D2,Eingabe!$E2) -> 07.12.1824
A3: =CONCATENATE(Eingabe!$A3,Eingabe!$B3,Eingabe!$C3,Eingabe!$D3,Eingabe!$E3) -> 01.04.1843
A4: =CONCATENATE(Eingabe!$A4,Eingabe!$B4,Eingabe!$C4,Eingabe!$D4,Eingabe!$E4)
A5: =CONCATENATE(Eingabe!$A5,Eingabe!$B5,Eingabe!$C5,Eingabe!$D5,Eingabe!$E5)
A6: =CONCATENATE(Eingabe!$A6,Eingabe!$B6,Eingabe!$C6,Eingabe!$D6,Eingabe!$E6)
A7: =CONCATENATE(Eingabe!$A7,Eingabe!$B7,Eingabe!$C7,Eingabe!$D7,Eingabe!$E7)
A8: =CONCATENATE(Eingabe!$A8,Eingabe!$B8,Eingabe!$C8,Eingabe!$D8,Eingabe!$E8)
A9: =CONCATENATE(Eingabe!$A9,Eingabe!$B9,Eingabe!$C9,Eingabe!$D9,Eingabe!$E9)
A10: =CONCATENATE(Eingabe!$A10,Eingabe!$B10,Eingabe!$C10,Eingabe!$D10,Eingabe!$E10)

Sheet Eingabe
A1: 10 | B1: =IF($A1<1," ",".") -> . | C1: 03 | D1: =IF($C1<1," ",".") -> . | E1: 1742 | F1: Ereignis 1
A2: 07 | B2: =IF($A2<1," ",".") -> . | C2: 12 | D2: =IF($C2<1," ",".") -> . | E2: 1824 | F2: Ereignis 2
A3: 01 | B3: =IF($A3<1," ",".") -> . | C3: 04 | D3: =IF($C3<1," ",".") -> . | E3: 1843 | F3: Ereignis 3
B4: =IF($A4<1," ",".") | D4: =IF($C4<1," ",".")
B5: =IF($A5<1," ",".") | D5: =IF($C5<1," ",".")
B6: =IF($A6<1," ",".") | D6: =IF($C6<1," ",".")
B7: =IF($A7<1," ",".") | D7: =IF($C7<1," ",".")
B8: =IF($A8<1," ",".") | D8: =IF($C8<1," ",".")
B9: =IF($A9<1," ",".") | D9: =IF($C9<1," ",".")
B10: =IF($A10<1," ",".") | D10: =IF($C10<1," ",".")

Sheet Parameter
A2: 01
A3: 02
A4: 03
A5: 04
A6: 05
A7: 06
A8: 07
A9: 08
A10: 09
A11: 10
A12: 11
A13: 12
A14: 13
A15: 14
A16: 15
A17: 16
A18: 17
A19: 18
A20: 19
A21: 20
A22: 21
... A32: 31
