Workbook
Name validation_list: OFFSET(#REF!,,,COUNTIF(#REF!,"?*"))

Sheet Registrierung
A1: Registrierung und Corona-Schnell-Test Besucher | L1: Aktuelles Datum: | O1: Aktuelle Uhrzeit:
L2: =NOW() -> 44192.617 | O2: =NOW() -> 44192.617
J3: Corona-Test
A4: Datum: | B4: Bewohner(in): | C4: WB | D4: Name des Besuchers: | E4: Uhrzeit Kommen | F4: Uhrzeit Gehen | G4: Symptome: | H4: Kontakt zu P. mit c19 | I4: Sonstiges: | J4: Nr: | K4: Datum: Coronatest | L4: Entnahme Uhrzeit: | M4: Uhrzeit +Datum | N4: Uhrzeit, Datum+2m | O4: Entnahme +2 Minuten | P4: Uhrzeit Umtropfen | Q4: Uhrzeit +Datum2 | R4: Uhrzeit, Datum+15m | S4: Testende | T4: Coronatest Ergebnis | U4: hz.
A5: 44177 | B5: Musterman Max | C5: =VLOOKUP(B5,Bewohner!$A$4:$C$141,3,0) -> 3 | D5: JahnelEckhart | E5: 0.67082935 | F5: 0.69420252 | G5: keine | H5: nein | I5: Spaziergang a. Haus | J5: 1261 | K5: 44177 | L5: 0.34664352 | M5: =L5+$K5 -> 44177.347 | N5: =M5+0.001388888888888 -> 44177.348 | O5: =IF(($O$2>N5),"fertig",N5-$O$2+$K5) -> fertig | P5: 0.33515046 | Q5: =P5+K5 -> 44177.335 | R5: =Q5+0.01041666666666 -> 44177.346 | S5: =IF(($O$2>R5),"fertig",R5-$O$2+$K5) -> fertig | T5: negativ | U5: sg/rh
A6: 44183 | B6: AkinGotthardt | C6: =VLOOKUP(B6,Bewohner!$A$4:$C$141,3,0) -> 1 | D6: =VLOOKUP(Tabelle3[[#This Row],[Bewohner(in):]],Besucher!A4:H444,1) -> Adamietz Caroline | E6: 0.78658565 | F6: 0.82822917 | G6: keine | H6: nein | J6: 1262 | K6: 44183 | L6: 0.82881944 | M6: =L6+$K6 -> 44183.829 | N6: =M6+0.001388888888888 -> 44183.83 | O6: =IF(($O$2>N6),"fertig",N6-$O$2+$K6) -> fertig | P6: 0.82924769 | Q6: =P6+K6 -> 44183.829 | R6: =Q6+0.01041666666666 -> 44183.84 | S6: =IF(($O$2>R6),"fertig",R6-$O$2+$K6) -> fertig | T6: negativ | U6: sg/rh
A7: 44183 | B7: Happel, Irene | C7: =VLOOKUP(B7,Bewohner!$A$4:$C$141,3,0) -> 3 | D7: BächleLuk | E7: 0.85612269 | F7: 0.8978125 | G7: keine | H7: nein | I7: Zimmer | J7: 1263 | K7: 44183 | M7: =L7+$K7 -> 44183 | N7: =M7+0.001388888888888 -> 44183.001 | O7: =IF(($O$2>N7),"fertig",N7-$O$2+$K7) -> fertig | P7: 0.35111111 | Q7: =P7+K7 -> 44183.351 | R7: =Q7+0.01041666666666 -> 44183.362 | S7: =IF(($O$2>R7),"fertig",R7-$O$2+$K7) -> fertig | T7: negativ | U7: sg/rh
A8: 44183 | B8: WeinfurtnerClaudia | C8: =VLOOKUP(B8,Bewohner!$A$4:$C$141,3,0) -> 1 | D8: AlthoffTassilo | E8: 0.47539352 | F8: 0.56944444 | G8: keine | H8: nein | J8: 1264 | K8: 44183 | M8: =L8+$K8 -> 44183 | N8: =M8+0.001388888888888 -> 44183.001 | O8: =IF(($O$2>N8),"fertig",N8-$O$2+$K8) -> fertig | P8: 0.4702662 | Q8: =P8+K8 -> 44183.47 | R8: =Q8+0.01041666666666 -> 44183.481 | S8: =IF(($O$2>R8),"fertig",R8-$O$2+$K8) -> fertig | T8: negativ | U8: sg/rh
A9: 44183 | B9: GregerBeatrix | C9: =VLOOKUP(B9,Bewohner!$A$4:$C$141,3,0) -> 3 | D9: SchedelKlothildis | E9: 0.78313657 | F9: 0.85952546 | G9: keine | H9: nein | I9: Spaziergang a. Haus | J9: 1265 | K9: 44183 | L9: 0.8599537 | M9: =L9+$K9 -> 44183.86 | N9: =M9+0.001388888888888 -> 44183.861 | O9: =IF(($O$2>N9),"fertig",N9-$O$2+$K9) -> fertig | P9: 0.85997685 | Q9: =P9+K9 -> 44183.86 | R9: =Q9+0.01041666666666 -> 44183.87 | S9: =IF(($O$2>R9),"fertig",R9-$O$2+$K9) -> fertig | T9: negativ | U9: sg/rh
A10: 44189 | B10: Lier, Lisl | C10: =VLOOKUP(B10,Bewohner!$A$4:$C$141,3,0) -> 1 | D10: AlbertIlsetraut | E10: 0.41527778 | F10: 0.43888889 | G10: keine | H10: nein | J10: 1266 | K10: 44189 | L10: 0.47081019 | M10: =L10+$K10 -> 44189.471 | N10: =M10+0.001388888888888 -> 44189.472 | O10: =IF(($O$2>N10),"fertig",N10-$O$2+$K10) -> fertig | P10: 0.4972338 | Q10: =P10+K10 -> 44189.497 | R10: =Q10+0.01041666666666 -> 44189.508 | S10: =IF(($O$2>R10),"fertig",R10-$O$2+$K10) -> fertig | T10: negativ | U10: sg/rh
A11: 44190 | B11: Lier, Lisl | C11: =VLOOKUP(B11,Bewohner!$A$4:$C$141,3,0) -> 1 | D11: SchedelKlothildis | J11: 1267 | M11: =L11+$K11 -> 0 | N11: =M11+0.001388888888888 -> 0.0013888889 | O11: =IF(($O$2>N11),"fertig",N11-$O$2+$K11) -> fertig | Q11: =P11+K11 -> 0 | R11: =Q11+0.01041666666666 -> 0.010416667 | S11: =IF(($O$2>R11),"fertig",R11-$O$2+$K11) -> fertig
C12: =VLOOKUP(B12,Bewohner!$A$4:$C$141,3,0) -> #N/A | J12: 1268 | M12: =L12+$K12 -> 0 | N12: =M12+0.001388888888888 -> 0.0013888889 | O12: =IF(($O$2>N12),"fertig",N12-$O$2+$K12) -> fertig | Q12: =P12+K12 -> 0 | R12: =Q12+0.01041666666666 -> 0.010416667 | S12: =IF(($O$2>R12),"fertig",R12-$O$2+$K12) -> fertig
C13: =VLOOKUP(B13,Bewohner!$A$4:$C$141,3,0) -> #N/A | J13: 1269 | M13: =L13+$K13 -> 0 | N13: =M13+0.001388888888888 -> 0.0013888889 | O13: =IF(($O$2>N13),"fertig",N13-$O$2+$K13) -> fertig | Q13: =P13+K13 -> 0 | R13: =Q13+0.01041666666666 -> 0.010416667 | S13: =IF(($O$2>R13),"fertig",R13-$O$2+$K13) -> fertig
C14: =VLOOKUP(B14,Bewohner!$A$4:$C$141,3,0) -> #N/A | J14: 1270 | M14: =L14+$K14 -> 0 | N14: =M14+0.001388888888888 -> 0.0013888889 | O14: =IF(($O$2>N14),"fertig",N14-$O$2+$K14) -> fertig | Q14: =P14+K14 -> 0 | R14: =Q14+0.01041666666666 -> 0.010416667 | S14: =IF(($O$2>R14),"fertig",R14-$O$2+$K14) -> fertig
C15: =VLOOKUP(B15,Bewohner!$A$4:$C$141,3,0) -> #N/A | J15: 1271 | M15: =L15+$K15 -> 0 | N15: =M15+0.001388888888888 -> 0.0013888889 | O15: =IF(($O$2>N15),"fertig",N15-$O$2+$K15) -> fertig | Q15: =P15+K15 -> 0 | R15: =Q15+0.01041666666666 -> 0.010416667 | S15: =IF(($O$2>R15),"fertig",R15-$O$2+$K15) -> fertig
C16: =VLOOKUP(B16,Bewohner!$A$4:$C$141,3,0) -> #N/A | J16: 1272 | M16: =L16+$K16 -> 0 | N16: =M16+0.001388888888888 -> 0.0013888889 | O16: =IF(($O$2>N16),"fertig",N16-$O$2+$K16) -> fertig | Q16: =P16+K16 -> 0 | R16: =Q16+0.01041666666666 -> 0.010416667 | S16: =IF(($O$2>R16),"fertig",R16-$O$2+$K16) -> fertig
C17: =VLOOKUP(B17,Bewohner!$A$4:$C$141,3,0) -> #N/A | J17: 1273 | M17: =L17+$K17 -> 0 | N17: =M17+0.001388888888888 -> 0.0013888889 | O17: =IF(($O$2>N17),"fertig",N17-$O$2+$K17) -> fertig | Q17: =P17+K17 -> 0 | R17: =Q17+0.01041666666666 -> 0.010416667 | S17: =IF(($O$2>R17),"fertig",R17-$O$2+$K17) -> fertig
C18: =VLOOKUP(B18,Bewohner!$A$4:$C$141,3,0) -> #N/A | J18: 1274 | M18: =L18+$K18 -> 0 | N18: =M18+0.001388888888888 -> 0.0013888889 | O18: =IF(($O$2>N18),"fertig",N18-$O$2+$K18) -> fertig | Q18: =P18+K18 -> 0 | R18: =Q18+0.01041666666666 -> 0.010416667 | S18: =IF(($O$2>R18),"fertig",R18-$O$2+$K18) -> fertig
C19: =VLOOKUP(B19,Bewohner!$A$4:$C$141,3,0) -> #N/A | J19: 1275 | M19: =L19+$K19 -> 0 | N19: =M19+0.001388888888888 -> 0.0013888889 | O19: =IF(($O$2>N19),"fertig",N19-$O$2+$K19) -> fertig | Q19: =P19+K19 -> 0 | R19: =Q19+0.01041666666666 -> 0.010416667 | S19: =IF(($O$2>R19),"fertig",R19-$O$2+$K19) -> fertig
C20: =VLOOKUP(B20,Bewohner!$A$4:$C$141,3,0) -> #N/A | J20: 1276 | M20: =L20+$K20 -> 0 | N20: =M20+0.001388888888888 -> 0.0013888889 | O20: =IF(($O$2>N20),"fertig",N20-$O$2+$K20) -> fertig | Q20: =P20+K20 -> 0 | R20: =Q20+0.01041666666666 -> 0.010416667 | S20: =IF(($O$2>R20),"fertig",R20-$O$2+$K20) -> fertig
C21: =VLOOKUP(B21,Bewohner!$A$4:$C$141,3,0) -> #N/A | J21: 1277 | M21: =L21+$K21 -> 0 | N21: =M21+0.001388888888888 -> 0.0013888889 | O21: =IF(($O$2>N21),"fertig",N21-$O$2+$K21) -> fertig | Q21: =P21+K21 -> 0 | R21: =Q21+0.01041666666666 -> 0.010416667 | S21: =IF(($O$2>R21),"fertig",R21-$O$2+$K21) -> fertig
C22: =VLOOKUP(B22,Bewohner!$A$4:$C$141,3,0) -> #N/A | J22: 1278 | M22: =L22+$K22 -> 0 | N22: =M22+0.001388888888888 -> 0.0013888889 | O22: =IF(($O$2>N22),"fertig",N22-$O$2+$K22) -> fertig | Q22: =P22+K22 -> 0 | R22: =Q22+0.01041666666666 -> 0.010416667 | S22: =IF(($O$2>R22),"fertig",R22-$O$2+$K22) -> fertig
C23: =VLOOKUP(B23,Bewohner!$A$4:$C$141,3,0) -> #N/A | J23: 1279 | M23: =L23+$K23 -> 0 | N23: =M23+0.001388888888888 -> 0.0013888889 | O23: =IF(($O$2>N23),"fertig",N23-$O$2+$K23) -> fertig | Q23: =P23+K23 -> 0 | R23: =Q23+0.01041666666666 -> 0.010416667 | S23: =IF(($O$2>R23),"fertig",R23-$O$2+$K23) -> fertig
... C49: =VLOOKUP(B49,Bewohner!$A$4:$C$141,3,0) -> #N/A | J49: 1305 | M49: =L49+$K49 -> 0 | N49: =M49+0.001388888888888 -> 0.0013888889 | O49: =IF(($O$2>N49),"fertig",N49-$O$2+$K49) -> fertig | Q49: =P49+K49 -> 0 | R49: =Q49+0.01041666666666 -> 0.010416667 | S49: =IF(($O$2>R49),"fertig",R49-$O$2+$K49) -> fertig
C50: =VLOOKUP(B50,Bewohner!$A$4:$C$141,3,0) -> #N/A | J50: 1306 | O50: =IF(($O$2>N50),"fertig",N50-$O$2+$K50) -> fertig | S50: =IF(($O$2>R50),"fertig",R50-$O$2+$K50) -> fertig
C51: =VLOOKUP(B51,Bewohner!$A$4:$C$141,3,0) -> #N/A | J51: 1307 | M51: =L51+$K51 -> 0 | N51: =M51+0.001388888888888 -> 0.0013888889 | O51: =IF(($O$2>N51),"fertig",N51-$O$2+$K51) -> fertig | Q51: =P51+K51 -> 0 | R51: =Q51+0.01041666666666 -> 0.010416667 | S51: =IF(($O$2>R51),"fertig",R51-$O$2+$K51) -> fertig
A52: Formatierunrg ende

Sheet Bewohner
A3: Name, Vorname: | B3: Anrede | C3: Wohnbereich:
A4: AkinGotthardt | B4: Herr | C4: 1
A5: ArendtWolfhardt | B5: Herr | C5: 4
A6: BachmannJohannes | B6: Herr | C6: 4
A7: BargMargaritta | B7: Frau | C7: 3
A8: BarschInes | B8: Frau | C8: 4
A9: BatesKriemhilde | B9: Frau | C9: 2
A10: BochFinja | B10: Frau | C10: 2
A11: BöerAnja | B11: Frau | C11: 2
A12: Bowen, Neithart | B12: Herr | C12: 1
A13: BryantCaspar | B13: Herr | C13: 4
A14: BrzoskaSigfrid | B14: Herr | C14: 4
A15: BurgertNikolas | B15: Herr | C15: 2
... A120: Yang, Arend | B120: Herr | C120: 4

Sheet Besucher
A1: Nachname Vorname | B1: Straße | C1: Hausnummer | D1: Postleitzahl | E1: Stadt | F1: Telefon | G1: Hygieneblatt erhalten | H1: Bewohner
A2: AbeleHildtraud | B2: Tulpenstraße | C2: 116 | D2: 42477 | E2: Radevormwald | F2: 02195/61640841 | G2: ja | H2: WeinfurtnerClaudia
A3: AckerHartger | B3: Kempenicher Straße | C3: 75 | D3: 91486 | E3: Uehlfeld | F3: 09163/13186356 | G3: ja | H3: WeinfurtnerClaudia
A4: Adamietz Caroline | B4: Worthstraße | C4: 74 | D4: 74597 | E4: Appensee | G4: ja | H4: RühmannAltraud
A5: Aksu Birgitt | B5: Dörner Straße | C5: 185 | D5: 56422 | E5: Wirges | G5: ja
A6: AlbertIlsetraut | B6: Hildburgstraße | C6: 11 | D6: 88149 | E6: Nonnenhorn | F6: 08382/19299211 | G6: ja
A7: AllgaierArnfred | B7: Tiroler Straße | C7: 155 | D7: 46535 | E7: Dinslaken | F7: 02064/89883960 | G7: ja
A8: Alpers Notburg | B8: Herrenheeg | C8: 166 | D8: 92559 | E8: Winklarn | F8: 09676/64548973 | G8: ja
A9: AltenburgMarvin | B9: Hagenstraße | C9: 80 | D9: 55491 | E9: Büchenbeuren | F9: 06543/83700126 | G9: ja
A10: Althoff Tassilo | B10: Im Nordfelde | C10: 152 | D10: 44799 | E10: Bochum | F10: 0234/98973669 | G10: ja | H10: Musterman, Max
A11: AmonHolmer | B11: Stieglitzweg | C11: 168b | D11: 19230 | E11: Pritzier | F11: 03883/13332836 | G11: ja
A12: ArslanAdeline | B12: Im Feldbaum | C12: 86 | D12: 41366 | E12: Waldniel | G12: ja | H12: RühmannAltraud
A13: AssmannMathilde | B13: Leuteroder Straße | C13: 21 | D13: 55481 | E13: Ober Kostenz | F13: 06763/5678997 | G13: ja
A14: AydinKathrein | B14: Winzler Straße | C14: 46 | D14: 67681 | E14: Sembach | G14: ja
A15: BachlEkkehardt | B15: Im Hardtfeld | C15: 95 | D15: 30853 | E15: Langenhagen | F15: 0511/22074044 | G15: ja
A16: BächleLuk | B16: Scheurener Straße | C16: 126 | D16: 39307 | E16: Schlagenthin | F16: 03933/29235923 | G16: ja
A17: BaileyKlaudia | B17: Heimannstraße | C17: 108 | D17: 35398 | E17: Gießen | G17: ja
A18: Bänsch Meinfried | B18: Saarstraße | C18: 182 | D18: 36217 | E18: Ronshausen | F18: 06622/27621579 | G18: ja | H18: Musterman, Max
A19: BarkerOthmar | B19: Auenweg | C19: 177 | D19: 54346 | E19: Mehring | F19: 06502/58182437 | G19: ja
A20: BastIrmgard | B20: Langenhahner Straße | C20: 44 | D20: 71336 | E20: Waiblingen | F20: 07151/62472069 | G20: ja
A21: BaumgardtDoraline | B21: Gebrüder-Grimm-Straße | C21: 100 | D21: 24848 | E21: Klein Bennebek | F21: 04624/89552669 | G21: ja
A22: BaxmannRenate | B22: Sophienthaler Straße | C22: 82 | D22: 78256 | E22: Steißlingen | G22: ja
A23: BeckEhrmut | B23: Peter-Rosegger-Straße | C23: 118 | D23: 55606 | E23: Brauweiler | G23: ja
A24: BehnckeMarliese | B24: Nienkamp | C24: 175 | D24: 47608 | E24: Geldern | G24: ja
A25: Bektas Friedeburg | B25: Schusterstraße | C25: 165 | D25: 17348 | E25: Groß Daberkow | F25: 03963/86915579 | G25: ja
A26: BellerGundela | B26: Rottstraße | C26: 71 | D26: 65558 | E26: Balduinstein | F26: 06432/28243047 | G26: ja
A27: BendixRoslinde | B27: Lenaustraße | C27: 199 | D27: 83416 | E27: Saaldorf-Surheim | G27: ja
A28: BensonSteffi | B28: Gertrudenstraße | C28: 166 | D28: 55595 | E28: Bockenau | F28: 0671/90444425 | G28: ja
A29: BerensSigbert | B29: Im Weidchen | C29: 173 | D29: 34277 | E29: Fuldabrück | F29: 0561/20265114 | G29: ja
A30: BernardTheobalda | B30: Hinter der Mühle | C30: 2 | D30: 70195 | E30: Stuttgart | F30: 0711/81473461 | G30: ja
A31: BertramAlrik | B31: Bitzenweg | C31: 131 | D31: 35287 | E31: Amöneburg | F31: 06429/7745534 | G31: ja
A32: BeutnerEmmeram | B32: Hohenfriedeberger Straße | C32: 39 | D32: 91126 | E32: Rednitzhembach | F32: 09122/59637909 | G32: ja | H32: RühmannAltraud
A33: BibergerRosl | B33: Westerfeld | C33: 13 | D33: 55270 | E33: Jugenheim | G33: ja
A34: BieberHeidelore | B34: Schmiedekamp | C34: 153 | D34: 23909 | E34: Albsfelde | F34: 04541/24849506 | G34: ja
A35: BiehlSiegenot | B35: Großberghauser Straße | C35: 144 | D35: 25832 | E35: Tönning | F35: 04861/55214433 | G35: ja
A36: BieniekKarlfrieder | B36: Wiener Neustädter Straße | C36: 45 | D36: 57627 | E36: Heuzert | F36: 02662/49039083 | G36: ja
A37: BirkleBernd | B37: Heribertstraße | C37: 147 | D37: 59368 | E37: Werne | G37: ja
A38: BlahaGislinde | B38: Prosperstraße | C38: 194 | D38: 55578 | E38: Sankt Johann | F38: 06701/89971495 | G38: ja
A39: BlankenburgGudrun | B39: Hallgarten | C39: 190 | D39: 33165 | E39: Lichtenau | F39: 05295/25970580 | G39: ja | H39: RühmannAltraud
A40: BlohmWalbert | B40: Hellendornstraße | C40: 65 | D40: 59427 | E40: Unna | F40: 02303/83404678 | G40: ja
A41: BlumensteinLayla | B41: Jakobsberg | C41: 74 | D41: 84107 | E41: Weihmichl | F41: 08708/22612972 | G41: ja
A42: BohmannRenata | B42: Opperhusener Straße | C42: 52 | D42: 56761 | E42: Kaifenheim | F42: 02653/17687784 | G42: ja
A43: BohnertMohamed | B43: Meesenstiege | C43: 104 | D43: 44809 | E43: Bochum | F43: 0234/20424043 | G43: ja | H43: RühmannAltraud
A44: BöhningGernulf | B44: Max-Küper-Straße | C44: 4 | D44: 47269 | E44: Duisburg | F44: 0203/76856678 | G44: ja
A45: BommerDagomar | B45: Welfenstraße | C45: 30 | D45: 15518 | E45: Grünheide | G45: ja
A46: BornholdtMariella | B46: Kämpchen | C46: 168 | D46: 56826 | E46: Lutzerath | F46: 02677/7799471 | G46: ja
A47: BöseElbert | B47: Ludwig-Uhland-Straße | C47: 138 | D47: 24398 | E47: Karby | F47: 04644/6889570 | G47: ja
A48: BösNina | B48: Theodor-Storm-Straße | C48: 87 | D48: 42327 | E48: Wuppertal | F48: 0202/63211814 | G48: ja
A49: BoydTara | B49: Im Trümpchen | C49: 82 | D49: 84364 | E49: Bad Birnbach | F49: 08563/62169890 | G49: ja
A50: BrachGunther | B50: Rothenberge | C50: 150 | D50: 38229 | E50: Salzgitter | F50: 05341/75589831 | G50: ja
A51: BredeArlinde | B51: Utrechter Straße | C51: 13 | D51: 29585 | E51: Jelmstorf | G51: ja
A52: BreyerRomana | B52: Ina-Seidel-Straße | C52: 84 | D52: 61273 | E52: Wehrheim | F52: 06081/47693190 | G52: ja
A53: BrockMarta | B53: Graf-Engelbert-Straße | C53: 35 | D53: 30539 | E53: Hannover | F53: 0511/79685895 | G53: ja
A54: BrombachIan | B54: Wolfsberg | C54: 27a | D54: 82285 | E54: Hattenhofen | F54: 08202/71419208 | G54: ja
A55: BrownEmelie | B55: Rechbergweg | C55: 72 | D55: 54456 | E55: Tawern | F55: 06501/73926036 | G55: ja
A56: BruneEgmont | B56: Schütte-Lanz-Straße | C56: 153 | D56: 85296 | E56: Rohrbach | G56: ja
A57: BuchnerFrank | B57: Steinbörnchenweg | C57: 132 | D57: 89568 | E57: Hermaringen | F57: 07322/77128701 | G57: ja
A58: BurgessWaldfried | B58: Rosendahler Straße | C58: 119 | D58: 76889 | E58: Niederotterbach | F58: 06343/83848388 | G58: ja
A59: BurggrafHannemarie | B59: Sensenbacher Straße | C59: 116 | D59: 30175 | E59: Hannover | G59: ja
A60: BurkartDorchen | B60: Seilandstraße | C60: 45 | D60: 21516 | E60: Woltersdorf | G60: ja
A61: BüschelOttheinz | B61: Wolfgangstraße | C61: 139 a | D61: 79235 | E61: Vogtsburg | G61: ja
A62: BuschMalve | B62: Schweizer Straße | C62: 149 | D62: 25469 | E62: Halstenbek | F62: 04101/81211745 | G62: ja
A63: CasperHannsgeorg | B63: Katharinenstraße | C63: 109 | D63: 25836 | E63: Poppenbüll | F63: 04862/99034760 | G63: ja
A64: CopelandChristhard | B64: Große Wiese | C64: 140 | D64: 76872 | E64: Freckenfeld | F64: 07275/24204745 | G64: ja
A65: CortezTheodor | B65: Kringelweg | C65: 89 | D65: 37217 | E65: Witzenhausen | F65: 05542/43742048 | G65: ja
A66: DahlmannKathrein | B66: Pastor-Wigger-Straße | C66: 53 | D66: 46325 | E66: Borken | F66: 02861/95687002 | G66: ja
A67: DankerManja | B67: Bernburger Straße | C67: 99 | D67: 72074 | E67: Tübingen | F67: 07071/40249231 | G67: ja
A68: DanneckerEckbert | B68: Felkestraße | C68: 21 | D68: 74679 | E68: Weißbach | G68: ja
A69: DellerSiegfried | B69: Bergeswiese | C69: 155 | D69: 24803 | E69: Tielen | F69: 04883/91023901 | G69: ja
A70: DenkDetlef | B70: Am Lutterbach | C70: 197 | D70: 55494 | E70: Mörschbach | G70: ja
A71: DenkerNordrun | B71: Enggasse | C71: 173 | D71: 72361 | E71: Hausen am Tann | F71: 07436/44787378 | G71: ja
A72: DethlefsAnrich | B72: Geranienstraße | C72: 19 | D72: 54317 | E72: Herl | F72: 0651/2144723 | G72: ja
A73: DibbernErhardt | B73: Dunkerhofstraße | C73: 37 | D73: 69518 | E73: Mackenheim | F73: 06207/77731229 | G73: ja
A74: DiedrichIsfried | B74: Florianstraße | C74: 82 | D74: 72175 | E74: Dornhan | F74: 07455/27363948 | G74: ja
A75: DiedrichsenSigbert | B75: Kapitän-Straßer-Straße | C75: 75 | D75: 38124 | E75: Braunschweig | G75: ja
A76: DiekmannRaimund | B76: Grüne Gasse | C76: 53 | D76: 27321 | E76: Wulmstorf | F76: 04204/60760432 | G76: ja
A77: DillmannLona | B77: Am Nubbenberg | C77: 132 | D77: 86666 | E77: Burgheim | G77: ja
A78: DinseAlinde | B78: Schelmenbühl | C78: 81 | D78: 79219 | E78: Staufen | F78: 07633/59943251 | G78: ja
A79: DixMarita | B79: Maasweg | C79: 102 | D79: 47443 | E79: Moers | F79: 02841/20060299 | G79: ja
A80: DonatKarsta | B80: Im Bungert | C80: 12 | D80: 26427 | E80: Stedesdorf | F80: 04971/8089946 | G80: ja
A81: DornerMargareta | B81: Nürburger Weg | C81: 165 | D81: 48720 | E81: Rosendahl | F81: 02547/78376529 | G81: ja
A82: DoseMoritz | B82: Uhlandstraße | C82: 183 | D82: 27367 | E82: Reeßum | F82: 04264/78689005 | G82: ja
A83: DrechslerRamona | B83: Siedlerstraße | C83: 174 b | D83: 25884 | E83: Sollwitt | F83: 04843/88448629 | G83: ja
A84: DreierEvi | B84: St.-Martin-Straße | C84: 169 | D84: 56862 | E84: Pünderich | F84: 06542/93289587 | G84: ja
A85: DrögeTheolinde | B85: Auf dem Hüttenbaum | C85: 58 | D85: 79677 | E85: Aitern | F85: 07673/53421417 | G85: ja
A86: DröseMiguel | B86: Willy-Arndt-Straße | C86: 116 | D86: 66887 | E86: Bosenbach | F86: 06385/76838165 | G86: ja
A87: DudekThaddäus | B87: Friesentalstraße | C87: 96 | D87: 29413 | E87: Langenapel | F87: 03902/2581077 | G87: ja
A88: DufnerHeinzpeter | B88: Mahrstraße | C88: 84 | D88: 80337 | E88: München | F88: 089/264806 | G88: ja
A89: DworschakMariella | B89: Am grauen Stein | C89: 146 | D89: 91575 | E89: Windsbach | G89: ja
A90: EckeDorlies | B90: Graflinger Straße | C90: 18 | D90: 83471 | E90: Schönau am Königssee | F90: 08652/1999080 | G90: ja
A91: EcklSigward | B91: Rabenweg | C91: 89 | D91: 44536 | E91: Lünen | G91: ja
A92: EdelmannRegelinde | B92: Xantener Straße | C92: 36 | D92: 89613 | E92: Grundsheim | F92: 07357/33049684 | G92: ja
A93: EggersEckbert | B93: Am Kammrädchen | C93: 12 | D93: 55490 | E93: Woppenroth | F93: 06763/39805502 | G93: ja
A94: EhmkeMiguel | B94: Nußbaumstraße | C94: 5 | D94: 44328 | E94: Dortmund | F94: 0231/13121221 | G94: ja
A95: EichhornHelen | B95: Lübecker Straße | C95: 99 | D95: 44227 | E95: Dortmund | F95: 0231/75781885 | G95: ja
A96: EichmannCordt | B96: Herdegenstraße | C96: 157 | D96: 47198 | E96: Homberg | G96: ja
A97: EichmannTorsten | B97: Zweite Straße | C97: 116 | D97: 78247 | E97: Hilzingen | G97: ja
A98: EichstädtFriedeborg | B98: Schulberg | C98: 173 | D98: 36433 | E98: Bad Salzungen | F98: 03695/83781660 | G98: ja
A99: EifertHertha | B99: Zechenweg | C99: 180 | D99: 8062 | E99: Zwickau | F99: 0375/43092455 | G99: ja
A100: Eisenberg Borka | B100: Freienfels | C100: 171 | D100: 72582 | E100: Grabenstetten | G100: ja
...

Sheet sonstiges
