Workbook

Sheet Tabelle1
A1: Name | B1: Zahlungsbeginn | C1: mtl. Rate | D1: Anz. Raten | E1: 1. Jahr | F1: 2. Jahr | G1: 3. Jahr | H1: 4. Jahr | I1: Hilfsspalte1 | J1: Hilfsspalte2 | K1: Hilfsspalte3
A2: Mustermann | B2: 44013 | C2: 100 | D2: 36 | E2: =$C2*$I2 -> 600 | F2: =IF($K3>=$C$2*12,$C$2*12,$K3) -> 1200 | G2: =IF($K4>=$C$2*12,$C$2*12,$K4) -> 1200 | H2: =IF($K5>=$C$2*12,$C$2*12,$K5) -> 1200 | I2: =IF(ISBLANK($B2),"",VLOOKUP(J2,'Raten p.a.'!A1:B12,2,TRUE)) -> 6 | J2: =IF(ISBLANK($B2),"",$B2) -> 44013 | K2: =IF(ISBLANK($B2),"",$C2*$D2) -> 3600
I3: =IF(ISBLANK($B3),"",VLOOKUP(J3,'Raten p.a.'!A2:B13,2,TRUE)) | J3: =IF(ISBLANK($B3),"",$B3) | K3: =IF(($K2-E$2)>0,$K2-E$2,0) -> 3000
I4: =IF(ISBLANK($B4),"",VLOOKUP(J4,'Raten p.a.'!A3:B14,2,TRUE)) | J4: =IF(ISBLANK($B4),"",$B4) | K4: =IF(($K3-E$2)>0,$K3-E$2,0) -> 2400
I5: =IF(ISBLANK($B5),"",VLOOKUP(J5,'Raten p.a.'!A4:B15,2,TRUE)) | J5: =IF(ISBLANK($B5),"",$B5) | K5: =IF(($K4-E$2)>0,$K4-E$2,0) -> 1800
I6: =IF(ISBLANK($B6),"",VLOOKUP(J6,'Raten p.a.'!A5:B16,2,TRUE)) | J6: =IF(ISBLANK($B6),"",$B6) | K6: =IF(($K5-E$2)>0,$K5-E$2,0) -> 1200
I7: =IF(ISBLANK($B7),"",VLOOKUP(J7,'Raten p.a.'!A6:B17,2,TRUE)) | J7: =IF(ISBLANK($B7),"",$B7) | K7: =IF(($K6-E$2)>0,$K6-E$2,0) -> 600
I8: =IF(ISBLANK($B8),"",VLOOKUP(J8,'Raten p.a.'!A7:B18,2,TRUE)) | J8: =IF(ISBLANK($B8),"",$B8) | K8: =IF(($K7-E$2)>0,$K7-E$2,0) -> 0
I9: =IF(ISBLANK($B9),"",VLOOKUP(J9,'Raten p.a.'!A8:B19,2,TRUE)) | J9: =IF(ISBLANK($B9),"",$B9) | K9: =IF(($K8-E$2)>0,$K8-E$2,0) -> 0
I10: =IF(ISBLANK($B10),"",VLOOKUP(J10,'Raten p.a.'!A9:B20,2,TRUE)) | J10: =IF(ISBLANK($B10),"",$B10) | K10: =IF(($K9-E$2)>0,$K9-E$2,0) -> 0
I11: =IF(ISBLANK($B11),"",VLOOKUP(J11,'Raten p.a.'!A10:B21,2,TRUE)) | J11: =IF(ISBLANK($B11),"",$B11) | K11: =IF(($K10-E$2)>0,$K10-E$2,0) -> 0
I12: =IF(ISBLANK($B12),"",VLOOKUP(J12,'Raten p.a.'!A11:B22,2,TRUE)) | J12: =IF(ISBLANK($B12),"",$B12) | K12: =IF(($K11-E$2)>0,$K11-E$2,0) -> 0
I13: =IF(ISBLANK($B13),"",VLOOKUP(J13,'Raten p.a.'!A12:B23,2,TRUE)) | J13: =IF(ISBLANK($B13),"",$B13) | K13: =IF(($K12-E$2)>0,$K12-E$2,0) -> 0
I14: =IF(ISBLANK($B14),"",VLOOKUP(J14,'Raten p.a.'!A13:B24,2,TRUE)) | J14: =IF(ISBLANK($B14),"",$B14) | K14: =IF(($K13-E$2)>0,$K13-E$2,0) -> 0
... I18: =IF(ISBLANK($B18),"",VLOOKUP(J18,'Raten p.a.'!A17:B28,2,TRUE)) | J18: =IF(ISBLANK($B18),"",$B18) | K18: =IF(($K17-E$2)>0,$K17-E$2,0) -> 0
I19: =IF(ISBLANK($B19),"",VLOOKUP(J19,'Raten p.a.'!A18:B29,2,TRUE)) | J19: =IF(ISBLANK($B19),"",$B19)
I20: =IF(ISBLANK($B20),"",VLOOKUP(J20,'Raten p.a.'!A19:B30,2,TRUE)) | J20: =IF(ISBLANK($B20),"",$B20)
I21: =IF(ISBLANK($B21),"",VLOOKUP(J21,'Raten p.a.'!A20:B31,2,TRUE)) | J21: =IF(ISBLANK($B21),"",$B21)
I22: =IF(ISBLANK($B22),"",VLOOKUP(J22,'Raten p.a.'!A21:B32,2,TRUE)) | J22: =IF(ISBLANK($B22),"",$B22)
I23: =IF(ISBLANK($B23),"",VLOOKUP(J23,'Raten p.a.'!A22:B33,2,TRUE)) | J23: =IF(ISBLANK($B23),"",$B23)

Sheet Raten p.a.
A1: 43831 | B1: 12
A2: 43862 | B2: 11
A3: 43891 | B3: 10
A4: 43922 | B4: 9
A5: 43952 | B5: 8
A6: 43983 | B6: 7
A7: 44013 | B7: 6
A8: 44044 | B8: 5
A9: 44075 | B9: 4
A10: 44105 | B10: 3
A11: 44136 | B11: 2
A12: 44166 | B12: 1
