Workbook

Sheet Rasseverzeichnis
B1: Rasse | C1: Farbe | D1: Erbformel | E1: Erbformel2 | F1: Anmerkungen
A2: Große Rassen
A3: 1 | B3: Deutsche Riesen | C3: wildfarben | D3: ABCDG | E3: ABCDG
A4: 2 | B4: Deutsche Riesen | C4: dunkelgrau | D4: ABCDG | E4: ABCDG
A5: 3 | B5: Deutsche Riesen | C5: eisengrau | D5: ABeCDG | E5: ABCDG | F5: Reinerbig eisengraue Tiere erscheinen schwarz
A6: 4 | B6: Deutsche Riesen | C6: hasenfarbig | D6: ABCDGy1,y2 | E6: ABCDGy1,y2
A7: 5 | B7: Deutsche Riesen | C7: schwarz | D7: ABCDg | E7: ABCDg
A8: 6 | B8: Deutsche Riesen | C8: blau | D8: =Tabelle2!$L$9 -> ABCdg | E8: =Tabelle2!$L$9 -> ABCdg
A9: 7 | B9: Deutsche Riesen | C9: blaugrau | D9: ABCdG | E9: =Tabelle2!$L$9 -> ABCdg
A10: 8 | B10: Deutsche Riesen | C10: gelb | D10: AbCDG | E10: =Tabelle2!$L$9 -> ABCdg
A11: 9 | B11: Deutsche Riesen | C11: chinchillafarbig | D11: achiBCDG | E11: =Tabelle2!$L$9 -> ABCdg
A12: 10 | B12: Deutsche Riesen | C12: weiß | D12: a... | E12: =Tabelle2!$L$9 -> ABCdg
A13: 11 | B13: Deutsche Riesenschecken | C13: schwarz-weiß | D13: ABCDgK | E13: =Tabelle2!$L$9 -> ABCdg | F13: Reinerbige Schecken sind nicht überlebensfähig
A14: 12 | B14: Deutsche Riesenschecken | C14: blau-weiß | D14: ABCdgK | E14: =Tabelle2!$L$9 -> ABCdg
A15: 13 | B15: Deutsche Riesenschecken | C15: havannafarbig-weiß | D15: ABcDgK | E15: =Tabelle2!$L$9 -> ABCdg
A16: 14 | B16: Deutsche Widder | C16: wildfarben | D16: ABCDG | E16: =Tabelle2!$L$9 -> ABCdg
A17: 15 | B17: Deutsche Widder | C17: dunkelgrau | D17: ABCDG | E17: =Tabelle2!$L$9 -> ABCdg
A18: 16 | B18: Deutsche Widder | C18: eisengrau | D18: ABeCDG | E18: =Tabelle2!$L$9 -> ABCdg | F18: Reinerbig eisengraue Tiere erscheinen schwarz
A19: 17 | B19: Deutsche Widder | C19: hasenfarbig | D19: ABCDGy1,y2 | E19: =Tabelle2!$L$9 -> ABCdg
A20: 18 | B20: Deutsche Widder | C20: schwarz | D20: ABCdg | E20: =Tabelle2!$L$9 -> ABCdg
A21: 19 | B21: Deutsche Widder | C21: blau | D21: =Tabelle2!$L$9 -> ABCdg | E21: =Tabelle2!$L$9 -> ABCdg
A22: 20 | B22: Deutsche Widder | C22: blaugrau | D22: ABCdG | E22: ABCdG
A23: 21 | B23: Deutsche Widder | C23: rot | D23: AbCDGy1,y2 | E23: AbCDGy1,y2
A24: 22 | B24: Deutsche Widder | C24: luxfarbig | D24: ABcdG | E24: ABcdG
A25: 23 | B25: Deutsche Widder | C25: gelb | D25: AbCDG | E25: AbCDG
A26: 24 | B26: Deutsche Widder | C26: fehfarbig | D26: ABcdg | E26: ABcdg
A27: 25 | B27: Deutsche Widder | C27: weiß RA | D27: a... | E27: a... | F27: Albino
A28: 26 | B28: Deutsche Widder | C28: weiß BlA | D28: A...x | E28: A...x
A29: 27 | B29: Deutsche Widder | C29: chinchillafarbig | D29: achiBCDG | E29: achiBCDG | F29: Teilalbino
A30: 28 | B30: Deutsche Widder | C30: havannafarbig | D30: ABcDg | E30: ABcDg
A31: 29 | B31: Deutsche Widder | C31: thüringerfarbig | D31: AbCDg | E31: AbCDg
A32: 30 | B32: Deutsche Widder | C32: wildfarben-weiß | D32: ABCDGK | E32: ABCDGk
A33: 31 | B33: Deutsche Widder | C33: dunkelgrau-weiß | D33: ABCDGK | E33: ABCDGk
A34: 32 | B34: Deutsche Widder | C34: eisengrau-weiß | D34: ABeCDGK | E34: ABCDGk
A35: 33 | B35: Deutsche Widder | C35: hasenfarbig-weiß | D35: ABCDGK | E35: ABCDGk
A36: 34 | B36: Deutsche Widder | C36: schwarz-weiß | D36: ABCDgK | E36: ABCDgk
A37: 35 | B37: Deutsche Widder | C37: blau-weiß | D37: ABCdgK | E37: ABCdgk
A38: 36 | B38: Deutsche Widder | C38: blaugrau-weiß | D38: ABCdGK | E38: ABCdGk
A39: 37 | B39: Deutsche Widder | C39: rot-weiß | D39: AbCDGy1,y2K | E39: AbCDGy1,y2k
A40: 38 | B40: Deutsche Widder | C40: luxfarbig-weiß | D40: ABcdGK | E40: ABcdGK
A41: 39 | B41: Deutsche Widder | C41: gelb-weiß | D41: ABcDGK | E41: ABcDGk | F41: Reinerbige Schecken sind nicht überlebensfähig
A42: 40 | B42: Deutsche Widder | C42: chinchillafarbig-weiß | D42: achiBCDGK | E42: achiBCDGK | F42: Teilalbino
A43: 41 | B43: Deutsche Widder | C43: havannafarbig-weiß | D43: ABcDgK | E43: AbcDgk
A44: 42 | B44: Deutsche Widder | C44: thüringerfarbig-weiß | D44: AbCDgK | E44: AbCDgk
A45: 43 | B45: Deutsche Widder | C45: fehfarbig-weiß | D45: ABcdg | E45: ABcdg
A46: Mittegroße Rassen
A47: 44 | B47: Meißner Widder | C47: schwarzsilber | D47: ABCDgP | E47: ABCDgP
A48: 45 | B48: Meißner Widder | C48: blausilber | D48: ABCDgP | E48: ABCDgP
A49: 46 | B49: Meißner Widder | C49: graubraunsilber | D49: ABCDGP | E49: ABCDGP
A50: 47 | B50: Meißner Widder | C50: gelbsilber | D50: AbCDGP | E50: AbCDGP
A51: 48 | B51: Meißner Widder | C51: havannasilber | D51: ABcDgP | E51: ABcDgP
A52: 49 | B52: Helle Großsilber | C52: hellsilber | D52: ABCDgP | E52: ABCDgP
A53: 50 | B53: Champagne-Silberkaninchen | C53: hellsilber | D53: ABCDgP | E53: ABCDgP
A54: 51 | B54: Großchinchilla | C54: chinchillafarbig
A55: 52 | B55: Mecklenburger Schecken | C55: wildfarben-weiß | D55: ABCDGK | E55: ABCDGk
A56: 53 | B56: Mecklenburger Schecken | C56: dunkelgrau-weiß | D56: ABCDGK | E56: ABCDGk
A57: 54 | B57: Mecklenburger Schecken | C57: eisengrau-weiß | D57: ABeCDGK | E57: ABCDGk
A58: 55 | B58: Mecklenburger Schecken | C58: schwarz-weiß | D58: ABCDgK | E58: ABCDgk
A59: 56 | B59: Mecklenburger Schecken | C59: blau-weiß | D59: ABCdgK | E59: ABCdgk
A60: 57 | B60: Mecklenburger Schecken | C60: rot-weiß | D60: AbCDGy1,y2K | E60: AbCDGy1,y2k
A61: 58 | B61: Mecklenburger Schecken | C61: thüringerfarbig-weiß | D61: AbCDgK | E61: AbCDgk
A62: 59 | B62: Englische Widder | C62: wildfarben | D62: ABCDG | E62: ABCDG
A63: 60 | B63: Englische Widder | C63: dunkelgrau | D63: ABCDG | E63: ABCDG
A64: 61 | B64: Englische Widder | C64: eisengrau | D64: ABeCDG | E64: ABCDG | F64: Reinerbig eisengraue Tiere erscheinen schwarz
A65: 62 | B65: Englische Widder | C65: hasenfarbig | D65: ABCDGy1,y2 | E65: ABCDGy1,y2
A66: 63 | B66: Englische Widder | C66: schwarz | D66: ABCDg | E66: ABCDg
A67: 64 | B67: Englische Widder | C67: blau | D67: =Tabelle2!$L$9 -> ABCdg | E67: =Tabelle2!$L$9 -> ABCdg
A68: 65 | B68: Englische Widder | C68: blaugrau | D68: ABCdG | E68: ABCdG
A69: 66 | B69: Englische Widder | C69: rot | D69: AbCDGy1,y2 | E69: AbCDGy1,y2
A70: 67 | B70: Englische Widder | C70: gelb | D70: AbCDG | E70: AbCDG
A71: 68 | B71: Englische Widder | C71: luxfarbig | D71: ABcdG | E71: ABcdG
A72: 69 | B72: Englische Widder | C72: chinchillafarbig | D72: achiBCDGK | E72: achiBCDGK | F72: Teilalbino
A73: 70 | B73: Englische Widder | C73: havannafarbig | D73: ABcDg | E73: ABcDg
A74: 71 | B74: Englische Widder | C74: fehfarbig | D74: ABcdg | E74: ABcdg
A75: 72 | B75: Englische Widder | C75: weiß RA | D75: a... | E75: a...
A76: 73 | B76: Englische Widder | C76: weiß BlA | D76: A...x | E76: A...x
A77: 74 | B77: Englische Widder | C77: thüringerfarbig | D77: AbCDg | E77: AbCDg
A78: 75 | B78: Englische Widder | C78: wildfarben-weiß | D78: ABCDGK | E78: ABCDgk
A79: 76 | B79: Englische Widder | C79: dunkelgrau-weiß | D79: ABCDGK | E79: ABCDGk
A80: 77 | B80: Englische Widder | C80: eisengrau-weiß | D80: ABeCDGK | E80: ABCDGk
A81: 78 | B81: Englische Widder | C81: hasenfarbig-weiß | D81: ABCDGK | E81: ABCDGk
A82: 79 | B82: Englische Widder | C82: blaugrau-weiß | D82: ABCdGK | E82: ABCdGk
A83: 80 | B83: Englische Widder | C83: schwarz-weiß | D83: ABCDgK | E83: ABCDgk
A84: 81 | B84: Englische Widder | C84: blau-weiß | D84: ABCdgK | E84: ABCdgk
... A87: 84 | B87: Englische Widder | C87: luxfarbig-weiß | D87: ABcdGK | E87: ABcdGk
A88: 85 | B88: Englische Widder | C88: chinchillafarbig-weiß | D88: achiBCDGK | E88: achiBCDGK | F88: Teilalbino
A89: 86 | B89: Englische Widder | C89: havannafarbig-weiß | D89: AbCDgK | E89: AbCDgK
A90: 87 | B90: Englische Widder | C90: thüringerfarbig-weiß | D90: AbCDgK | E90: AbCDgk
A91: 88 | B91: Englische Widder | C91: fehfarbig-weiß | D91: ABcdgK | E91: ABcdgk
A92: 89 | B92: Deutsche Großsilber | C92: schwarz | D92: ABCDgP | E92: ABCDgP
A93: 90 | B93: Deutsche Großsilber | C93: blau | D93: =Tabelle2!L24 -> ABCdgP | E93: ABCDgP
A94: 91 | B94: Deutsche Großsilber | C94: havannafarbig | D94: ABcDgP | E94: ABcDgP
A95: 92 | B95: Deutsche Großsilber | C95: gelb | D95: AbCDGP | E95: AbCDGP
A96: 93 | B96: Deutsche Großsilber | C96: graubraun | D96: ABCDGP | E96: ABCDGP
A97: 94 | B97: Burgunder | C97: rot | D97: AbCDGy1,y2 | E97: AbCDGy1,y2
A98: 95 | B98: Blaue Wiener | C98: blau | D98: =Tabelle2!$L$9 -> ABCdg | E98: =Tabelle2!$L$9 -> ABCdg
A99: 96 | B99: Blaugraue Wiener | C99: blaugrau | D99: ABCdG | E99: ABCdG
A100: 97 | B100: Schwarze Wiener | C100: schwarz | D100: ABCDg | E100: ABCDg
A101: 98 | B101: Weiße Wiener | C101: weiß BlA | D101: A...x | E101: A...x
A102: 99 | B102: Graue Wiener | C102: wildfarben | D102: ABCDG | E102: ABCDG
...

Sheet Vererbung
A2: Eltern (P) | B2: ♂ | D2: ♀ | F2: Hier ist die Krux, dass es viele Redundanzen gibt und ich nicht weiß, wie ich die auflösen kann.
A3: Rasse | B3: Drehfeld: Rasseverzeichnis Spalte B | D3: Drehfeld: Rasseverzeichnis Spalte B
B4: Drehfeld: Rasseverzeichnis Spalte C | D4: Drehfeld: Rasseverzeichnis Spalte C
B5: wenn, in :Rasseverzeichnis SpalteB, Zeile Sowieso, und in:Rasseverzeichnis SpalteC, Zeile Sowieso, dann gib mir den Inhalt der Zelle rechts neben Rasseverzeichnis SpalteC, Zeile Sowieso aus | D5: Dito,nur eine Spalte weiter nach rechts
A7: Kinder (F1) | B7: =B5 -> wenn, in :Rasseverzeichnis SpalteB, Zeile Sowieso, und in:Rasseverzeichnis SpalteC, Zeile Sowieso, dann gib mir den Inhalt der Zelle rechts neben Rasseverzeichnis SpalteC, Zeile Sowieso aus
B8: =D5 -> Dito,nur eine Spalte weiter nach rechts
A10: Ne4ukombination | B10: Und das, was ich eigentlich suche: B7 und B8 vergleichen und die möglichen, neuen Kombinationen ausgeben | E10: Die Anzahl wird durch die Anzahl der Buchstaben betimmt, tiefgestellte Buchstaben gehören zum Buchstaben davor.-
A11: 1
A12: 2
A13: 3
A14: 4
A15: 5
A16: 6
A17: 7
B19: Die Matrix ist eigentlich nur das Stapeln, der neuen Kombinationen

Sheet Neukombinationsmatrix
B5: ♀ | C5: 1 | D5: 2 | E5: 3 | F5: 4 | G5: 5 | H5: 6 | I5: 7
B6: ♂ | C6: =IF(ISBLANK(Vererbung!$B$11),"",Vererbung!$B$11) | D6: =IF(ISBLANK(Vererbung!$B$12),"",Vererbung!$B$12) | E6: =IF(ISBLANK(Vererbung!$B$13),"",Vererbung!$B$13) | F6: =IF(ISBLANK(Vererbung!$B$14),"",Vererbung!$B$14) | G6: =IF(ISBLANK(Vererbung!$B$15),"",Vererbung!$B$15) | H6: =IF(ISBLANK(Vererbung!$B$16),"",Vererbung!$B$16) | I6: =IF(ISBLANK(Vererbung!$B$17),"",Vererbung!$B$17)
C7: =IF(ISBLANK($C$6),"",$C$6) | D7: =IF(ISBLANK($D$6),"",$D$6) | E7: =IF(ISBLANK($E$6),"",$E$6) | F7: =IF(ISBLANK($F$6),"",$F$6) | G7: =IF(ISBLANK($G$6),"",$G$6) | H7: =IF(ISBLANK($H$6),"",$H$6) | I7: =IF(ISBLANK($I$6),"",$I$6)
A8: 1 | B8: =IF(ISBLANK(Vererbung!$B$11),"",Vererbung!$B$11) | C8: =IF(ISBLANK($B$8),"",$B$8) | D8: =IF(ISBLANK($B$8),"",$B$8) | E8: =IF(ISBLANK($B$8),"",$B$8) | F8: =IF(ISBLANK($B$8),"",$B$8) | G8: =IF(ISBLANK($B$8),"",$B$8) | H8: =IF(ISBLANK($B$8),"",$B$8) | I8: =IF(ISBLANK($B$8),"",$B$8)
C9: =IF(ISBLANK($C$6),"",$C$6) | D9: =IF(ISBLANK($D$6),"",$D$6) | E9: =IF(ISBLANK($E$6),"",$E$6) | F9: =IF(ISBLANK($F$6),"",$F$6) | G9: =IF(ISBLANK($G$6),"",$G$6) | H9: =IF(ISBLANK($H$6),"",$H$6) | I9: =IF(ISBLANK($I$6),"",$I$6)
A10: 2 | B10: =IF(ISBLANK(Vererbung!$B$12),"",Vererbung!$B$12) | C10: =IF(ISBLANK($B$10),"",$B$10) | D10: =IF(ISBLANK($B$8),"",$B$8) | E10: =IF(ISBLANK($B$8),"",$B$8) | F10: =IF(ISBLANK($B$8),"",$B$8) | G10: =IF(ISBLANK($B$8),"",$B$8) | H10: =IF(ISBLANK($B$8),"",$B$8) | I10: =IF(ISBLANK($B$8),"",$B$8)
C11: =IF(ISBLANK($C$6),"",$C$6) | D11: =IF(ISBLANK($D$6),"",$D$6) | E11: =IF(ISBLANK($E$6),"",$E$6) | F11: =IF(ISBLANK($F$6),"",$F$6) | G11: =IF(ISBLANK($G$6),"",$G$6) | H11: =IF(ISBLANK($H$6),"",$H$6) | I11: =IF(ISBLANK($I$6),"",$I$6)
A12: 3 | B12: =IF(ISBLANK(Vererbung!$B$13),"",Vererbung!$B$13) | C12: =IF(ISBLANK($B$12),"",$B$12) | D12: =IF(ISBLANK($B$12),"",$B$12) | E12: =IF(ISBLANK($B$12),"",$B$12) | F12: =IF(ISBLANK($B$12),"",$B$12) | G12: =IF(ISBLANK($B$12),"",$B$12) | H12: =IF(ISBLANK($B$12),"",$B$12) | I12: =IF(ISBLANK($B$12),"",$B$12)
C13: =IF(ISBLANK($C$6),"",$C$6) | D13: =IF(ISBLANK($D$6),"",$D$6) | E13: =IF(ISBLANK($E$6),"",$E$6) | F13: =IF(ISBLANK($F$6),"",$F$6) | G13: =IF(ISBLANK($G$6),"",$G$6) | H13: =IF(ISBLANK($H$6),"",$H$6) | I13: =IF(ISBLANK($I$6),"",$I$6)
A14: 4 | B14: =IF(ISBLANK(Vererbung!$B$14),"",Vererbung!$B$14) | C14: =IF(ISBLANK($B$14),"",$B$14) | D14: =IF(ISBLANK($B$14),"",$B$14) | E14: =IF(ISBLANK($B$14),"",$B$14) | F14: =IF(ISBLANK($B$14),"",$B$14) | G14: =IF(ISBLANK($B$14),"",$B$14) | H14: =IF(ISBLANK($B$14),"",$B$14) | I14: =IF(ISBLANK($B$14),"",$B$14)
C15: =IF(ISBLANK($C$6),"",$C$6) | D15: =IF(ISBLANK($D$6),"",$D$6) | E15: =IF(ISBLANK($E$6),"",$E$6) | F15: =IF(ISBLANK($F$6),"",$F$6) | G15: =IF(ISBLANK($G$6),"",$G$6) | H15: =IF(ISBLANK($H$6),"",$H$6) | I15: =IF(ISBLANK($I$6),"",$I$6)
A16: 5 | B16: =IF(ISBLANK(Vererbung!$B$15),"",Vererbung!$B$15) | C16: =IF(ISBLANK($B$16),"",$B$16) | D16: =IF(ISBLANK($B$16),"",$B$16) | E16: =IF(ISBLANK($B$16),"",$B$16) | F16: =IF(ISBLANK($B$16),"",$B$16) | G16: =IF(ISBLANK($B$16),"",$B$16) | H16: =IF(ISBLANK($B$16),"",$B$16) | I16: =IF(ISBLANK($B$16),"",$B$16)
C17: =IF(ISBLANK($C$6),"",$C$6) | D17: =IF(ISBLANK($D$6),"",$D$6) | E17: =IF(ISBLANK($E$6),"",$E$6) | F17: =IF(ISBLANK($F$6),"",$F$6) | G17: =IF(ISBLANK($G$6),"",$G$6) | H17: =IF(ISBLANK($H$6),"",$H$6) | I17: =IF(ISBLANK($I$6),"",$I$6)
A18: 6 | B18: =IF(ISBLANK(Vererbung!$B$16),"",Vererbung!$B$16) | C18: =IF(ISBLANK($B$18),"",$B$18) | D18: =IF(ISBLANK($B$18),"",$B$18) | E18: =IF(ISBLANK($B$18),"",$B$18) | F18: =IF(ISBLANK($B$18),"",$B$18) | G18: =IF(ISBLANK($B$18),"",$B$18) | H18: =IF(ISBLANK($B$18),"",$B$18) | I18: =IF(ISBLANK($B$18),"",$B$18)
C19: =IF(ISBLANK($C$6),"",$C$6) | D19: =IF(ISBLANK($D$6),"",$D$6) | E19: =IF(ISBLANK($E$6),"",$E$6) | F19: =IF(ISBLANK($F$6),"",$F$6) | G19: =IF(ISBLANK($G$6),"",$G$6) | H19: =IF(ISBLANK($H$6),"",$H$6) | I19: =IF(ISBLANK($I$6),"",$I$6)
A20: 7 | B20: =IF(ISBLANK(Vererbung!$B$17),"",Vererbung!$B$17) | C20: =IF(ISBLANK($B$20),"",$B$20) | D20: =IF(ISBLANK($B$20),"",$B$20) | E20: =IF(ISBLANK($B$20),"",$B$20) | F20: =IF(ISBLANK($B$20),"",$B$20) | G20: =IF(ISBLANK($B$20),"",$B$20) | H20: =IF(ISBLANK($B$20),"",$B$20) | I20: =IF(ISBLANK($B$20),"",$B$20)

Sheet Tabelle2
D1: Farbe | E1: Erbfornel 1 | M1: Erbfornel 2
A2: Merkmal | B2: Erbfaktor | D2: Weiß-Rotaugen | E2: a | F2: . | G2: . | H2: . | L2: =E2&F2&G2&H2&I2&J2&K2 -> a... | M2: a | N2: . | O2: . | P2: . | T2: =M2&N2&O2&P2&Q2&R2&S2 -> a...
A3: Holländer | B3: s | D3: Weiß-Blauaugen | E3: A | F3: . | G3: . | H3: . | I3: x | L3: =E3&F3&G3&H3&I3&J3&K3 -> A...x | M3: A | N3: . | O3: . | P3: . | Q3: x | T3: =M3&N3&O3&P3&Q3&R3&S3 -> A...x
A4: Mantelschecke | B4: k | D4: wildfarben | E4: A | F4: B | G4: C | H4: D | I4: G | L4: =E4&F4&G4&H4&I4&J4&K4 -> ABCDG | M4: A | N4: B | O4: C | P4: D | Q4: G | T4: =M4&N4&O4&P4&Q4&R4&S4 -> ABCDG
A5: Rex | B5: rex | D5: dunkelgrau | E5: A | F5: B | G5: C | H5: D | I5: G | L5: =E5&F5&G5&H5&I5&J5&K5 -> ABCDG | M5: A | N5: B | O5: C | P5: D | Q5: G | T5: =M5&N5&O5&P5&Q5&R5&S5 -> ABCDG
A6: Satin | B6: sa | D6: eisengrau | E6: A | F6: Be | G6: C | H6: D | I6: G | L6: =E6&F6&G6&H6&I6&J6&K6 -> ABeCDG | M6: A | N6: B | O6: C | P6: D | Q6: G | T6: =M6&N6&O6&P6&Q6&R6&S6 -> ABCDG
A7: Angora | B7: v | D7: hasenfarbig | E7: A | F7: B | G7: C | H7: D | I7: G | J7: y1,2,... | L7: =E7&F7&G7&H7&I7&J7&K7 -> ABCDGy1,2,... | M7: A | N7: B | O7: C | P7: D | Q7: G | R7: y1,2,... | T7: =M7&N7&O7&P7&Q7&R7&S7 -> ABCDGy1,2,...
A8: Fuchs | B8: fu | D8: schwarz | E8: A | F8: B | G8: C | H8: D | I8: g | L8: =E8&F8&G8&H8&I8&J8&K8 -> ABCDg | M8: A | N8: B | O8: C | P8: D | Q8: g | T8: =M8&N8&O8&P8&Q8&R8&S8 -> ABCDg
A9: Gelbverstärker | B9: y | D9: blau | E9: A | F9: B | G9: C | H9: d | I9: g | L9: =E9&F9&G9&H9&I9&J9&K9 -> ABCdg | M9: A | N9: B | O9: C | P9: d | Q9: g | T9: =M9&N9&O9&P9&Q9&R9&S9 -> ABCdg
A10: Farbig | B10: A | D10: gelb | E10: A | F10: b | G10: C | H10: D | I10: G | L10: =E10&F10&G10&H10&I10&J10&K10 -> AbCDG | M10: A | N10: b | O10: C | P10: D | Q10: G | T10: =M10&N10&O10&P10&Q10&R10&S10 -> AbCDG
A11: Albino | B11: a | D11: rot | E11: A | F11: b | G11: C | H11: D | I11: G | J11: y1,2,... | L11: =E11&F11&G11&H11&I11&J11&K11 -> AbCDGy1,2,... | M11: A | N11: b | O11: C | P11: D | Q11: G | R11: y1,2,... | T11: =M11&N11&O11&P11&Q11&R11&S11 -> AbCDGy1,2,...
A12: Teilalbinos | B12: achi, am, an | D12: chinchillafarbig | E12: achi | F12: B | G12: C | H12: D | I12: G | L12: =E12&F12&G12&H12&I12&J12&K12 -> achiBCDG | M12: achi | N12: B | O12: C | P12: D | Q12: G | T12: =M12&N12&O12&P12&Q12&R12&S12 -> achiBCDG
A13: Farbfaktoren | B13: B,C,D,b,c,d | D13: havannafarbig | E13: A | F13: b | G13: C | H13: D | I13: g | L13: =E13&F13&G13&H13&I13&J13&K13 -> AbCDg | M13: A | N13: b | O13: C | P13: D | Q13: g | T13: =M13&N13&O13&P13&Q13&R13&S13 -> AbCDg
A14: Wildfarbigkeit | B14: G | D14: fehfarbig | E14: A | F14: B | G14: c | H14: d | I14: g | L14: =E14&F14&G14&H14&I14&J14&K14 -> ABcdg | M14: A | N14: B | O14: c | P14: d | Q14: g | T14: =M14&N14&O14&P14&Q14&R14&S14 -> ABcdg
A15: Nichtwildfarbig | B15: g | D15: perlfehfarbig | E15: A | F15: B | G15: C | H15: d | I15: G | L15: =E15&F15&G15&H15&I15&J15&K15 -> ABCdG | M15: A | N15: B | O15: C | P15: d | Q15: G | T15: =M15&N15&O15&P15&Q15&R15&S15 -> ABCdG
A16: Loh | B16: g(o) | D16: thüringerfarbig | E16: A | F16: b | G16: C | H16: D | I16: g | L16: =E16&F16&G16&H16&I16&J16&K16 -> AbCDg | M16: A | N16: b | O16: C | P16: D | Q16: g | T16: =M16&N16&O16&P16&Q16&R16&S16 -> AbCDg
D17: luxfarbig | E17: A | F17: B | G17: c | H17: d | I17: G | L17: =E17&F17&G17&H17&I17&J17&K17 -> ABcdG | M17: A | N17: B | O17: c | P17: d | Q17: G | T17: =M17&N17&O17&P17&Q17&R17&S17 -> ABcdG
D18: hototfarbig | E18: A | F18: B | G18: C | H18: D | I18: g | J18: K | K18: s | L18: =E18&F18&G18&H18&I18&J18&K18 -> ABCDgKs | M18: A | N18: B | O18: C | P18: D | Q18: g | R18: k | S18: s | T18: =M18&N18&O18&P18&Q18&R18&S18 -> ABCDgks
D19: rhönfarbig | E19: a(chi) | F19: b(j) | G19: C | H19: D | I19: g | L19: =E19&F19&G19&H19&I19&J19&K19 -> a(chi)b(j)CDg | M19: a(chi) | N19: b(j) | O19: C | P19: D | Q19: g | T19: =M19&N19&O19&P19&Q19&R19&S19 -> a(chi)b(j)CDg
D20: japanerfarbig | E20: A | F20: b(j) | G20: C | H20: D | I20: g | L20: =E20&F20&G20&H20&I20&J20&K20 -> Ab(j)CDg | M20: A | N20: b(j) | O20: C | P20: D | Q20: g | T20: =M20&N20&O20&P20&Q20&R20&S20 -> Ab(j)CDg
D21: separatorfarbig (sandfarbig) | E21: A | F21: b | G21: c | H21: d | I21: g | L21: =E21&F21&G21&H21&I21&J21&K21 -> Abcdg | M21: A | N21: b | O21: c | P21: d | Q21: g | T21: =M21&N21&O21&P21&Q21&R21&S21 -> Abcdg
D22: deilenaarfarbig | E22: A | F22: B | G22: C | H22: D | I22: G | J22: y1,2,... | L22: =E22&F22&G22&H22&I22&J22&K22 -> ABCDGy1,2,... | M22: A | N22: B | O22: C | P22: D | Q22: G | R22: y1,2,... | T22: =M22&N22&O22&P22&Q22&R22&S22 -> ABCDGy1,2,...
D23: schwarzsilber | E23: A | F23: B | G23: C | H23: D | I23: g | J23: P | L23: =E23&F23&G23&H23&I23&J23&K23 -> ABCDgP | M23: A | N23: B | O23: C | P23: D | Q23: g | R23: P | T23: =M23&N23&O23&P23&Q23&R23&S23 -> ABCDgP
D24: blausilber | E24: A | F24: B | G24: C | H24: d | I24: g | J24: P | L24: =E24&F24&G24&H24&I24&J24&K24 -> ABCdgP | M24: A | N24: B | O24: C | P24: d | Q24: g | R24: P | T24: =M24&N24&O24&P24&Q24&R24&S24 -> ABCdgP
D25: graubraunsilber | E25: A | F25: B | G25: c | H25: D | I25: g | J25: P | L25: =E25&F25&G25&H25&I25&J25&K25 -> ABcDgP | M25: A | N25: B | O25: c | P25: D | Q25: g | R25: P | T25: =M25&N25&O25&P25&Q25&R25&S25 -> ABcDgP
D26: gelbsilber | E26: A | F26: b | G26: C | H26: D | I26: G | J26: P | L26: =E26&F26&G26&H26&I26&J26&K26 -> AbCDGP | M26: A | N26: b | O26: C | P26: D | Q26: G | R26: P | T26: =M26&N26&O26&P26&Q26&R26&S26 -> AbCDGP
D27: hellsilber | E27: A | F27: B | G27: C | H27: D | I27: g | J27: P | L27: =E27&F27&G27&H27&I27&J27&K27 -> ABCDgP | M27: A | N27: B | O27: C | P27: D | Q27: g | R27: P | T27: =M27&N27&O27&P27&Q27&R27&S27 -> ABCDgP
D28: havannasilber | E28: A | F28: B | G28: c | H28: D | I28: g | J28: P | L28: =E28&F28&G28&H28&I28&J28&K28 -> ABcDgP | M28: A | N28: B | O28: c | P28: D | Q28: g | R28: P | T28: =M28&N28&O28&P28&Q28&R28&S28 -> ABcDgP
D29: lohfarbig schwarz | E29: A | F29: B | G29: C | H29: D | I29: g(o) | L29: =E29&F29&G29&H29&I29&J29&K29 -> ABCDg(o) | M29: A | N29: B | O29: C | P29: D | Q29: g(o) | T29: =M29&N29&O29&P29&Q29&R29&S29 -> ABCDg(o)
D30: lohfarbig blau | E30: A | F30: B | G30: C | H30: d | I30: g(o) | L30: =E30&F30&G30&H30&I30&J30&K30 -> ABCdg(o) | M30: A | N30: B | O30: C | P30: d | Q30: g(o) | T30: =M30&N30&O30&P30&Q30&R30&S30 -> ABCdg(o)
D31: lohfarbig havannafarbig | E31: A | F31: B | G31: c | H31: D | I31: g(o) | L31: =E31&F31&G31&H31&I31&J31&K31 -> ABcDg(o) | M31: A | N31: B | O31: c | P31: D | Q31: g(o) | T31: =M31&N31&O31&P31&Q31&R31&S31 -> ABcDg(o)
D32: lohfarbig fehfarbig | E32: A | F32: B | G32: c | H32: d | I32: g(o) | L32: =E32&F32&G32&H32&I32&J32&K32 -> ABcdg(o) | M32: A | N32: B | O32: c | P32: d | Q32: g(o) | T32: =M32&N32&O32&P32&Q32&R32&S32 -> ABcdg(o)
D33: marderfarbig blau | E33: a(m) | F33: B | G33: C | H33: d | I33: g | L33: =E33&F33&G33&H33&I33&J33&K33 -> a(m)BCdg | M33: a(n) | N33: B | O33: C | P33: d | Q33: g | T33: =M33&N33&O33&P33&Q33&R33&S33 -> a(n)BCdg
D34: marderfarbig braun | E34: a(m) | F34: B | G34: C | H34: D | I34: g | L34: =E34&F34&G34&H34&I34&J34&K34 -> a(m)BCDg | M34: a(n) | N34: B | O34: C | P34: D | Q34: g | T34: =M34&N34&O34&P34&Q34&R34&S34 -> a(n)BCDg
D35: russenfarbig schwarz | E35: a(n) | F35: B | G35: C | H35: D | I35: g | L35: =E35&F35&G35&H35&I35&J35&K35 -> a(n)BCDg | M35: a(n) | N35: B | O35: C | P35: D | Q35: g | T35: =M35&N35&O35&P35&Q35&R35&S35 -> a(n)BCDg
D36: russenfarbig blau | E36: a(n) | F36: B | G36: C | H36: d | I36: g | L36: =E36&F36&G36&H36&I36&J36&K36 -> a(n)BCdg | M36: a(n) | N36: B | O36: C | P36: d | Q36: g | T36: =M36&N36&O36&P36&Q36&R36&S36 -> a(n)BCdg
D37: siamesenfarbig blau | E37: a(m) | F37: b | G37: C | H37: D | I37: g | L37: =E37&F37&G37&H37&I37&J37&K37 -> a(m)bCDg | M37: a(n) | N37: b | O37: C | P37: D | Q37: g | T37: =M37&N37&O37&P37&Q37&R37&S37 -> a(n)bCDg
D38: siamesenfarbig gelb | E38: a(m) | F38: b | G38: C | H38: D | I38: g | L38: =E38&F38&G38&H38&I38&J38&K38 -> a(m)bCDg | M38: a(n) | N38: b | O38: C | P38: D | Q38: g | T38: =M38&N38&O38&P38&Q38&R38&S38 -> a(n)bCDg
D39: holländer wildfarben | E39: A | F39: B | G39: C | H39: D | I39: G | J39: s | L39: =E39&F39&G39&H39&I39&J39&K39 -> ABCDGs | M39: A | N39: B | O39: C | P39: D | Q39: G | R39: s | T39: =M39&N39&O39&P39&Q39&R39&S39 -> ABCDGs
D40: holländer eisengrau | E40: A | F40: B | G40: C | H40: D | I40: G | J40: s | L40: =E40&F40&G40&H40&I40&J40&K40 -> ABCDGs | M40: A | N40: B | O40: C | P40: D | Q40: G | R40: s | T40: =M40&N40&O40&P40&Q40&R40&S40 -> ABCDGs
D41: holländer dunkelgrau | E41: A | F41: B | G41: C | H41: D | I41: G | J41: s | L41: =E41&F41&G41&H41&I41&J41&K41 -> ABCDGs | M41: A | N41: B | O41: C | P41: D | Q41: G | R41: s | T41: =M41&N41&O41&P41&Q41&R41&S41 -> ABCDGs
D42: holländer schwarz | E42: A | F42: B | G42: C | H42: D | I42: g | J42: s | L42: =E42&F42&G42&H42&I42&J42&K42 -> ABCDgs | M42: A | N42: B | O42: C | P42: D | Q42: g | R42: s | T42: =M42&N42&O42&P42&Q42&R42&S42 -> ABCDgs
D43: holländer blau | E43: A | F43: B | G43: C | H43: d | I43: g | J43: s | L43: =E43&F43&G43&H43&I43&J43&K43 -> ABCdgs | M43: A | N43: B | O43: C | P43: d | Q43: g | R43: s | T43: =M43&N43&O43&P43&Q43&R43&S43 -> ABCdgs
D44: holländer gelb | E44: A | F44: b | G44: C | H44: D | I44: G | J44: s | L44: =E44&F44&G44&H44&I44&J44&K44 -> AbCDGs | M44: A | N44: b | O44: C | P44: D | Q44: G | R44: s | T44: =M44&N44&O44&P44&Q44&R44&S44 -> AbCDGs
D45: holländer chinchillafarbig | E45: a(chi) | F45: B | G45: C | H45: D | I45: G | J45: s | L45: =E45&F45&G45&H45&I45&J45&K45 -> a(chi)BCDGs | M45: a(chi) | N45: B | O45: C | P45: D | Q45: G | R45: s | T45: =M45&N45&O45&P45&Q45&R45&S45 -> a(chi)BCDGs
D46: holländer havannafarbig | E46: A | F46: B | G46: c | H46: D | I46: g | J46: s | L46: =E46&F46&G46&H46&I46&J46&K46 -> ABcDgs | M46: A | N46: B | O46: c | P46: D | Q46: g | R46: s | T46: =M46&N46&O46&P46&Q46&R46&S46 -> ABcDgs
D47: holländer fehfarbig-weiß | E47: A | F47: B | G47: c | H47: d | I47: g | J47: s | L47: =E47&F47&G47&H47&I47&J47&K47 -> ABcdgs | M47: A | N47: B | O47: c | P47: d | Q47: g | R47: s | T47: =M47&N47&O47&P47&Q47&R47&S47 -> ABcdgs
D48: holländer thüringerfarbig | E48: A | F48: b | G48: C | H48: D | I48: g | J48: s | L48: =E48&F48&G48&H48&I48&J48&K48 -> AbCDgs | M48: A | N48: b | O48: C | P48: D | Q48: g | R48: s | T48: =M48&N48&O48&P48&Q48&R48&S48 -> AbCDgs
D49: holländer japanerfarbig | E49: A | F49: b | G49: C | H49: D | I49: g | J49: s | L49: =E49&F49&G49&H49&I49&J49&K49 -> AbCDgs | M49: A | N49: b | O49: C | P49: D | Q49: g | R49: s | T49: =M49&N49&O49&P49&Q49&R49&S49 -> AbCDgs
D50: schwarzgrannenfarbig | E50: a(chi) | F50: b | G50: C | H50: D | I50: G | L50: =E50&F50&G50&H50&I50&J50&K50 -> a(chi)bCDG | M50: a(chi) | N50: b | O50: C | P50: D | Q50: G | T50: =M50&N50&O50&P50&Q50&R50&S50 -> a(chi)bCDG
D51: weißgrannenfarbig schwarz | E51: a(chi) | F51: B | G51: C | H51: D | I51: g(o) | L51: =E51&F51&G51&H51&I51&J51&K51 -> a(chi)BCDg(o) | M51: a(chi) | N51: B | O51: C | P51: D | Q51: g(o) | T51: =M51&N51&O51&P51&Q51&R51&S51 -> a(chi)BCDg(o)
D52: weißgrannenfarbig blau | E52: a(chi) | F52: B | G52: C | H52: d | I52: g(o) | L52: =E52&F52&G52&H52&I52&J52&K52 -> a(chi)BCdg(o) | M52: a(chi) | N52: B | O52: C | P52: d | Q52: g(o) | T52: =M52&N52&O52&P52&Q52&R52&S52 -> a(chi)BCdg(o)
D53: weißgrannenfarbig havannaf | E53: a(chi) | F53: B | G53: C | H53: d | I53: g(o) | L53: =E53&F53&G53&H53&I53&J53&K53 -> a(chi)BCdg(o) | M53: a(chi) | N53: B | O53: C | P53: d | Q53: g(o) | T53: =M53&N53&O53&P53&Q53&R53&S53 -> a(chi)BCdg(o)
D54: mantelgescheckt schwarz | E54: A | F54: b | G54: C | H54: D | I54: g | J54: K | L54: =E54&F54&G54&H54&I54&J54&K54 -> AbCDgK | M54: A | N54: b | O54: C | P54: D | Q54: g | R54: k | T54: =M54&N54&O54&P54&Q54&R54&S54 -> AbCDgk
D55: mantelgescheckt blau | E55: A | F55: B | G55: C | H55: d | I55: g | J55: K | L55: =E55&F55&G55&H55&I55&J55&K55 -> ABCdgK | M55: A | N55: B | O55: C | P55: d | Q55: g | R55: k | T55: =M55&N55&O55&P55&Q55&R55&S55 -> ABCdgk
D56: mantelgescheckt japanerfarbig | E56: A | F56: b(j) | G56: C | H56: D | I56: g | J56: K | L56: =E56&F56&G56&H56&I56&J56&K56 -> Ab(j)CDgK | M56: A | N56: bj | O56: C | P56: D | Q56: g | R56: k | T56: =M56&N56&O56&P56&Q56&R56&S56 -> AbjCDgk
D57: Rex
D58: dalmatinerfarbig sepiabraun | J58: rex | R58: rex
D59: dalmatinerfarbig dreifarbig | E59: A | F59: b(j) | G59: C | H59: D | I59: g | J59: rex | M59: A | N59: b(j) | O59: C | P59: D | Q59: g | R59: rex
D60: gelb | J60: rex | R60: rex
D61: castorfarbig | J61: rex | R61: rex
D62: schwarz | E62: A | F62: B | G62: C | H62: D | I62: g | J62: rex | M62: A | N62: B | O62: C | P62: D | Q62: g | R62: rex
D63: havanna | E63: A | F63: b | G63: C | H63: D | I63: g | J63: rex | M63: A | N63: b | O63: C | P63: D | Q63: g | R63: rex
D64: blaugrau | J64: rex | R64: rex
D65: rhönfarbig | J65: rex | R65: rex
D66: japanerfarbig | J66: rex | R66: rex
D67: fehfarbig | J67: rex | R67: rex
D68: luxfarbig | J68: rex | R68: rex
D69: lohfarbig schwarz | J69: rex | R69: rex
D70: lohfarbig blau | J70: rex | R70: rex
D71: lohfarbig havannafarbig | J71: rex | R71: rex
D72: lohfarbig fehfarbig | J72: rex | R72: rex
D73: marderfarbig blau | J73: rex | R73: rex
D74: marderfarbig braun | J74: rex | R74: rex
D75: schwarzgrannenfarbig | J75: rex | R75: rex
... D98: russenfarbig blau-weiß | J98: rex | R98: rex
D99: dreifarbenschecken | J99: K | K99: rex | R99: k | S99: rex
D100: dalmatiner schwarz-weiß | E100: A | F100: B | G100: C | H100: D | I100: g | J100: K | K100: rex | M100: A | N100: B | O100: C | P100: D | Q100: g | R100: k | S100: rex
D101: dalmatiner blau-weiß | E101: A | F101: B | G101: C | H101: d | I101: g | J101: K | K101: rex | R101: k | S101: rex
D102: dalmatiner havannafarbig-we | E102: A | F102: b | G102: C | H102: D | I102: g | J102: K | K102: rex | M102: A | N102: b | O102: C | P102: D | Q102: g | R102: k | S102: rex
D103: dalmatinerfarbig sepiabraun- | J103: K | K103: rex | R103: k | S103: rex
D104: dalmatiner dreifarbig | E104: A | F104: b(j) | G104: C | H104: D | I104: g | J104: K | K104: rex | M104: A | N104: b(j) | O104: C | P104: D | Q104: g | R104: k | S104: rex
