Workbook

Sheet Rasseverzeichnis
B1: Rasse | C1: Farbe | D1: Erbformel | E1: Erbformel2 | F1: Anmerkungen
A2: 1 | B2: Deutsche Riesen | C2: wildfarben | D2: ABCDG | E2: ABCDG
A3: 2 | B3: Deutsche Riesen | C3: dunkelgrau | D3: ABCDG | E3: ABCDG
A4: 3 | B4: Deutsche Riesen | C4: eisengrau | D4: ABeCDG | E4: ABCDG | F4: Reinerbig eisengraue Tiere erscheinen schwarz
A5: 4 | B5: Deutsche Riesen | C5: hasenfarbig | D5: ABCDGy1,y2 | E5: ABCDGy1,y2
A6: 5 | B6: Deutsche Riesen | C6: schwarz | D6: ABCDg | E6: ABCDg
A7: 6 | B7: Deutsche Riesen | C7: blau | D7: ABCdg | E7: ABCdg
A8: 7 | B8: Deutsche Riesen | C8: blaugrau | D8: ABCdG | E8: ABCdG
A9: 8 | B9: Deutsche Riesen | C9: gelb | D9: AbCDG | E9: AbCDG
A10: 9 | B10: Deutsche Riesen | C10: chinchillafarbig | D10: achiBCDG | E10: achiBCDG
A11: 10 | B11: Deutsche Riesen | C11: weiß | D11: a... | E11: a...
A12: 11 | B12: Deutsche Riesenschecken | C12: schwarz-weiß | D12: ABCDgK | E12: ABCDgk | F12: Reinerbige Schecken sind nicht überlebensfähig
A13: 12 | B13: Deutsche Riesenschecken | C13: blau-weiß | D13: ABCdgK | E13: ABCdgk
A14: 13 | B14: Deutsche Riesenschecken | C14: havannafarbig-weiß | D14: ABcDgK | E14: ABcDgk
A15: 14 | B15: Deutsche Widder | C15: wildfarben | D15: ABCDG | E15: ABCDG
A16: 15 | B16: Deutsche Widder | C16: dunkelgrau | D16: ABCDG | E16: ABCDG
A17: 16 | B17: Deutsche Widder | C17: eisengrau | D17: ABeCDG | E17: ABCDG | F17: Reinerbig eisengraue Tiere erscheinen schwarz
A18: 17 | B18: Deutsche Widder | C18: hasenfarbig | D18: ABCDGy1,y2 | E18: ABCDGy1,y2
A19: 18 | B19: Deutsche Widder | C19: schwarz | D19: ABCdg | E19: ABCdg
A20: 19 | B20: Deutsche Widder | C20: blau | D20: ABCdg | E20: ABCdg
A21: 20 | B21: Deutsche Widder | C21: blaugrau | D21: ABCdG | E21: ABCdG
A22: 21 | B22: Deutsche Widder | C22: rot | D22: AbCDGy1,y2 | E22: AbCDGy1,y2
A23: 22 | B23: Deutsche Widder | C23: luxfarbig | D23: ABcdG | E23: ABcdG
A24: 23 | B24: Deutsche Widder | C24: gelb | D24: AbCDG | E24: AbCDG
A25: 24 | B25: Deutsche Widder | C25: fehfarbig | D25: ABcdg | E25: ABcdg
A26: 25 | B26: Deutsche Widder | C26: weiß RA | D26: a... | E26: a... | F26: Albino
A27: 26 | B27: Deutsche Widder | C27: weiß BlA | D27: A...x | E27: A...x
A28: 27 | B28: Deutsche Widder | C28: chinchillafarbig | D28: achiBCDG | E28: achiBCDG | F28: Teilalbino
A29: 28 | B29: Deutsche Widder | C29: havannafarbig | D29: ABcDg | E29: ABcDg
A30: 29 | B30: Deutsche Widder | C30: thüringerfarbig | D30: AbCDg | E30: AbCDg
A31: 30 | B31: Deutsche Widder | C31: wildfarben-weiß | D31: ABCDGK | E31: ABCDGk
A32: 31 | B32: Deutsche Widder | C32: dunkelgrau-weiß | D32: ABCDGK | E32: ABCDGk
A33: 32 | B33: Deutsche Widder | C33: eisengrau-weiß | D33: ABeCDGK | E33: ABCDGk
A34: 33 | B34: Deutsche Widder | C34: hasenfarbig-weiß | D34: ABCDGK | E34: ABCDGk
A35: 34 | B35: Deutsche Widder | C35: schwarz-weiß | D35: ABCDgK | E35: ABCDgk
A36: 35 | B36: Deutsche Widder | C36: blau-weiß | D36: ABCdgK | E36: ABCdgk
A37: 36 | B37: Deutsche Widder | C37: blaugrau-weiß | D37: ABCdGK | E37: ABCdGk
A38: 37 | B38: Deutsche Widder | C38: rot-weiß | D38: AbCDGy1,y2K | E38: AbCDGy1,y2k
A39: 38 | B39: Deutsche Widder | C39: luxfarbig-weiß | D39: ABcdGK | E39: ABcdGK
A40: 39 | B40: Deutsche Widder | C40: gelb-weiß | D40: ABcDGK | E40: ABcDGk | F40: Reinerbige Schecken sind nicht überlebensfähig
A41: 40 | B41: Deutsche Widder | C41: chinchillafarbig-weiß | D41: achiBCDGK | E41: achiBCDGK | F41: Teilalbino
A42: 41 | B42: Deutsche Widder | C42: havannafarbig-weiß | D42: ABcDgK | E42: AbcDgk
A43: 42 | B43: Deutsche Widder | C43: thüringerfarbig-weiß | D43: AbCDgK | E43: AbCDgk
A44: 43 | B44: Deutsche Widder | C44: fehfarbig-weiß | D44: ABcdg | E44: ABcdg
A45: 44 | B45: Meißner Widder | C45: schwarzsilber | D45: ABCDgP | E45: ABCDgP
A46: 45 | B46: Meißner Widder | C46: blausilber | D46: ABCDgP | E46: ABCDgP
A47: 46 | B47: Meißner Widder | C47: graubraunsilber | D47: ABCDGP | E47: ABCDGP
A48: 47 | B48: Meißner Widder | C48: gelbsilber | D48: AbCDGP | E48: AbCDGP
A49: 48 | B49: Meißner Widder | C49: havannasilber | D49: ABcDgP | E49: ABcDgP
A50: 49 | B50: Helle Großsilber | C50: hellsilber | D50: ABCDgP | E50: ABCDgP
A51: 50 | B51: Champagne-Silberkaninchen | C51: hellsilber | D51: ABCDgP | E51: ABCDgP
A52: 51 | B52: Großchinchilla | C52: chinchillafarbig
A53: 52 | B53: Mecklenburger Schecken | C53: wildfarben-weiß | D53: ABCDGK | E53: ABCDGk
A54: 53 | B54: Mecklenburger Schecken | C54: dunkelgrau-weiß | D54: ABCDGK | E54: ABCDGk
A55: 54 | B55: Mecklenburger Schecken | C55: eisengrau-weiß | D55: ABeCDGK | E55: ABCDGk
A56: 55 | B56: Mecklenburger Schecken | C56: schwarz-weiß | D56: ABCDgK | E56: ABCDgk
A57: 56 | B57: Mecklenburger Schecken | C57: blau-weiß | D57: ABCdgK | E57: ABCdgk
A58: 57 | B58: Mecklenburger Schecken | C58: rot-weiß | D58: AbCDGy1,y2K | E58: AbCDGy1,y2k
A59: 58 | B59: Mecklenburger Schecken | C59: thüringerfarbig-weiß | D59: AbCDgK | E59: AbCDgk
A60: 59 | B60: Englische Widder | C60: wildfarben | D60: ABCDG | E60: ABCDG
A61: 60 | B61: Englische Widder | C61: dunkelgrau | D61: ABCDG | E61: ABCDG
A62: 61 | B62: Englische Widder | C62: eisengrau | D62: ABeCDG | E62: ABCDG | F62: Reinerbig eisengraue Tiere erscheinen schwarz
A63: 62 | B63: Englische Widder | C63: hasenfarbig | D63: ABCDGy1,y2 | E63: ABCDGy1,y2
A64: 63 | B64: Englische Widder | C64: schwarz | D64: ABCDg | E64: ABCDg
A65: 64 | B65: Englische Widder | C65: blau | D65: ABCdg | E65: ABCdg
A66: 65 | B66: Englische Widder | C66: blaugrau | D66: ABCdG | E66: ABCdG
A67: 66 | B67: Englische Widder | C67: rot | D67: AbCDGy1,y2 | E67: AbCDGy1,y2
A68: 67 | B68: Englische Widder | C68: gelb | D68: AbCDG | E68: AbCDG
A69: 68 | B69: Englische Widder | C69: luxfarbig | D69: ABcdG | E69: ABcdG
A70: 69 | B70: Englische Widder | C70: chinchillafarbig | D70: achiBCDGK | E70: achiBCDGK | F70: Teilalbino
A71: 70 | B71: Englische Widder | C71: havannafarbig | D71: ABcDg | E71: ABcDg
A72: 71 | B72: Englische Widder | C72: fehfarbig | D72: ABcdg | E72: ABcdg
A73: 72 | B73: Englische Widder | C73: weiß RA | D73: a... | E73: a...
A74: 73 | B74: Englische Widder | C74: weiß BlA | D74: A...x | E74: A...x
A75: 74 | B75: Englische Widder | C75: thüringerfarbig | D75: AbCDg | E75: AbCDg
A76: 75 | B76: Englische Widder | C76: wildfarben-weiß | D76: ABCDGK | E76: ABCDgk
A77: 76 | B77: Englische Widder | C77: dunkelgrau-weiß | D77: ABCDGK | E77: ABCDGk
A78: 77 | B78: Englische Widder | C78: eisengrau-weiß | D78: ABeCDGK | E78: ABCDGk
A79: 78 | B79: Englische Widder | C79: hasenfarbig-weiß | D79: ABCDGK | E79: ABCDGk
A80: 79 | B80: Englische Widder | C80: blaugrau-weiß | D80: ABCdGK | E80: ABCdGk
A81: 80 | B81: Englische Widder | C81: schwarz-weiß | D81: ABCDgK | E81: ABCDgk
A82: 81 | B82: Englische Widder | C82: blau-weiß | D82: ABCdgK | E82: ABCdgk
... A85: 84 | B85: Englische Widder | C85: luxfarbig-weiß | D85: ABcdGK | E85: ABcdGk
A86: 85 | B86: Englische Widder | C86: chinchillafarbig-weiß | D86: achiBCDGK | E86: achiBCDGK | F86: Teilalbino
A87: 86 | B87: Englische Widder | C87: havannafarbig-weiß | D87: AbCDgK | E87: AbCDgK
A88: 87 | B88: Englische Widder | C88: thüringerfarbig-weiß | D88: AbCDgK | E88: AbCDgk
A89: 88 | B89: Englische Widder | C89: fehfarbig-weiß | D89: ABcdgK | E89: ABcdgk
A90: 89 | B90: Deutsche Großsilber | C90: schwarz | D90: ABCDgP | E90: ABCDgP
A91: 90 | B91: Deutsche Großsilber | C91: blau | D91: ABCDgP | E91: ABCDgP
A92: 91 | B92: Deutsche Großsilber | C92: havannafarbig | D92: ABcDgP | E92: ABcDgP
A93: 92 | B93: Deutsche Großsilber | C93: gelb | D93: AbCDGP | E93: AbCDGP
A94: 93 | B94: Deutsche Großsilber | C94: graubraun | D94: ABCDGP | E94: ABCDGP
A95: 94 | B95: Burgunder | C95: rot | D95: AbCDGy1,y2 | E95: AbCDGy1,y2
A96: 95 | B96: Blaue Wiener | C96: blau | D96: ABCdg | E96: ABCdg
A97: 96 | B97: Blaugraue Wiener | C97: blaugrau | D97: ABCdG | E97: ABCdG
A98: 97 | B98: Schwarze Wiener | C98: schwarz | D98: ABCDg | E98: ABCDg
... A103: 102 | B103: Rote Neuseeländer | C103: rot | D103: AbCDGy1,y2 | E103: AbCDGy1,y2
A104: 103 | B104: Weiße Neuseeländer | C104: weiß RA | D104: a... | E104: a... | F104: Albino
A105: 104 | B105: Große Marderkaninchen | C105: blau | D105: amBCDg | E105: anBCDg
A106: 105 | B106: Große Marderkaninchen | C106: braun | D106: ambCDg | E106: anbCDg
...

Sheet Vererbung
A2: Eltern (P) | B2: ♂ | D2: ♀ | F2: Hier ist die Krux, dass es viele Redundanzen gibt und ich nicht weiß, wie ich die auflösen kann.
A3: Rasse | B3: Drehfeld: Rasseverzeichnis Spalte B | D3: Drehfeld: Rasseverzeichnis Spalte B
B4: Drehfeld: Rasseverzeichnis Spalte C | D4: Drehfeld: Rasseverzeichnis Spalte C
B5: wenn, in :Rasseverzeichnis SpalteB, Zeile Sowieso, und in:Rasseverzeichnis SpalteC, Zeile Sowieso, dann gib mir den Inhalt der Zelle rechts neben Rasseverzeichnis SpalteC, Zeile Sowieso aus | D5: Dito,nur eine Spalte weiter nach rechts
A7: Kinder (F1) | B7: =B5 -> wenn, in :Rasseverzeichnis SpalteB, Zeile Sowieso, und in:Rasseverzeichnis SpalteC, Zeile Sowieso, dann gib mir den Inhalt der Zelle rechts neben Rasseverzeichnis SpalteC, Zeile Sowieso aus
B8: =D5 -> Dito,nur eine Spalte weiter nach rechts
A10: Ne4ukombination | B10: Und das, was ich eigentlich suche: B7 und B8 vergleichen und die möglichen, neuen Kombinationen ausgeben | E10: Die Anzahl wird durch die Anzahl der Buchstaben betimmt, tiefgestellte Buchstaben gehören zum Buchstaben davor.-
A11: 1
A12: 2
A13: 3
A14: 4
A15: 5
A16: 6
A17: 7
B19: Die Matrix ist eigentlich nur das Stapeln, der neuen Kombinationen

Sheet Neukombination
B5: ♀ | C5: 1 | D5: 2 | E5: 3 | F5: 4 | G5: 5 | H5: 6 | I5: 7
B6: ♂ | C6: =IF(ISBLANK(Vererbung!$B$11),"",Vererbung!$B$11) | D6: =IF(ISBLANK(Vererbung!$B$12),"",Vererbung!$B$12) | E6: =IF(ISBLANK(Vererbung!$B$13),"",Vererbung!$B$13) | F6: =IF(ISBLANK(Vererbung!$B$14),"",Vererbung!$B$14) | G6: =IF(ISBLANK(Vererbung!$B$15),"",Vererbung!$B$15) | H6: =IF(ISBLANK(Vererbung!$B$16),"",Vererbung!$B$16) | I6: =IF(ISBLANK(Vererbung!$B$17),"",Vererbung!$B$17)
C7: =IF(ISBLANK($C$6),"",$C$6) | D7: =IF(ISBLANK($D$6),"",$D$6) | E7: =IF(ISBLANK($E$6),"",$E$6) | F7: =IF(ISBLANK($F$6),"",$F$6) | G7: =IF(ISBLANK($G$6),"",$G$6) | H7: =IF(ISBLANK($H$6),"",$H$6) | I7: =IF(ISBLANK($I$6),"",$I$6)
A8: 1 | B8: =IF(ISBLANK(Vererbung!$B$11),"",Vererbung!$B$11) | C8: =IF(ISBLANK($B$8),"",$B$8) | D8: =IF(ISBLANK($B$8),"",$B$8) | E8: =IF(ISBLANK($B$8),"",$B$8) | F8: =IF(ISBLANK($B$8),"",$B$8) | G8: =IF(ISBLANK($B$8),"",$B$8) | H8: =IF(ISBLANK($B$8),"",$B$8) | I8: =IF(ISBLANK($B$8),"",$B$8)
C9: =IF(ISBLANK($C$6),"",$C$6) | D9: =IF(ISBLANK($D$6),"",$D$6) | E9: =IF(ISBLANK($E$6),"",$E$6) | F9: =IF(ISBLANK($F$6),"",$F$6) | G9: =IF(ISBLANK($G$6),"",$G$6) | H9: =IF(ISBLANK($H$6),"",$H$6) | I9: =IF(ISBLANK($I$6),"",$I$6)
A10: 2 | B10: =IF(ISBLANK(Vererbung!$B$12),"",Vererbung!$B$12) | C10: =IF(ISBLANK($B$10),"",$B$10) | D10: =IF(ISBLANK($B$8),"",$B$8) | E10: =IF(ISBLANK($B$8),"",$B$8) | F10: =IF(ISBLANK($B$8),"",$B$8) | G10: =IF(ISBLANK($B$8),"",$B$8) | H10: =IF(ISBLANK($B$8),"",$B$8) | I10: =IF(ISBLANK($B$8),"",$B$8)
C11: =IF(ISBLANK($C$6),"",$C$6) | D11: =IF(ISBLANK($D$6),"",$D$6) | E11: =IF(ISBLANK($E$6),"",$E$6) | F11: =IF(ISBLANK($F$6),"",$F$6) | G11: =IF(ISBLANK($G$6),"",$G$6) | H11: =IF(ISBLANK($H$6),"",$H$6) | I11: =IF(ISBLANK($I$6),"",$I$6)
A12: 3 | B12: =IF(ISBLANK(Vererbung!$B$13),"",Vererbung!$B$13) | C12: =IF(ISBLANK($B$12),"",$B$12) | D12: =IF(ISBLANK($B$12),"",$B$12) | E12: =IF(ISBLANK($B$12),"",$B$12) | F12: =IF(ISBLANK($B$12),"",$B$12) | G12: =IF(ISBLANK($B$12),"",$B$12) | H12: =IF(ISBLANK($B$12),"",$B$12) | I12: =IF(ISBLANK($B$12),"",$B$12)
C13: =IF(ISBLANK($C$6),"",$C$6) | D13: =IF(ISBLANK($D$6),"",$D$6) | E13: =IF(ISBLANK($E$6),"",$E$6) | F13: =IF(ISBLANK($F$6),"",$F$6) | G13: =IF(ISBLANK($G$6),"",$G$6) | H13: =IF(ISBLANK($H$6),"",$H$6) | I13: =IF(ISBLANK($I$6),"",$I$6)
A14: 4 | B14: =IF(ISBLANK(Vererbung!$B$14),"",Vererbung!$B$14) | C14: =IF(ISBLANK($B$14),"",$B$14) | D14: =IF(ISBLANK($B$14),"",$B$14) | E14: =IF(ISBLANK($B$14),"",$B$14) | F14: =IF(ISBLANK($B$14),"",$B$14) | G14: =IF(ISBLANK($B$14),"",$B$14) | H14: =IF(ISBLANK($B$14),"",$B$14) | I14: =IF(ISBLANK($B$14),"",$B$14)
C15: =IF(ISBLANK($C$6),"",$C$6) | D15: =IF(ISBLANK($D$6),"",$D$6) | E15: =IF(ISBLANK($E$6),"",$E$6) | F15: =IF(ISBLANK($F$6),"",$F$6) | G15: =IF(ISBLANK($G$6),"",$G$6) | H15: =IF(ISBLANK($H$6),"",$H$6) | I15: =IF(ISBLANK($I$6),"",$I$6)
A16: 5 | B16: =IF(ISBLANK(Vererbung!$B$15),"",Vererbung!$B$15) | C16: =IF(ISBLANK($B$16),"",$B$16) | D16: =IF(ISBLANK($B$16),"",$B$16) | E16: =IF(ISBLANK($B$16),"",$B$16) | F16: =IF(ISBLANK($B$16),"",$B$16) | G16: =IF(ISBLANK($B$16),"",$B$16) | H16: =IF(ISBLANK($B$16),"",$B$16) | I16: =IF(ISBLANK($B$16),"",$B$16)
C17: =IF(ISBLANK($C$6),"",$C$6) | D17: =IF(ISBLANK($D$6),"",$D$6) | E17: =IF(ISBLANK($E$6),"",$E$6) | F17: =IF(ISBLANK($F$6),"",$F$6) | G17: =IF(ISBLANK($G$6),"",$G$6) | H17: =IF(ISBLANK($H$6),"",$H$6) | I17: =IF(ISBLANK($I$6),"",$I$6)
A18: 6 | B18: =IF(ISBLANK(Vererbung!$B$16),"",Vererbung!$B$16) | C18: =IF(ISBLANK($B$18),"",$B$18) | D18: =IF(ISBLANK($B$18),"",$B$18) | E18: =IF(ISBLANK($B$18),"",$B$18) | F18: =IF(ISBLANK($B$18),"",$B$18) | G18: =IF(ISBLANK($B$18),"",$B$18) | H18: =IF(ISBLANK($B$18),"",$B$18) | I18: =IF(ISBLANK($B$18),"",$B$18)
C19: =IF(ISBLANK($C$6),"",$C$6) | D19: =IF(ISBLANK($D$6),"",$D$6) | E19: =IF(ISBLANK($E$6),"",$E$6) | F19: =IF(ISBLANK($F$6),"",$F$6) | G19: =IF(ISBLANK($G$6),"",$G$6) | H19: =IF(ISBLANK($H$6),"",$H$6) | I19: =IF(ISBLANK($I$6),"",$I$6)
A20: 7 | B20: =IF(ISBLANK(Vererbung!$B$17),"",Vererbung!$B$17) | C20: =IF(ISBLANK($B$20),"",$B$20) | D20: =IF(ISBLANK($B$20),"",$B$20) | E20: =IF(ISBLANK($B$20),"",$B$20) | F20: =IF(ISBLANK($B$20),"",$B$20) | G20: =IF(ISBLANK($B$20),"",$B$20) | H20: =IF(ISBLANK($B$20),"",$B$20) | I20: =IF(ISBLANK($B$20),"",$B$20)
