Workbook

Sheet Rasseverzeichnis
B1: Rasse | C1: Farbe | D1: Erbformel | E1: Erbformel2 | F1: Anmerkungen
A2: 1 | B2: Deutsche Riesen | C2: wildfarben | D2: ABCDG | E2: ABCDG
A3: 2 | B3: Deutsche Riesen | C3: dunkelgrau | D3: ABCDG | E3: ABCDG
A4: 3 | B4: Deutsche Riesen | C4: eisengrau | D4: ABeCDG | E4: ABCDG | F4: Reinerbig eisengraue Tiere erscheinen schwarz
A5: 4 | B5: Deutsche Riesen | C5: hasenfarbig | D5: ABCDGy1,y2 | E5: ABCDGy1,y2
A6: 5 | B6: Deutsche Riesen | C6: schwarz | D6: ABCDg | E6: ABCDg
A7: 6 | B7: Deutsche Riesen | C7: blau | D7: ABCdg | E7: ABCdg
A8: 7 | B8: Deutsche Riesen | C8: blaugrau | D8: ABCdG | E8: ABCdG
A9: 8 | B9: Deutsche Riesen | C9: gelb | D9: AbCDG | E9: AbCDG
A10: 9 | B10: Deutsche Riesen | C10: chinchillafarbig | D10: achiBCDG | E10: achiBCDG
A11: 10 | B11: Deutsche Riesen | C11: weiß | D11: a... | E11: a...
A12: 11 | B12: Deutsche Riesenschecken | C12: schwarz-weiß | D12: ABCDgK | E12: ABCDgk | F12: Reinerbige Schecken sind nicht überlebensfähig
A13: 12 | B13: Deutsche Riesenschecken | C13: blau-weiß | D13: ABCdgK | E13: ABCdgk
A14: 13 | B14: Deutsche Riesenschecken | C14: havannafarbig-weiß | D14: ABcDgK | E14: ABcDgk
A15: 14 | B15: Deutsche Widder | C15: wildfarben | D15: ABCDG | E15: ABCDG
A16: 15 | B16: Deutsche Widder | C16: dunkelgrau | D16: ABCDG | E16: ABCDG
A17: 16 | B17: Deutsche Widder | C17: eisengrau | D17: ABeCDG | E17: ABCDG | F17: Reinerbig eisengraue Tiere erscheinen schwarz
A18: 17 | B18: Deutsche Widder | C18: hasenfarbig | D18: ABCDGy1,y2 | E18: ABCDGy1,y2
A19: 18 | B19: Deutsche Widder | C19: schwarz | D19: ABCdg | E19: ABCdg
A20: 19 | B20: Deutsche Widder | C20: blau | D20: ABCdg | E20: ABCdg
A21: 20 | B21: Deutsche Widder | C21: blaugrau | D21: ABCdG | E21: ABCdG
A22: 21 | B22: Deutsche Widder | C22: rot | D22: AbCDGy1,y2 | E22: AbCDGy1,y2
A23: 22 | B23: Deutsche Widder | C23: luxfarbig | D23: ABcdG | E23: ABcdG
A24: 23 | B24: Deutsche Widder | C24: gelb | D24: AbCDG | E24: AbCDG
A25: 24 | B25: Deutsche Widder | C25: fehfarbig | D25: ABcdg | E25: ABcdg
A26: 25 | B26: Deutsche Widder | C26: weiß RA | D26: a... | E26: a... | F26: Albino
A27: 26 | B27: Deutsche Widder | C27: weiß BlA | D27: A...x | E27: A...x
A28: 27 | B28: Deutsche Widder | C28: chinchillafarbig | D28: achiBCDG | E28: achiBCDG | F28: Teilalbino
A29: 28 | B29: Deutsche Widder | C29: havannafarbig | D29: ABcDg | E29: ABcDg
A30: 29 | B30: Deutsche Widder | C30: thüringerfarbig | D30: AbCDg | E30: AbCDg
A31: 30 | B31: Deutsche Widder | C31: wildfarben-weiß | D31: ABCDGK | E31: ABCDGk
A32: 31 | B32: Deutsche Widder | C32: dunkelgrau-weiß | D32: ABCDGK | E32: ABCDGk
A33: 32 | B33: Deutsche Widder | C33: eisengrau-weiß | D33: ABeCDGK | E33: ABCDGk
A34: 33 | B34: Deutsche Widder | C34: hasenfarbig-weiß | D34: ABCDGK | E34: ABCDGk
A35: 34 | B35: Deutsche Widder | C35: schwarz-weiß | D35: ABCDgK | E35: ABCDgk
A36: 35 | B36: Deutsche Widder | C36: blau-weiß | D36: ABCdgK | E36: ABCdgk
A37: 36 | B37: Deutsche Widder | C37: blaugrau-weiß | D37: ABCdGK | E37: ABCdGk
A38: 37 | B38: Deutsche Widder | C38: rot-weiß | D38: AbCDGy1,y2K | E38: AbCDGy1,y2k
A39: 38 | B39: Deutsche Widder | C39: luxfarbig-weiß | D39: ABcdGK | E39: ABcdGK
A40: 39 | B40: Deutsche Widder | C40: gelb-weiß | D40: ABcDGK | E40: ABcDGk | F40: Reinerbige Schecken sind nicht überlebensfähig
...

Sheet Vererbung
A2: Eltern (P) | B2: ♂ | D2: ♀ | F2: Hier ist die Krux, dass es viele Redundanzen gibt und ich nicht weiß, wie ich die auflösen kann.
A3: Rasse | B3: Drehfeld: Rasseverzeichnis Spalte B | D3: Drehfeld: Rasseverzeichnis Spalte B
B4: Drehfeld: Rasseverzeichnis Spalte C | D4: Drehfeld: Rasseverzeichnis Spalte C
B5: wenn, in :Rasseverzeichnis SpalteB, Zeile Sowieso, und in:Rasseverzeichnis SpalteC, Zeile Sowieso, dann gib mir den Inhalt der Zelle rechts neben Rasseverzeichnis SpalteC, Zeile Sowieso aus | D5: Dito,nur eine Spalte weiter nach rechts
A7: Kinder (F1) | B7: =B5 -> wenn, in :Rasseverzeichnis SpalteB, Zeile Sowieso, und in:Rasseverzeichnis SpalteC, Zeile Sowieso, dann gib mir den Inhalt der Zelle rechts neben Rasseverzeichnis SpalteC, Zeile Sowieso aus
B8: =D5 -> Dito,nur eine Spalte weiter nach rechts
A10: Ne4ukombination | B10: Und das, was ich eigentlich suche: B7 und B8 vergleichen und die möglichen, neuen Kombinationen ausgeben | E10: Die Anzahl wird durch die Anzahl der Buchstaben betimmt, tiefgestellte Buchstaben gehören zum Buchstaben davor.-
A11: 1
A12: 2
A13: 3
A14: 4
A15: 5
A16: 6
A17: 7
B19: Die Matrix ist eigentlich nur das Stapeln, der neuen Kombinationen

Sheet Neukombination
B5: ♀ | C5: 1 | D5: 2 | E5: 3 | F5: 4 | G5: 5 | H5: 6 | I5: 7
B6: ♂ | C6: =IF(ISBLANK(Vererbung!$B$11),"",Vererbung!$B$11) | D6: =IF(ISBLANK(Vererbung!$B$12),"",Vererbung!$B$12) | E6: =IF(ISBLANK(Vererbung!$B$13),"",Vererbung!$B$13) | F6: =IF(ISBLANK(Vererbung!$B$14),"",Vererbung!$B$14) | G6: =IF(ISBLANK(Vererbung!$B$15),"",Vererbung!$B$15) | H6: =IF(ISBLANK(Vererbung!$B$16),"",Vererbung!$B$16) | I6: =IF(ISBLANK(Vererbung!$B$17),"",Vererbung!$B$17)
C7: =IF(ISBLANK($C$6),"",$C$6) | D7: =IF(ISBLANK($D$6),"",$D$6) | E7: =IF(ISBLANK($E$6),"",$E$6) | F7: =IF(ISBLANK($F$6),"",$F$6) | G7: =IF(ISBLANK($G$6),"",$G$6) | H7: =IF(ISBLANK($H$6),"",$H$6) | I7: =IF(ISBLANK($I$6),"",$I$6)
A8: 1 | B8: =IF(ISBLANK(Vererbung!$B$11),"",Vererbung!$B$11) | C8: =IF(ISBLANK($B$8),"",$B$8) | D8: =IF(ISBLANK($B$8),"",$B$8) | E8: =IF(ISBLANK($B$8),"",$B$8) | F8: =IF(ISBLANK($B$8),"",$B$8) | G8: =IF(ISBLANK($B$8),"",$B$8) | H8: =IF(ISBLANK($B$8),"",$B$8) | I8: =IF(ISBLANK($B$8),"",$B$8)
C9: =IF(ISBLANK($C$6),"",$C$6) | D9: =IF(ISBLANK($D$6),"",$D$6) | E9: =IF(ISBLANK($E$6),"",$E$6) | F9: =IF(ISBLANK($F$6),"",$F$6) | G9: =IF(ISBLANK($G$6),"",$G$6) | H9: =IF(ISBLANK($H$6),"",$H$6) | I9: =IF(ISBLANK($I$6),"",$I$6)
A10: 2 | B10: =IF(ISBLANK(Vererbung!$B$12),"",Vererbung!$B$12) | C10: =IF(ISBLANK($B$10),"",$B$10) | D10: =IF(ISBLANK($B$8),"",$B$8) | E10: =IF(ISBLANK($B$8),"",$B$8) | F10: =IF(ISBLANK($B$8),"",$B$8) | G10: =IF(ISBLANK($B$8),"",$B$8) | H10: =IF(ISBLANK($B$8),"",$B$8) | I10: =IF(ISBLANK($B$8),"",$B$8)
C11: =IF(ISBLANK($C$6),"",$C$6) | D11: =IF(ISBLANK($D$6),"",$D$6) | E11: =IF(ISBLANK($E$6),"",$E$6) | F11: =IF(ISBLANK($F$6),"",$F$6) | G11: =IF(ISBLANK($G$6),"",$G$6) | H11: =IF(ISBLANK($H$6),"",$H$6) | I11: =IF(ISBLANK($I$6),"",$I$6)
A12: 3 | B12: =IF(ISBLANK(Vererbung!$B$13),"",Vererbung!$B$13) | C12: =IF(ISBLANK($B$12),"",$B$12) | D12: =IF(ISBLANK($B$12),"",$B$12) | E12: =IF(ISBLANK($B$12),"",$B$12) | F12: =IF(ISBLANK($B$12),"",$B$12) | G12: =IF(ISBLANK($B$12),"",$B$12) | H12: =IF(ISBLANK($B$12),"",$B$12) | I12: =IF(ISBLANK($B$12),"",$B$12)
C13: =IF(ISBLANK($C$6),"",$C$6) | D13: =IF(ISBLANK($D$6),"",$D$6) | E13: =IF(ISBLANK($E$6),"",$E$6) | F13: =IF(ISBLANK($F$6),"",$F$6) | G13: =IF(ISBLANK($G$6),"",$G$6) | H13: =IF(ISBLANK($H$6),"",$H$6) | I13: =IF(ISBLANK($I$6),"",$I$6)
A14: 4 | B14: =IF(ISBLANK(Vererbung!$B$14),"",Vererbung!$B$14) | C14: =IF(ISBLANK($B$14),"",$B$14) | D14: =IF(ISBLANK($B$14),"",$B$14) | E14: =IF(ISBLANK($B$14),"",$B$14) | F14: =IF(ISBLANK($B$14),"",$B$14) | G14: =IF(ISBLANK($B$14),"",$B$14) | H14: =IF(ISBLANK($B$14),"",$B$14) | I14: =IF(ISBLANK($B$14),"",$B$14)
C15: =IF(ISBLANK($C$6),"",$C$6) | D15: =IF(ISBLANK($D$6),"",$D$6) | E15: =IF(ISBLANK($E$6),"",$E$6) | F15: =IF(ISBLANK($F$6),"",$F$6) | G15: =IF(ISBLANK($G$6),"",$G$6) | H15: =IF(ISBLANK($H$6),"",$H$6) | I15: =IF(ISBLANK($I$6),"",$I$6)
A16: 5 | B16: =IF(ISBLANK(Vererbung!$B$15),"",Vererbung!$B$15) | C16: =IF(ISBLANK($B$16),"",$B$16) | D16: =IF(ISBLANK($B$16),"",$B$16) | E16: =IF(ISBLANK($B$16),"",$B$16) | F16: =IF(ISBLANK($B$16),"",$B$16) | G16: =IF(ISBLANK($B$16),"",$B$16) | H16: =IF(ISBLANK($B$16),"",$B$16) | I16: =IF(ISBLANK($B$16),"",$B$16)
C17: =IF(ISBLANK($C$6),"",$C$6) | D17: =IF(ISBLANK($D$6),"",$D$6) | E17: =IF(ISBLANK($E$6),"",$E$6) | F17: =IF(ISBLANK($F$6),"",$F$6) | G17: =IF(ISBLANK($G$6),"",$G$6) | H17: =IF(ISBLANK($H$6),"",$H$6) | I17: =IF(ISBLANK($I$6),"",$I$6)
A18: 6 | B18: =IF(ISBLANK(Vererbung!$B$16),"",Vererbung!$B$16) | C18: =IF(ISBLANK($B$18),"",$B$18) | D18: =IF(ISBLANK($B$18),"",$B$18) | E18: =IF(ISBLANK($B$18),"",$B$18) | F18: =IF(ISBLANK($B$18),"",$B$18) | G18: =IF(ISBLANK($B$18),"",$B$18) | H18: =IF(ISBLANK($B$18),"",$B$18) | I18: =IF(ISBLANK($B$18),"",$B$18)
C19: =IF(ISBLANK($C$6),"",$C$6) | D19: =IF(ISBLANK($D$6),"",$D$6) | E19: =IF(ISBLANK($E$6),"",$E$6) | F19: =IF(ISBLANK($F$6),"",$F$6) | G19: =IF(ISBLANK($G$6),"",$G$6) | H19: =IF(ISBLANK($H$6),"",$H$6) | I19: =IF(ISBLANK($I$6),"",$I$6)
A20: 7 | B20: =IF(ISBLANK(Vererbung!$B$17),"",Vererbung!$B$17) | C20: =IF(ISBLANK($B$20),"",$B$20) | D20: =IF(ISBLANK($B$20),"",$B$20) | E20: =IF(ISBLANK($B$20),"",$B$20) | F20: =IF(ISBLANK($B$20),"",$B$20) | G20: =IF(ISBLANK($B$20),"",$B$20) | H20: =IF(ISBLANK($B$20),"",$B$20) | I20: =IF(ISBLANK($B$20),"",$B$20)
