Workbook

Sheet Kalender
A1: 2020
C3: Januar | I3: Februar | O3: März | U3: April | AA3: Mai | AG3: Juni | AL3: Juli | AS3: August | AY3: September | BE3: Oktober | BK3: November | BQ3: Dezember
B4: KW | C4: Tag | D4: Datum | E4: Termine | F4: Feiertage | H4: KW | I4: Tag | J4: Datum | K4: Termine | L4: Feiertage | N4: KW | O4: Tag | P4: Datum | Q4: Termine | R4: Feiertage | T4: KW | U4: Tag | V4: Datum | W4: Termine | X4: Feiertage | Z4: KW | AA4: Tag | AB4: Datum | AC4: Termine | AD4: Feiertage | AF4: KW | AG4: Tag | AH4: Datum | AI4: Termine | AJ4: Feiertage | AL4: KW | AM4: Tag | AN4: Datum | AO4: Termine | AP4: Feiertage | AR4: KW | AS4: Tag | AT4: Datum | AU4: Termine | AV4: Feiertage | AX4: KW | AY4: Tag | AZ4: Datum | BA4: Termine | BB4: Feiertage | BD4: KW | BE4: Tag | BF4: Datum | BG4: Termine | BH4: Feiertage | BJ4: KW | BK4: Tag | BL4: Datum | BM4: Termine | BN4: Feiertage | BP4: KW | BQ4: Tag | BR4: Datum | BS4: Termine | BT4: Feiertage
B5: =IFERROR(WEEKNUM(D5,2),"") -> 1 | C5: =D5 -> 43831 | D5: =DATE(A1,1,1) -> 43831 | E5: =_xlfn.IFNA(VLOOKUP(D5,Termine!B:C,2,0),"") | F5: =_xlfn.IFNA(VLOOKUP(D5,Feiertage!A:C,3,0),"") | H5: =IFERROR(WEEKNUM(J5,2),"") -> 5 | I5: =J5 -> 43862 | J5: =EDATE(D5,1) -> 43862 | N5: =IFERROR(WEEKNUM(P5,2),"") -> 9 | O5: =P5 -> 43891 | P5: =EDATE(J5,1) -> 43891 | T5: =IFERROR(WEEKNUM(V5,2),"") -> 14 | U5: =V5 -> 43922 | V5: =EDATE(P5,1) -> 43922 | Z5: =IFERROR(WEEKNUM(AB5,2),"") -> 18 | AA5: =AB5 -> 43952 | AB5: =EDATE(V5,1) -> 43952 | AF5: =IFERROR(WEEKNUM(AH5,2),"") -> 23 | AG5: =AH5 -> 43983 | AH5: =EDATE(AB5,1) -> 43983 | AL5: =IFERROR(WEEKNUM(AN5,2),"") -> 27 | AM5: =AN5 -> 44013 | AN5: =EDATE(AH5,1) -> 44013 | AR5: =IFERROR(WEEKNUM(AT5,2),"") -> 31 | AS5: =AT5 -> 44044 | AT5: =EDATE(AN5,1) -> 44044 | AX5: =IFERROR(WEEKNUM(AZ5,2),"") -> 36 | AY5: =AZ5 -> 44075 | AZ5: =EDATE(AT5,1) -> 44075 | BD5: =IFERROR(WEEKNUM(BF5,2),"") -> 40 | BE5: =BF5 -> 44105 | BF5: =EDATE(AZ5,1) -> 44105 | BJ5: =IFERROR(WEEKNUM(BL5,2),"") -> 44 | BK5: =BL5 -> 44136 | BL5: =EDATE(BF5,1) -> 44136 | BP5: =IFERROR(WEEKNUM(BR5,2),"") -> 49 | BQ5: =BR5 -> 44166 | BR5: =EDATE(BL5,1) -> 44166
B6: =IFERROR(WEEKNUM(D6,2),"") -> 1 | C6: =D6 -> 43832 | D6: =IFERROR(IF(MONTH(D5+1)=MONTH(D$5),D5+1),"") -> 43832 | E6: =_xlfn.IFNA(VLOOKUP(D6,Termine!B:C,2,0),"") | F6: =_xlfn.IFNA(VLOOKUP(D6,Feiertage!A:C,3,0),"") | H6: =IFERROR(WEEKNUM(J6,2),"") -> 5 | I6: =J6 -> 43863 | J6: =IFERROR(IF(MONTH(J5+1)=MONTH(J$5),J5+1),"") -> 43863 | N6: =IFERROR(WEEKNUM(P6,2),"") -> 10 | O6: =P6 -> 43892 | P6: =IFERROR(IF(MONTH(P5+1)=MONTH(P$5),P5+1),"") -> 43892 | T6: =IFERROR(WEEKNUM(V6,2),"") -> 14 | U6: =V6 -> 43923 | V6: =IFERROR(IF(MONTH(V5+1)=MONTH(V$5),V5+1),"") -> 43923 | Z6: =IFERROR(WEEKNUM(AB6,2),"") -> 18 | AA6: =AB6 -> 43953 | AB6: =IFERROR(IF(MONTH(AB5+1)=MONTH(AB$5),AB5+1),"") -> 43953 | AF6: =IFERROR(WEEKNUM(AH6,2),"") -> 23 | AG6: =AH6 -> 43984 | AH6: =IFERROR(IF(MONTH(AH5+1)=MONTH(AH$5),AH5+1),"") -> 43984 | AL6: =IFERROR(WEEKNUM(AN6,2),"") -> 27 | AM6: =AN6 -> 44014 | AN6: =IFERROR(IF(MONTH(AN5+1)=MONTH(AN$5),AN5+1),"") -> 44014 | AR6: =IFERROR(WEEKNUM(AT6,2),"") -> 31 | AS6: =AT6 -> 44045 | AT6: =IFERROR(IF(MONTH(AT5+1)=MONTH(AT$5),AT5+1),"") -> 44045 | AX6: =IFERROR(WEEKNUM(AZ6,2),"") -> 36 | AY6: =AZ6 -> 44076 | AZ6: =IFERROR(IF(MONTH(AZ5+1)=MONTH(AZ$5),AZ5+1),"") -> 44076 | BD6: =IFERROR(WEEKNUM(BF6,2),"") -> 40 | BE6: =BF6 -> 44106 | BF6: =IFERROR(IF(MONTH(BF5+1)=MONTH(BF$5),BF5+1),"") -> 44106 | BJ6: =IFERROR(WEEKNUM(BL6,2),"") -> 45 | BK6: =BL6 -> 44137 | BL6: =IFERROR(IF(MONTH(BL5+1)=MONTH(BL$5),BL5+1),"") -> 44137 | BP6: =IFERROR(WEEKNUM(BR6,2),"") -> 49 | BQ6: =BR6 -> 44167 | BR6: =IFERROR(IF(MONTH(BR5+1)=MONTH(BR$5),BR5+1),"") -> 44167
B7: =IFERROR(WEEKNUM(D7,2),"") -> 1 | C7: =D7 -> 43833 | D7: =IFERROR(IF(MONTH(D6+1)=MONTH(D$5),D6+1),"") -> 43833 | E7: =_xlfn.IFNA(VLOOKUP(D7,Termine!B:C,2,0),"") | F7: =_xlfn.IFNA(VLOOKUP(D7,Feiertage!A:C,3,0),"") | H7: =IFERROR(WEEKNUM(J7,2),"") -> 6 | I7: =J7 -> 43864 | J7: =IFERROR(IF(MONTH(J6+1)=MONTH(J$5),J6+1),"") -> 43864 | N7: =IFERROR(WEEKNUM(P7,2),"") -> 10 | O7: =P7 -> 43893 | P7: =IFERROR(IF(MONTH(P6+1)=MONTH(P$5),P6+1),"") -> 43893 | T7: =IFERROR(WEEKNUM(V7,2),"") -> 14 | U7: =V7 -> 43924 | V7: =IFERROR(IF(MONTH(V6+1)=MONTH(V$5),V6+1),"") -> 43924 | Z7: =IFERROR(WEEKNUM(AB7,2),"") -> 18 | AA7: =AB7 -> 43954 | AB7: =IFERROR(IF(MONTH(AB6+1)=MONTH(AB$5),AB6+1),"") -> 43954 | AF7: =IFERROR(WEEKNUM(AH7,2),"") -> 23 | AG7: =AH7 -> 43985 | AH7: =IFERROR(IF(MONTH(AH6+1)=MONTH(AH$5),AH6+1),"") -> 43985 | AL7: =IFERROR(WEEKNUM(AN7,2),"") -> 27 | AM7: =AN7 -> 44015 | AN7: =IFERROR(IF(MONTH(AN6+1)=MONTH(AN$5),AN6+1),"") -> 44015 | AR7: =IFERROR(WEEKNUM(AT7,2),"") -> 32 | AS7: =AT7 -> 44046 | AT7: =IFERROR(IF(MONTH(AT6+1)=MONTH(AT$5),AT6+1),"") -> 44046 | AX7: =IFERROR(WEEKNUM(AZ7,2),"") -> 36 | AY7: =AZ7 -> 44077 | AZ7: =IFERROR(IF(MONTH(AZ6+1)=MONTH(AZ$5),AZ6+1),"") -> 44077 | BD7: =IFERROR(WEEKNUM(BF7,2),"") -> 40 | BE7: =BF7 -> 44107 | BF7: =IFERROR(IF(MONTH(BF6+1)=MONTH(BF$5),BF6+1),"") -> 44107 | BJ7: =IFERROR(WEEKNUM(BL7,2),"") -> 45 | BK7: =BL7 -> 44138 | BL7: =IFERROR(IF(MONTH(BL6+1)=MONTH(BL$5),BL6+1),"") -> 44138 | BP7: =IFERROR(WEEKNUM(BR7,2),"") -> 49 | BQ7: =BR7 -> 44168 | BR7: =IFERROR(IF(MONTH(BR6+1)=MONTH(BR$5),BR6+1),"") -> 44168
B8: =IFERROR(WEEKNUM(D8,2),"") -> 1 | C8: =D8 -> 43834 | D8: =IFERROR(IF(MONTH(D7+1)=MONTH(D$5),D7+1),"") -> 43834 | E8: =_xlfn.IFNA(VLOOKUP(D8,Termine!B:C,2,0),"") | F8: =_xlfn.IFNA(VLOOKUP(D8,Feiertage!A:C,3,0),"") | H8: =IFERROR(WEEKNUM(J8,2),"") -> 6 | I8: =J8 -> 43865 | J8: =IFERROR(IF(MONTH(J7+1)=MONTH(J$5),J7+1),"") -> 43865 | N8: =IFERROR(WEEKNUM(P8,2),"") -> 10 | O8: =P8 -> 43894 | P8: =IFERROR(IF(MONTH(P7+1)=MONTH(P$5),P7+1),"") -> 43894 | T8: =IFERROR(WEEKNUM(V8,2),"") -> 14 | U8: =V8 -> 43925 | V8: =IFERROR(IF(MONTH(V7+1)=MONTH(V$5),V7+1),"") -> 43925 | Z8: =IFERROR(WEEKNUM(AB8,2),"") -> 19 | AA8: =AB8 -> 43955 | AB8: =IFERROR(IF(MONTH(AB7+1)=MONTH(AB$5),AB7+1),"") -> 43955 | AF8: =IFERROR(WEEKNUM(AH8,2),"") -> 23 | AG8: =AH8 -> 43986 | AH8: =IFERROR(IF(MONTH(AH7+1)=MONTH(AH$5),AH7+1),"") -> 43986 | AL8: =IFERROR(WEEKNUM(AN8,2),"") -> 27 | AM8: =AN8 -> 44016 | AN8: =IFERROR(IF(MONTH(AN7+1)=MONTH(AN$5),AN7+1),"") -> 44016 | AR8: =IFERROR(WEEKNUM(AT8,2),"") -> 32 | AS8: =AT8 -> 44047 | AT8: =IFERROR(IF(MONTH(AT7+1)=MONTH(AT$5),AT7+1),"") -> 44047 | AX8: =IFERROR(WEEKNUM(AZ8,2),"") -> 36 | AY8: =AZ8 -> 44078 | AZ8: =IFERROR(IF(MONTH(AZ7+1)=MONTH(AZ$5),AZ7+1),"") -> 44078 | BD8: =IFERROR(WEEKNUM(BF8,2),"") -> 40 | BE8: =BF8 -> 44108 | BF8: =IFERROR(IF(MONTH(BF7+1)=MONTH(BF$5),BF7+1),"") -> 44108 | BJ8: =IFERROR(WEEKNUM(BL8,2),"") -> 45 | BK8: =BL8 -> 44139 | BL8: =IFERROR(IF(MONTH(BL7+1)=MONTH(BL$5),BL7+1),"") -> 44139 | BP8: =IFERROR(WEEKNUM(BR8,2),"") -> 49 | BQ8: =BR8 -> 44169 | BR8: =IFERROR(IF(MONTH(BR7+1)=MONTH(BR$5),BR7+1),"") -> 44169
B9: =IFERROR(WEEKNUM(D9,2),"") -> 1 | C9: =D9 -> 43835 | D9: =IFERROR(IF(MONTH(D8+1)=MONTH(D$5),D8+1),"") -> 43835 | E9: =_xlfn.IFNA(VLOOKUP(D9,Termine!B:C,2,0),"") | F9: =_xlfn.IFNA(VLOOKUP(D9,Feiertage!A:C,3,0),"") | H9: =IFERROR(WEEKNUM(J9,2),"") -> 6 | I9: =J9 -> 43866 | J9: =IFERROR(IF(MONTH(J8+1)=MONTH(J$5),J8+1),"") -> 43866 | N9: =IFERROR(WEEKNUM(P9,2),"") -> 10 | O9: =P9 -> 43895 | P9: =IFERROR(IF(MONTH(P8+1)=MONTH(P$5),P8+1),"") -> 43895 | T9: =IFERROR(WEEKNUM(V9,2),"") -> 14 | U9: =V9 -> 43926 | V9: =IFERROR(IF(MONTH(V8+1)=MONTH(V$5),V8+1),"") -> 43926 | Z9: =IFERROR(WEEKNUM(AB9,2),"") -> 19 | AA9: =AB9 -> 43956 | AB9: =IFERROR(IF(MONTH(AB8+1)=MONTH(AB$5),AB8+1),"") -> 43956 | AF9: =IFERROR(WEEKNUM(AH9,2),"") -> 23 | AG9: =AH9 -> 43987 | AH9: =IFERROR(IF(MONTH(AH8+1)=MONTH(AH$5),AH8+1),"") -> 43987 | AL9: =IFERROR(WEEKNUM(AN9,2),"") -> 27 | AM9: =AN9 -> 44017 | AN9: =IFERROR(IF(MONTH(AN8+1)=MONTH(AN$5),AN8+1),"") -> 44017 | AR9: =IFERROR(WEEKNUM(AT9,2),"") -> 32 | AS9: =AT9 -> 44048 | AT9: =IFERROR(IF(MONTH(AT8+1)=MONTH(AT$5),AT8+1),"") -> 44048 | AX9: =IFERROR(WEEKNUM(AZ9,2),"") -> 36 | AY9: =AZ9 -> 44079 | AZ9: =IFERROR(IF(MONTH(AZ8+1)=MONTH(AZ$5),AZ8+1),"") -> 44079 | BD9: =IFERROR(WEEKNUM(BF9,2),"") -> 41 | BE9: =BF9 -> 44109 | BF9: =IFERROR(IF(MONTH(BF8+1)=MONTH(BF$5),BF8+1),"") -> 44109 | BJ9: =IFERROR(WEEKNUM(BL9,2),"") -> 45 | BK9: =BL9 -> 44140 | BL9: =IFERROR(IF(MONTH(BL8+1)=MONTH(BL$5),BL8+1),"") -> 44140 | BP9: =IFERROR(WEEKNUM(BR9,2),"") -> 49 | BQ9: =BR9 -> 44170 | BR9: =IFERROR(IF(MONTH(BR8+1)=MONTH(BR$5),BR8+1),"") -> 44170
B10: =IFERROR(WEEKNUM(D10,2),"") -> 2 | C10: =D10 -> 43836 | D10: =IFERROR(IF(MONTH(D9+1)=MONTH(D$5),D9+1),"") -> 43836 | E10: =_xlfn.IFNA(VLOOKUP(D10,Termine!B:C,2,0),"") | F10: =_xlfn.IFNA(VLOOKUP(D10,Feiertage!A:C,3,0),"") | H10: =IFERROR(WEEKNUM(J10,2),"") -> 6 | I10: =J10 -> 43867 | J10: =IFERROR(IF(MONTH(J9+1)=MONTH(J$5),J9+1),"") -> 43867 | N10: =IFERROR(WEEKNUM(P10,2),"") -> 10 | O10: =P10 -> 43896 | P10: =IFERROR(IF(MONTH(P9+1)=MONTH(P$5),P9+1),"") -> 43896 | T10: =IFERROR(WEEKNUM(V10,2),"") -> 15 | U10: =V10 -> 43927 | V10: =IFERROR(IF(MONTH(V9+1)=MONTH(V$5),V9+1),"") -> 43927 | Z10: =IFERROR(WEEKNUM(AB10,2),"") -> 19 | AA10: =AB10 -> 43957 | AB10: =IFERROR(IF(MONTH(AB9+1)=MONTH(AB$5),AB9+1),"") -> 43957 | AF10: =IFERROR(WEEKNUM(AH10,2),"") -> 23 | AG10: =AH10 -> 43988 | AH10: =IFERROR(IF(MONTH(AH9+1)=MONTH(AH$5),AH9+1),"") -> 43988 | AL10: =IFERROR(WEEKNUM(AN10,2),"") -> 28 | AM10: =AN10 -> 44018 | AN10: =IFERROR(IF(MONTH(AN9+1)=MONTH(AN$5),AN9+1),"") -> 44018 | AR10: =IFERROR(WEEKNUM(AT10,2),"") -> 32 | AS10: =AT10 -> 44049 | AT10: =IFERROR(IF(MONTH(AT9+1)=MONTH(AT$5),AT9+1),"") -> 44049 | AX10: =IFERROR(WEEKNUM(AZ10,2),"") -> 36 | AY10: =AZ10 -> 44080 | AZ10: =IFERROR(IF(MONTH(AZ9+1)=MONTH(AZ$5),AZ9+1),"") -> 44080 | BD10: =IFERROR(WEEKNUM(BF10,2),"") -> 41 | BE10: =BF10 -> 44110 | BF10: =IFERROR(IF(MONTH(BF9+1)=MONTH(BF$5),BF9+1),"") -> 44110 | BJ10: =IFERROR(WEEKNUM(BL10,2),"") -> 45 | BK10: =BL10 -> 44141 | BL10: =IFERROR(IF(MONTH(BL9+1)=MONTH(BL$5),BL9+1),"") -> 44141 | BP10: =IFERROR(WEEKNUM(BR10,2),"") -> 49 | BQ10: =BR10 -> 44171 | BR10: =IFERROR(IF(MONTH(BR9+1)=MONTH(BR$5),BR9+1),"") -> 44171
B11: =IFERROR(WEEKNUM(D11,2),"") -> 2 | C11: =D11 -> 43837 | D11: =IFERROR(IF(MONTH(D10+1)=MONTH(D$5),D10+1),"") -> 43837 | E11: =_xlfn.IFNA(VLOOKUP(D11,Termine!B:C,2,0),"") | F11: =_xlfn.IFNA(VLOOKUP(D11,Feiertage!A:C,3,0),"") | H11: =IFERROR(WEEKNUM(J11,2),"") -> 6 | I11: =J11 -> 43868 | J11: =IFERROR(IF(MONTH(J10+1)=MONTH(J$5),J10+1),"") -> 43868 | N11: =IFERROR(WEEKNUM(P11,2),"") -> 10 | O11: =P11 -> 43897 | P11: =IFERROR(IF(MONTH(P10+1)=MONTH(P$5),P10+1),"") -> 43897 | T11: =IFERROR(WEEKNUM(V11,2),"") -> 15 | U11: =V11 -> 43928 | V11: =IFERROR(IF(MONTH(V10+1)=MONTH(V$5),V10+1),"") -> 43928 | Z11: =IFERROR(WEEKNUM(AB11,2),"") -> 19 | AA11: =AB11 -> 43958 | AB11: =IFERROR(IF(MONTH(AB10+1)=MONTH(AB$5),AB10+1),"") -> 43958 | AF11: =IFERROR(WEEKNUM(AH11,2),"") -> 23 | AG11: =AH11 -> 43989 | AH11: =IFERROR(IF(MONTH(AH10+1)=MONTH(AH$5),AH10+1),"") -> 43989 | AL11: =IFERROR(WEEKNUM(AN11,2),"") -> 28 | AM11: =AN11 -> 44019 | AN11: =IFERROR(IF(MONTH(AN10+1)=MONTH(AN$5),AN10+1),"") -> 44019 | AR11: =IFERROR(WEEKNUM(AT11,2),"") -> 32 | AS11: =AT11 -> 44050 | AT11: =IFERROR(IF(MONTH(AT10+1)=MONTH(AT$5),AT10+1),"") -> 44050 | AX11: =IFERROR(WEEKNUM(AZ11,2),"") -> 37 | AY11: =AZ11 -> 44081 | AZ11: =IFERROR(IF(MONTH(AZ10+1)=MONTH(AZ$5),AZ10+1),"") -> 44081 | BD11: =IFERROR(WEEKNUM(BF11,2),"") -> 41 | BE11: =BF11 -> 44111 | BF11: =IFERROR(IF(MONTH(BF10+1)=MONTH(BF$5),BF10+1),"") -> 44111 | BJ11: =IFERROR(WEEKNUM(BL11,2),"") -> 45 | BK11: =BL11 -> 44142 | BL11: =IFERROR(IF(MONTH(BL10+1)=MONTH(BL$5),BL10+1),"") -> 44142 | BP11: =IFERROR(WEEKNUM(BR11,2),"") -> 50 | BQ11: =BR11 -> 44172 | BR11: =IFERROR(IF(MONTH(BR10+1)=MONTH(BR$5),BR10+1),"") -> 44172
B12: =IFERROR(WEEKNUM(D12,2),"") -> 2 | C12: =D12 -> 43838 | D12: =IFERROR(IF(MONTH(D11+1)=MONTH(D$5),D11+1),"") -> 43838 | E12: =_xlfn.IFNA(VLOOKUP(D12,Termine!B:C,2,0),"") | F12: =_xlfn.IFNA(VLOOKUP(D12,Feiertage!A:C,3,0),"") | H12: =IFERROR(WEEKNUM(J12,2),"") -> 6 | I12: =J12 -> 43869 | J12: =IFERROR(IF(MONTH(J11+1)=MONTH(J$5),J11+1),"") -> 43869 | N12: =IFERROR(WEEKNUM(P12,2),"") -> 10 | O12: =P12 -> 43898 | P12: =IFERROR(IF(MONTH(P11+1)=MONTH(P$5),P11+1),"") -> 43898 | T12: =IFERROR(WEEKNUM(V12,2),"") -> 15 | U12: =V12 -> 43929 | V12: =IFERROR(IF(MONTH(V11+1)=MONTH(V$5),V11+1),"") -> 43929 | Z12: =IFERROR(WEEKNUM(AB12,2),"") -> 19 | AA12: =AB12 -> 43959 | AB12: =IFERROR(IF(MONTH(AB11+1)=MONTH(AB$5),AB11+1),"") -> 43959 | AF12: =IFERROR(WEEKNUM(AH12,2),"") -> 24 | AG12: =AH12 -> 43990 | AH12: =IFERROR(IF(MONTH(AH11+1)=MONTH(AH$5),AH11+1),"") -> 43990 | AL12: =IFERROR(WEEKNUM(AN12,2),"") -> 28 | AM12: =AN12 -> 44020 | AN12: =IFERROR(IF(MONTH(AN11+1)=MONTH(AN$5),AN11+1),"") -> 44020 | AR12: =IFERROR(WEEKNUM(AT12,2),"") -> 32 | AS12: =AT12 -> 44051 | AT12: =IFERROR(IF(MONTH(AT11+1)=MONTH(AT$5),AT11+1),"") -> 44051 | AX12: =IFERROR(WEEKNUM(AZ12,2),"") -> 37 | AY12: =AZ12 -> 44082 | AZ12: =IFERROR(IF(MONTH(AZ11+1)=MONTH(AZ$5),AZ11+1),"") -> 44082 | BD12: =IFERROR(WEEKNUM(BF12,2),"") -> 41 | BE12: =BF12 -> 44112 | BF12: =IFERROR(IF(MONTH(BF11+1)=MONTH(BF$5),BF11+1),"") -> 44112 | BJ12: =IFERROR(WEEKNUM(BL12,2),"") -> 45 | BK12: =BL12 -> 44143 | BL12: =IFERROR(IF(MONTH(BL11+1)=MONTH(BL$5),BL11+1),"") -> 44143 | BP12: =IFERROR(WEEKNUM(BR12,2),"") -> 50 | BQ12: =BR12 -> 44173 | BR12: =IFERROR(IF(MONTH(BR11+1)=MONTH(BR$5),BR11+1),"") -> 44173
B13: =IFERROR(WEEKNUM(D13,2),"") -> 2 | C13: =D13 -> 43839 | D13: =IFERROR(IF(MONTH(D12+1)=MONTH(D$5),D12+1),"") -> 43839 | E13: =_xlfn.IFNA(VLOOKUP(D13,Termine!B:C,2,0),"") | F13: =_xlfn.IFNA(VLOOKUP(D13,Feiertage!A:C,3,0),"") | H13: =IFERROR(WEEKNUM(J13,2),"") -> 6 | I13: =J13 -> 43870 | J13: =IFERROR(IF(MONTH(J12+1)=MONTH(J$5),J12+1),"") -> 43870 | N13: =IFERROR(WEEKNUM(P13,2),"") -> 11 | O13: =P13 -> 43899 | P13: =IFERROR(IF(MONTH(P12+1)=MONTH(P$5),P12+1),"") -> 43899 | T13: =IFERROR(WEEKNUM(V13,2),"") -> 15 | U13: =V13 -> 43930 | V13: =IFERROR(IF(MONTH(V12+1)=MONTH(V$5),V12+1),"") -> 43930 | Z13: =IFERROR(WEEKNUM(AB13,2),"") -> 19 | AA13: =AB13 -> 43960 | AB13: =IFERROR(IF(MONTH(AB12+1)=MONTH(AB$5),AB12+1),"") -> 43960 | AF13: =IFERROR(WEEKNUM(AH13,2),"") -> 24 | AG13: =AH13 -> 43991 | AH13: =IFERROR(IF(MONTH(AH12+1)=MONTH(AH$5),AH12+1),"") -> 43991 | AL13: =IFERROR(WEEKNUM(AN13,2),"") -> 28 | AM13: =AN13 -> 44021 | AN13: =IFERROR(IF(MONTH(AN12+1)=MONTH(AN$5),AN12+1),"") -> 44021 | AR13: =IFERROR(WEEKNUM(AT13,2),"") -> 32 | AS13: =AT13 -> 44052 | AT13: =IFERROR(IF(MONTH(AT12+1)=MONTH(AT$5),AT12+1),"") -> 44052 | AX13: =IFERROR(WEEKNUM(AZ13,2),"") -> 37 | AY13: =AZ13 -> 44083 | AZ13: =IFERROR(IF(MONTH(AZ12+1)=MONTH(AZ$5),AZ12+1),"") -> 44083 | BD13: =IFERROR(WEEKNUM(BF13,2),"") -> 41 | BE13: =BF13 -> 44113 | BF13: =IFERROR(IF(MONTH(BF12+1)=MONTH(BF$5),BF12+1),"") -> 44113 | BJ13: =IFERROR(WEEKNUM(BL13,2),"") -> 46 | BK13: =BL13 -> 44144 | BL13: =IFERROR(IF(MONTH(BL12+1)=MONTH(BL$5),BL12+1),"") -> 44144 | BP13: =IFERROR(WEEKNUM(BR13,2),"") -> 50 | BQ13: =BR13 -> 44174 | BR13: =IFERROR(IF(MONTH(BR12+1)=MONTH(BR$5),BR12+1),"") -> 44174
B14: =IFERROR(WEEKNUM(D14,2),"") -> 2 | C14: =D14 -> 43840 | D14: =IFERROR(IF(MONTH(D13+1)=MONTH(D$5),D13+1),"") -> 43840 | E14: =_xlfn.IFNA(VLOOKUP(D14,Termine!B:C,2,0),"") | F14: =_xlfn.IFNA(VLOOKUP(D14,Feiertage!A:C,3,0),"") | H14: =IFERROR(WEEKNUM(J14,2),"") -> 7 | I14: =J14 -> 43871 | J14: =IFERROR(IF(MONTH(J13+1)=MONTH(J$5),J13+1),"") -> 43871 | N14: =IFERROR(WEEKNUM(P14,2),"") -> 11 | O14: =P14 -> 43900 | P14: =IFERROR(IF(MONTH(P13+1)=MONTH(P$5),P13+1),"") -> 43900 | T14: =IFERROR(WEEKNUM(V14,2),"") -> 15 | U14: =V14 -> 43931 | V14: =IFERROR(IF(MONTH(V13+1)=MONTH(V$5),V13+1),"") -> 43931 | Z14: =IFERROR(WEEKNUM(AB14,2),"") -> 19 | AA14: =AB14 -> 43961 | AB14: =IFERROR(IF(MONTH(AB13+1)=MONTH(AB$5),AB13+1),"") -> 43961 | AF14: =IFERROR(WEEKNUM(AH14,2),"") -> 24 | AG14: =AH14 -> 43992 | AH14: =IFERROR(IF(MONTH(AH13+1)=MONTH(AH$5),AH13+1),"") -> 43992 | AL14: =IFERROR(WEEKNUM(AN14,2),"") -> 28 | AM14: =AN14 -> 44022 | AN14: =IFERROR(IF(MONTH(AN13+1)=MONTH(AN$5),AN13+1),"") -> 44022 | AR14: =IFERROR(WEEKNUM(AT14,2),"") -> 33 | AS14: =AT14 -> 44053 | AT14: =IFERROR(IF(MONTH(AT13+1)=MONTH(AT$5),AT13+1),"") -> 44053 | AX14: =IFERROR(WEEKNUM(AZ14,2),"") -> 37 | AY14: =AZ14 -> 44084 | AZ14: =IFERROR(IF(MONTH(AZ13+1)=MONTH(AZ$5),AZ13+1),"") -> 44084 | BD14: =IFERROR(WEEKNUM(BF14,2),"") -> 41 | BE14: =BF14 -> 44114 | BF14: =IFERROR(IF(MONTH(BF13+1)=MONTH(BF$5),BF13+1),"") -> 44114 | BJ14: =IFERROR(WEEKNUM(BL14,2),"") -> 46 | BK14: =BL14 -> 44145 | BL14: =IFERROR(IF(MONTH(BL13+1)=MONTH(BL$5),BL13+1),"") -> 44145 | BP14: =IFERROR(WEEKNUM(BR14,2),"") -> 50 | BQ14: =BR14 -> 44175 | BR14: =IFERROR(IF(MONTH(BR13+1)=MONTH(BR$5),BR13+1),"") -> 44175
B15: =IFERROR(WEEKNUM(D15,2),"") -> 2 | C15: =D15 -> 43841 | D15: =IFERROR(IF(MONTH(D14+1)=MONTH(D$5),D14+1),"") -> 43841 | E15: =_xlfn.IFNA(VLOOKUP(D15,Termine!B:C,2,0),"") | F15: =_xlfn.IFNA(VLOOKUP(D15,Feiertage!A:C,3,0),"") | H15: =IFERROR(WEEKNUM(J15,2),"") -> 7 | I15: =J15 -> 43872 | J15: =IFERROR(IF(MONTH(J14+1)=MONTH(J$5),J14+1),"") -> 43872 | N15: =IFERROR(WEEKNUM(P15,2),"") -> 11 | O15: =P15 -> 43901 | P15: =IFERROR(IF(MONTH(P14+1)=MONTH(P$5),P14+1),"") -> 43901 | T15: =IFERROR(WEEKNUM(V15,2),"") -> 15 | U15: =V15 -> 43932 | V15: =IFERROR(IF(MONTH(V14+1)=MONTH(V$5),V14+1),"") -> 43932 | Z15: =IFERROR(WEEKNUM(AB15,2),"") -> 20 | AA15: =AB15 -> 43962 | AB15: =IFERROR(IF(MONTH(AB14+1)=MONTH(AB$5),AB14+1),"") -> 43962 | AF15: =IFERROR(WEEKNUM(AH15,2),"") -> 24 | AG15: =AH15 -> 43993 | AH15: =IFERROR(IF(MONTH(AH14+1)=MONTH(AH$5),AH14+1),"") -> 43993 | AL15: =IFERROR(WEEKNUM(AN15,2),"") -> 28 | AM15: =AN15 -> 44023 | AN15: =IFERROR(IF(MONTH(AN14+1)=MONTH(AN$5),AN14+1),"") -> 44023 | AR15: =IFERROR(WEEKNUM(AT15,2),"") -> 33 | AS15: =AT15 -> 44054 | AT15: =IFERROR(IF(MONTH(AT14+1)=MONTH(AT$5),AT14+1),"") -> 44054 | AX15: =IFERROR(WEEKNUM(AZ15,2),"") -> 37 | AY15: =AZ15 -> 44085 | AZ15: =IFERROR(IF(MONTH(AZ14+1)=MONTH(AZ$5),AZ14+1),"") -> 44085 | BD15: =IFERROR(WEEKNUM(BF15,2),"") -> 41 | BE15: =BF15 -> 44115 | BF15: =IFERROR(IF(MONTH(BF14+1)=MONTH(BF$5),BF14+1),"") -> 44115 | BJ15: =IFERROR(WEEKNUM(BL15,2),"") -> 46 | BK15: =BL15 -> 44146 | BL15: =IFERROR(IF(MONTH(BL14+1)=MONTH(BL$5),BL14+1),"") -> 44146 | BP15: =IFERROR(WEEKNUM(BR15,2),"") -> 50 | BQ15: =BR15 -> 44176 | BR15: =IFERROR(IF(MONTH(BR14+1)=MONTH(BR$5),BR14+1),"") -> 44176
B16: =IFERROR(WEEKNUM(D16,2),"") -> 2 | C16: =D16 -> 43842 | D16: =IFERROR(IF(MONTH(D15+1)=MONTH(D$5),D15+1),"") -> 43842 | E16: =_xlfn.IFNA(VLOOKUP(D16,Termine!B:C,2,0),"") | F16: =_xlfn.IFNA(VLOOKUP(D16,Feiertage!A:C,3,0),"") | H16: =IFERROR(WEEKNUM(J16,2),"") -> 7 | I16: =J16 -> 43873 | J16: =IFERROR(IF(MONTH(J15+1)=MONTH(J$5),J15+1),"") -> 43873 | N16: =IFERROR(WEEKNUM(P16,2),"") -> 11 | O16: =P16 -> 43902 | P16: =IFERROR(IF(MONTH(P15+1)=MONTH(P$5),P15+1),"") -> 43902 | T16: =IFERROR(WEEKNUM(V16,2),"") -> 15 | U16: =V16 -> 43933 | V16: =IFERROR(IF(MONTH(V15+1)=MONTH(V$5),V15+1),"") -> 43933 | Z16: =IFERROR(WEEKNUM(AB16,2),"") -> 20 | AA16: =AB16 -> 43963 | AB16: =IFERROR(IF(MONTH(AB15+1)=MONTH(AB$5),AB15+1),"") -> 43963 | AF16: =IFERROR(WEEKNUM(AH16,2),"") -> 24 | AG16: =AH16 -> 43994 | AH16: =IFERROR(IF(MONTH(AH15+1)=MONTH(AH$5),AH15+1),"") -> 43994 | AL16: =IFERROR(WEEKNUM(AN16,2),"") -> 28 | AM16: =AN16 -> 44024 | AN16: =IFERROR(IF(MONTH(AN15+1)=MONTH(AN$5),AN15+1),"") -> 44024 | AR16: =IFERROR(WEEKNUM(AT16,2),"") -> 33 | AS16: =AT16 -> 44055 | AT16: =IFERROR(IF(MONTH(AT15+1)=MONTH(AT$5),AT15+1),"") -> 44055 | AX16: =IFERROR(WEEKNUM(AZ16,2),"") -> 37 | AY16: =AZ16 -> 44086 | AZ16: =IFERROR(IF(MONTH(AZ15+1)=MONTH(AZ$5),AZ15+1),"") -> 44086 | BD16: =IFERROR(WEEKNUM(BF16,2),"") -> 42 | BE16: =BF16 -> 44116 | BF16: =IFERROR(IF(MONTH(BF15+1)=MONTH(BF$5),BF15+1),"") -> 44116 | BJ16: =IFERROR(WEEKNUM(BL16,2),"") -> 46 | BK16: =BL16 -> 44147 | BL16: =IFERROR(IF(MONTH(BL15+1)=MONTH(BL$5),BL15+1),"") -> 44147 | BP16: =IFERROR(WEEKNUM(BR16,2),"") -> 50 | BQ16: =BR16 -> 44177 | BR16: =IFERROR(IF(MONTH(BR15+1)=MONTH(BR$5),BR15+1),"") -> 44177
B17: =IFERROR(WEEKNUM(D17,2),"") -> 3 | C17: =D17 -> 43843 | D17: =IFERROR(IF(MONTH(D16+1)=MONTH(D$5),D16+1),"") -> 43843 | E17: =_xlfn.IFNA(VLOOKUP(D17,Termine!B:C,2,0),"") | F17: =_xlfn.IFNA(VLOOKUP(D17,Feiertage!A:C,3,0),"") | H17: =IFERROR(WEEKNUM(J17,2),"") -> 7 | I17: =J17 -> 43874 | J17: =IFERROR(IF(MONTH(J16+1)=MONTH(J$5),J16+1),"") -> 43874 | N17: =IFERROR(WEEKNUM(P17,2),"") -> 11 | O17: =P17 -> 43903 | P17: =IFERROR(IF(MONTH(P16+1)=MONTH(P$5),P16+1),"") -> 43903 | T17: =IFERROR(WEEKNUM(V17,2),"") -> 16 | U17: =V17 -> 43934 | V17: =IFERROR(IF(MONTH(V16+1)=MONTH(V$5),V16+1),"") -> 43934 | Z17: =IFERROR(WEEKNUM(AB17,2),"") -> 20 | AA17: =AB17 -> 43964 | AB17: =IFERROR(IF(MONTH(AB16+1)=MONTH(AB$5),AB16+1),"") -> 43964 | AF17: =IFERROR(WEEKNUM(AH17,2),"") -> 24 | AG17: =AH17 -> 43995 | AH17: =IFERROR(IF(MONTH(AH16+1)=MONTH(AH$5),AH16+1),"") -> 43995 | AL17: =IFERROR(WEEKNUM(AN17,2),"") -> 29 | AM17: =AN17 -> 44025 | AN17: =IFERROR(IF(MONTH(AN16+1)=MONTH(AN$5),AN16+1),"") -> 44025 | AR17: =IFERROR(WEEKNUM(AT17,2),"") -> 33 | AS17: =AT17 -> 44056 | AT17: =IFERROR(IF(MONTH(AT16+1)=MONTH(AT$5),AT16+1),"") -> 44056 | AX17: =IFERROR(WEEKNUM(AZ17,2),"") -> 37 | AY17: =AZ17 -> 44087 | AZ17: =IFERROR(IF(MONTH(AZ16+1)=MONTH(AZ$5),AZ16+1),"") -> 44087 | BD17: =IFERROR(WEEKNUM(BF17,2),"") -> 42 | BE17: =BF17 -> 44117 | BF17: =IFERROR(IF(MONTH(BF16+1)=MONTH(BF$5),BF16+1),"") -> 44117 | BJ17: =IFERROR(WEEKNUM(BL17,2),"") -> 46 | BK17: =BL17 -> 44148 | BL17: =IFERROR(IF(MONTH(BL16+1)=MONTH(BL$5),BL16+1),"") -> 44148 | BP17: =IFERROR(WEEKNUM(BR17,2),"") -> 50 | BQ17: =BR17 -> 44178 | BR17: =IFERROR(IF(MONTH(BR16+1)=MONTH(BR$5),BR16+1),"") -> 44178
... B33: =IFERROR(WEEKNUM(D33,2),"") -> 5 | C33: =D33 -> 43859 | D33: =IFERROR(IF(MONTH(D32+1)=MONTH(D$5),D32+1),"") -> 43859 | E33: =_xlfn.IFNA(VLOOKUP(D33,Termine!B:C,2,0),"") | F33: =_xlfn.IFNA(VLOOKUP(D33,Feiertage!A:C,3,0),"") | H33: =IFERROR(WEEKNUM(J33,2),"") -> 9 | I33: =J33 -> 43890 | J33: =IFERROR(IF(MONTH(J32+1)=MONTH(J$5),J32+1),"") -> 43890 | N33: =IFERROR(WEEKNUM(P33,2),"") -> 13 | O33: =P33 -> 43919 | P33: =IFERROR(IF(MONTH(P32+1)=MONTH(P$5),P32+1),"") -> 43919 | T33: =IFERROR(WEEKNUM(V33,2),"") -> 18 | U33: =V33 -> 43950 | V33: =IFERROR(IF(MONTH(V32+1)=MONTH(V$5),V32+1),"") -> 43950 | Z33: =IFERROR(WEEKNUM(AB33,2),"") -> 22 | AA33: =AB33 -> 43980 | AB33: =IFERROR(IF(MONTH(AB32+1)=MONTH(AB$5),AB32+1),"") -> 43980 | AF33: =IFERROR(WEEKNUM(AH33,2),"") -> 27 | AG33: =AH33 -> 44011 | AH33: =IFERROR(IF(MONTH(AH32+1)=MONTH(AH$5),AH32+1),"") -> 44011 | AL33: =IFERROR(WEEKNUM(AN33,2),"") -> 31 | AM33: =AN33 -> 44041 | AN33: =IFERROR(IF(MONTH(AN32+1)=MONTH(AN$5),AN32+1),"") -> 44041 | AR33: =IFERROR(WEEKNUM(AT33,2),"") -> 35 | AS33: =AT33 -> 44072 | AT33: =IFERROR(IF(MONTH(AT32+1)=MONTH(AT$5),AT32+1),"") -> 44072 | AX33: =IFERROR(WEEKNUM(AZ33,2),"") -> 40 | AY33: =AZ33 -> 44103 | AZ33: =IFERROR(IF(MONTH(AZ32+1)=MONTH(AZ$5),AZ32+1),"") -> 44103 | BD33: =IFERROR(WEEKNUM(BF33,2),"") -> 44 | BE33: =BF33 -> 44133 | BF33: =IFERROR(IF(MONTH(BF32+1)=MONTH(BF$5),BF32+1),"") -> 44133 | BJ33: =IFERROR(WEEKNUM(BL33,2),"") -> 48 | BK33: =BL33 -> 44164 | BL33: =IFERROR(IF(MONTH(BL32+1)=MONTH(BL$5),BL32+1),"") -> 44164 | BP33: =IFERROR(WEEKNUM(BR33,2),"") -> 53 | BQ33: =BR33 -> 44194 | BR33: =IFERROR(IF(MONTH(BR32+1)=MONTH(BR$5),BR32+1),"") -> 44194
B34: =IFERROR(WEEKNUM(D34,2),"") -> 5 | C34: =D34 -> 43860 | D34: =IFERROR(IF(MONTH(D33+1)=MONTH(D$5),D33+1),"") -> 43860 | E34: =_xlfn.IFNA(VLOOKUP(D34,Termine!B:C,2,0),"") | F34: =_xlfn.IFNA(VLOOKUP(D34,Feiertage!A:C,3,0),"") | N34: =IFERROR(WEEKNUM(P34,2),"") -> 14 | O34: =P34 -> 43920 | P34: =IFERROR(IF(MONTH(P33+1)=MONTH(P$5),P33+1),"") -> 43920 | T34: =IFERROR(WEEKNUM(V34,2),"") -> 18 | U34: =V34 -> 43951 | V34: =IFERROR(IF(MONTH(V33+1)=MONTH(V$5),V33+1),"") -> 43951 | Z34: =IFERROR(WEEKNUM(AB34,2),"") -> 22 | AA34: =AB34 -> 43981 | AB34: =IFERROR(IF(MONTH(AB33+1)=MONTH(AB$5),AB33+1),"") -> 43981 | AF34: =IFERROR(WEEKNUM(AH34,2),"") -> 27 | AG34: =AH34 -> 44012 | AH34: =IFERROR(IF(MONTH(AH33+1)=MONTH(AH$5),AH33+1),"") -> 44012 | AL34: =IFERROR(WEEKNUM(AN34,2),"") -> 31 | AM34: =AN34 -> 44042 | AN34: =IFERROR(IF(MONTH(AN33+1)=MONTH(AN$5),AN33+1),"") -> 44042 | AR34: =IFERROR(WEEKNUM(AT34,2),"") -> 35 | AS34: =AT34 -> 44073 | AT34: =IFERROR(IF(MONTH(AT33+1)=MONTH(AT$5),AT33+1),"") -> 44073 | AX34: =IFERROR(WEEKNUM(AZ34,2),"") -> 40 | AY34: =AZ34 -> 44104 | AZ34: =IFERROR(IF(MONTH(AZ33+1)=MONTH(AZ$5),AZ33+1),"") -> 44104 | BD34: =IFERROR(WEEKNUM(BF34,2),"") -> 44 | BE34: =BF34 -> 44134 | BF34: =IFERROR(IF(MONTH(BF33+1)=MONTH(BF$5),BF33+1),"") -> 44134 | BJ34: =IFERROR(WEEKNUM(BL34,2),"") -> 49 | BK34: =BL34 -> 44165 | BL34: =IFERROR(IF(MONTH(BL33+1)=MONTH(BL$5),BL33+1),"") -> 44165 | BP34: =IFERROR(WEEKNUM(BR34,2),"") -> 53 | BQ34: =BR34 -> 44195 | BR34: =IFERROR(IF(MONTH(BR33+1)=MONTH(BR$5),BR33+1),"") -> 44195
B35: =IFERROR(WEEKNUM(D35,2),"") -> 5 | C35: =D35 -> 43861 | D35: =IFERROR(IF(MONTH(D34+1)=MONTH(D$5),D34+1),"") -> 43861 | E35: =_xlfn.IFNA(VLOOKUP(D35,Termine!B:C,2,0),"") | F35: =_xlfn.IFNA(VLOOKUP(D35,Feiertage!A:C,3,0),"") | N35: =IFERROR(WEEKNUM(P35,2),"") -> 14 | O35: =P35 -> 43921 | P35: =IFERROR(IF(MONTH(P34+1)=MONTH(P$5),P34+1),"") -> 43921 | Z35: =IFERROR(WEEKNUM(AB35,2),"") -> 22 | AA35: =AB35 -> 43982 | AB35: =IFERROR(IF(MONTH(AB34+1)=MONTH(AB$5),AB34+1),"") -> 43982 | AL35: =IFERROR(WEEKNUM(AN35,2),"") -> 31 | AM35: =AN35 -> 44043 | AN35: =IFERROR(IF(MONTH(AN34+1)=MONTH(AN$5),AN34+1),"") -> 44043 | AR35: =IFERROR(WEEKNUM(AT35,2),"") -> 36 | AS35: =AT35 -> 44074 | AT35: =IFERROR(IF(MONTH(AT34+1)=MONTH(AT$5),AT34+1),"") -> 44074 | BD35: =IFERROR(WEEKNUM(BF35,2),"") -> 44 | BE35: =BF35 -> 44135 | BF35: =IFERROR(IF(MONTH(BF34+1)=MONTH(BF$5),BF34+1),"") -> 44135 | BP35: =IFERROR(WEEKNUM(BR35,2),"") -> 53 | BQ35: =BR35 -> 44196 | BR35: =IFERROR(IF(MONTH(BR34+1)=MONTH(BR$5),BR34+1),"") -> 44196

Sheet Termine
A1: Nr. | B1: Datum („dd.mm.“) | C1: Beschreibung | D1: Jahr: | E1: 2020 | H1: Geb.-Jahr | I1: Alter
A2: 1 | B2: 43845 | C2: Tatjana Geb. | D2: =IF(B2="","",DATEVALUE(CONCATENATE(DAY(B2),".",MONTH(B2),".",Kalender!$A$1))) -> #VALUE! | E2: =IF(ISERROR(RANK(D2,$D$2:$D$101,1)),"",RANK(D2,$D$2:$D$101,1)) | F2: =IF(ISERROR(INDEX($D$2:$D$101,MATCH(A2,$E$2:$E$101,0),1)),"",INDEX($D$2:$D$101,MATCH(A2,$E$2:$E$101,0),1)) | G2: =IF(ISERROR(INDEX($C$2:$C$101,MATCH(A2,$E$2:$E$101,0),1)),"",INDEX($C$2:$C$101,MATCH(A2,$E$2:$E$101,0),1)) | H2: 20469 | I2: =IF(H2="","",DATEDIF(H2,TODAY(),"y")&" J "&DATEDIF(H2,TODAY(),"ym")&" M, und "&DATEDIF(H2,TODAY(),"md")&" T") -> 64 J 2 M, und 0 T
A3: 2 | B3: 43871 | C3: Nachbarin | D3: =IF(B3="","",DATEVALUE(CONCATENATE(DAY(B3),".",MONTH(B3),".",Kalender!$A$1))) -> #VALUE! | E3: =IF(ISERROR(RANK(D3,$D$2:$D$101,1)),"",RANK(D3,$D$2:$D$101,1)) | F3: =IF(ISERROR(INDEX($D$2:$D$101,MATCH(A3,$E$2:$E$101,0),1)),"",INDEX($D$2:$D$101,MATCH(A3,$E$2:$E$101,0),1)) | G3: =IF(ISERROR(INDEX($C$2:$C$101,MATCH(A3,$E$2:$E$101,0),1)),"",INDEX($C$2:$C$101,MATCH(A3,$E$2:$E$101,0),1)) | H3: 29627 | I3: =IF(H3="","",DATEDIF(H3,TODAY(),"y")&" J "&DATEDIF(H3,TODAY(),"ym")&" M, und "&DATEDIF(H3,TODAY(),"md")&" T") -> 39 J 1 M, und 5 T
A4: 3 | B4: 43893 | C4: Beamtenfrau | D4: =IF(B4="","",DATEVALUE(CONCATENATE(DAY(B4),".",MONTH(B4),".",Kalender!$A$1))) -> #VALUE! | E4: =IF(ISERROR(RANK(D4,$D$2:$D$101,1)),"",RANK(D4,$D$2:$D$101,1)) | F4: =IF(ISERROR(INDEX($D$2:$D$101,MATCH(A4,$E$2:$E$101,0),1)),"",INDEX($D$2:$D$101,MATCH(A4,$E$2:$E$101,0),1)) | G4: =IF(ISERROR(INDEX($C$2:$C$101,MATCH(A4,$E$2:$E$101,0),1)),"",INDEX($C$2:$C$101,MATCH(A4,$E$2:$E$101,0),1)) | H4: 22343 | I4: =IF(H4="","",DATEDIF(H4,TODAY(),"y")&" J "&DATEDIF(H4,TODAY(),"ym")&" M, und "&DATEDIF(H4,TODAY(),"md")&" T") -> 59 J 0 M, und 12 T
A5: 4 | B5: 43905 | C5: Osel | D5: =IF(B5="","",DATEVALUE(CONCATENATE(DAY(B5),".",MONTH(B5),".",Kalender!$A$1))) -> #VALUE! | E5: =IF(ISERROR(RANK(D5,$D$2:$D$101,1)),"",RANK(D5,$D$2:$D$101,1)) | F5: =IF(ISERROR(INDEX($D$2:$D$101,MATCH(A5,$E$2:$E$101,0),1)),"",INDEX($D$2:$D$101,MATCH(A5,$E$2:$E$101,0),1)) | G5: =IF(ISERROR(INDEX($C$2:$C$101,MATCH(A5,$E$2:$E$101,0),1)),"",INDEX($C$2:$C$101,MATCH(A5,$E$2:$E$101,0),1)) | H5: 22355 | I5: =IF(H5="","",DATEDIF(H5,TODAY(),"y")&" J "&DATEDIF(H5,TODAY(),"ym")&" M, und "&DATEDIF(H5,TODAY(),"md")&" T") -> 59 J 0 M, und 0 T
A6: 5 | B6: 43924 | C6: ttteeesssttt | D6: =IF(B6="","",DATEVALUE(CONCATENATE(DAY(B6),".",MONTH(B6),".",Kalender!$A$1))) -> #VALUE! | E6: =IF(ISERROR(RANK(D6,$D$2:$D$101,1)),"",RANK(D6,$D$2:$D$101,1)) | F6: =IF(ISERROR(INDEX($D$2:$D$101,MATCH(A6,$E$2:$E$101,0),1)),"",INDEX($D$2:$D$101,MATCH(A6,$E$2:$E$101,0),1)) | G6: =IF(ISERROR(INDEX($C$2:$C$101,MATCH(A6,$E$2:$E$101,0),1)),"",INDEX($C$2:$C$101,MATCH(A6,$E$2:$E$101,0),1)) | I6: =IF(H6="","",DATEDIF(H6,TODAY(),"y")&" J "&DATEDIF(H6,TODAY(),"ym")&" M, und "&DATEDIF(H6,TODAY(),"md")&" T")
A7: 6 | B7: 43918 | C7: JHV | D7: =IF(B7="","",DATEVALUE(CONCATENATE(DAY(B7),".",MONTH(B7),".",Kalender!$A$1))) -> #VALUE! | E7: =IF(ISERROR(RANK(D7,$D$2:$D$101,1)),"",RANK(D7,$D$2:$D$101,1)) | F7: =IF(ISERROR(INDEX($D$2:$D$101,MATCH(A7,$E$2:$E$101,0),1)),"",INDEX($D$2:$D$101,MATCH(A7,$E$2:$E$101,0),1)) | G7: =IF(ISERROR(INDEX($C$2:$C$101,MATCH(A7,$E$2:$E$101,0),1)),"",INDEX($C$2:$C$101,MATCH(A7,$E$2:$E$101,0),1)) | I7: =IF(H7="","",DATEDIF(H7,TODAY(),"y")&" J "&DATEDIF(H7,TODAY(),"ym")&" M, und "&DATEDIF(H7,TODAY(),"md")&" T")
A8: 7 | B8: 43920 | C8: Begehung | D8: =IF(B8="","",DATEVALUE(CONCATENATE(DAY(B8),".",MONTH(B8),".",Kalender!$A$1))) -> #VALUE! | E8: =IF(ISERROR(RANK(D8,$D$2:$D$101,1)),"",RANK(D8,$D$2:$D$101,1)) | F8: =IF(ISERROR(INDEX($D$2:$D$101,MATCH(A8,$E$2:$E$101,0),1)),"",INDEX($D$2:$D$101,MATCH(A8,$E$2:$E$101,0),1)) | G8: =IF(ISERROR(INDEX($C$2:$C$101,MATCH(A8,$E$2:$E$101,0),1)),"",INDEX($C$2:$C$101,MATCH(A8,$E$2:$E$101,0),1)) | I8: =IF(H8="","",DATEDIF(H8,TODAY(),"y")&" J "&DATEDIF(H8,TODAY(),"ym")&" M, und "&DATEDIF(H8,TODAY(),"md")&" T")
A9: 8 | D9: =IF(B9="","",DATEVALUE(CONCATENATE(DAY(B9),".",MONTH(B9),".",Kalender!$A$1))) | E9: =IF(ISERROR(RANK(D9,$D$2:$D$101,1)),"",RANK(D9,$D$2:$D$101,1)) | F9: =IF(ISERROR(INDEX($D$2:$D$101,MATCH(A9,$E$2:$E$101,0),1)),"",INDEX($D$2:$D$101,MATCH(A9,$E$2:$E$101,0),1)) | G9: =IF(ISERROR(INDEX($C$2:$C$101,MATCH(A9,$E$2:$E$101,0),1)),"",INDEX($C$2:$C$101,MATCH(A9,$E$2:$E$101,0),1)) | I9: =IF(H9="","",DATEDIF(H9,TODAY(),"y")&" J "&DATEDIF(H9,TODAY(),"ym")&" M, und "&DATEDIF(H9,TODAY(),"md")&" T")
A10: 9 | D10: =IF(B10="","",DATEVALUE(CONCATENATE(DAY(B10),".",MONTH(B10),".",Kalender!$A$1))) | E10: =IF(ISERROR(RANK(D10,$D$2:$D$101,1)),"",RANK(D10,$D$2:$D$101,1)) | F10: =IF(ISERROR(INDEX($D$2:$D$101,MATCH(A10,$E$2:$E$101,0),1)),"",INDEX($D$2:$D$101,MATCH(A10,$E$2:$E$101,0),1)) | G10: =IF(ISERROR(INDEX($C$2:$C$101,MATCH(A10,$E$2:$E$101,0),1)),"",INDEX($C$2:$C$101,MATCH(A10,$E$2:$E$101,0),1)) | I10: =IF(H10="","",DATEDIF(H10,TODAY(),"y")&" J "&DATEDIF(H10,TODAY(),"ym")&" M, und "&DATEDIF(H10,TODAY(),"md")&" T")
A11: 10 | D11: =IF(B11="","",DATEVALUE(CONCATENATE(DAY(B11),".",MONTH(B11),".",Kalender!$A$1))) | E11: =IF(ISERROR(RANK(D11,$D$2:$D$101,1)),"",RANK(D11,$D$2:$D$101,1)) | F11: =IF(ISERROR(INDEX($D$2:$D$101,MATCH(A11,$E$2:$E$101,0),1)),"",INDEX($D$2:$D$101,MATCH(A11,$E$2:$E$101,0),1)) | G11: =IF(ISERROR(INDEX($C$2:$C$101,MATCH(A11,$E$2:$E$101,0),1)),"",INDEX($C$2:$C$101,MATCH(A11,$E$2:$E$101,0),1)) | I11: =IF(H11="","",DATEDIF(H11,TODAY(),"y")&" J "&DATEDIF(H11,TODAY(),"ym")&" M, und "&DATEDIF(H11,TODAY(),"md")&" T")
A12: 11 | D12: =IF(B12="","",DATEVALUE(CONCATENATE(DAY(B12),".",MONTH(B12),".",Kalender!$A$1))) | E12: =IF(ISERROR(RANK(D12,$D$2:$D$101,1)),"",RANK(D12,$D$2:$D$101,1)) | F12: =IF(ISERROR(INDEX($D$2:$D$101,MATCH(A12,$E$2:$E$101,0),1)),"",INDEX($D$2:$D$101,MATCH(A12,$E$2:$E$101,0),1)) | G12: =IF(ISERROR(INDEX($C$2:$C$101,MATCH(A12,$E$2:$E$101,0),1)),"",INDEX($C$2:$C$101,MATCH(A12,$E$2:$E$101,0),1)) | I12: =IF(H12="","",DATEDIF(H12,TODAY(),"y")&" J "&DATEDIF(H12,TODAY(),"ym")&" M, und "&DATEDIF(H12,TODAY(),"md")&" T")
A13: 12 | D13: =IF(B13="","",DATEVALUE(CONCATENATE(DAY(B13),".",MONTH(B13),".",Kalender!$A$1))) | E13: =IF(ISERROR(RANK(D13,$D$2:$D$101,1)),"",RANK(D13,$D$2:$D$101,1)) | F13: =IF(ISERROR(INDEX($D$2:$D$101,MATCH(A13,$E$2:$E$101,0),1)),"",INDEX($D$2:$D$101,MATCH(A13,$E$2:$E$101,0),1)) | G13: =IF(ISERROR(INDEX($C$2:$C$101,MATCH(A13,$E$2:$E$101,0),1)),"",INDEX($C$2:$C$101,MATCH(A13,$E$2:$E$101,0),1)) | I13: =IF(H13="","",DATEDIF(H13,TODAY(),"y")&" J "&DATEDIF(H13,TODAY(),"ym")&" M, und "&DATEDIF(H13,TODAY(),"md")&" T")
A14: 13 | D14: =IF(B14="","",DATEVALUE(CONCATENATE(DAY(B14),".",MONTH(B14),".",Kalender!$A$1))) | E14: =IF(ISERROR(RANK(D14,$D$2:$D$101,1)),"",RANK(D14,$D$2:$D$101,1)) | F14: =IF(ISERROR(INDEX($D$2:$D$101,MATCH(A14,$E$2:$E$101,0),1)),"",INDEX($D$2:$D$101,MATCH(A14,$E$2:$E$101,0),1)) | G14: =IF(ISERROR(INDEX($C$2:$C$101,MATCH(A14,$E$2:$E$101,0),1)),"",INDEX($C$2:$C$101,MATCH(A14,$E$2:$E$101,0),1)) | I14: =IF(H14="","",DATEDIF(H14,TODAY(),"y")&" J "&DATEDIF(H14,TODAY(),"ym")&" M, und "&DATEDIF(H14,TODAY(),"md")&" T")
A15: 14 | D15: =IF(B15="","",DATEVALUE(CONCATENATE(DAY(B15),".",MONTH(B15),".",Kalender!$A$1))) | E15: =IF(ISERROR(RANK(D15,$D$2:$D$101,1)),"",RANK(D15,$D$2:$D$101,1)) | F15: =IF(ISERROR(INDEX($D$2:$D$101,MATCH(A15,$E$2:$E$101,0),1)),"",INDEX($D$2:$D$101,MATCH(A15,$E$2:$E$101,0),1)) | G15: =IF(ISERROR(INDEX($C$2:$C$101,MATCH(A15,$E$2:$E$101,0),1)),"",INDEX($C$2:$C$101,MATCH(A15,$E$2:$E$101,0),1)) | I15: =IF(H15="","",DATEDIF(H15,TODAY(),"y")&" J "&DATEDIF(H15,TODAY(),"ym")&" M, und "&DATEDIF(H15,TODAY(),"md")&" T")
A16: 15 | D16: =IF(B16="","",DATEVALUE(CONCATENATE(DAY(B16),".",MONTH(B16),".",Kalender!$A$1))) | E16: =IF(ISERROR(RANK(D16,$D$2:$D$101,1)),"",RANK(D16,$D$2:$D$101,1)) | F16: =IF(ISERROR(INDEX($D$2:$D$101,MATCH(A16,$E$2:$E$101,0),1)),"",INDEX($D$2:$D$101,MATCH(A16,$E$2:$E$101,0),1)) | G16: =IF(ISERROR(INDEX($C$2:$C$101,MATCH(A16,$E$2:$E$101,0),1)),"",INDEX($C$2:$C$101,MATCH(A16,$E$2:$E$101,0),1)) | I16: =IF(H16="","",DATEDIF(H16,TODAY(),"y")&" J "&DATEDIF(H16,TODAY(),"ym")&" M, und "&DATEDIF(H16,TODAY(),"md")&" T")
A17: 16 | D17: =IF(B17="","",DATEVALUE(CONCATENATE(DAY(B17),".",MONTH(B17),".",Kalender!$A$1))) | E17: =IF(ISERROR(RANK(D17,$D$2:$D$101,1)),"",RANK(D17,$D$2:$D$101,1)) | F17: =IF(ISERROR(INDEX($D$2:$D$101,MATCH(A17,$E$2:$E$101,0),1)),"",INDEX($D$2:$D$101,MATCH(A17,$E$2:$E$101,0),1)) | G17: =IF(ISERROR(INDEX($C$2:$C$101,MATCH(A17,$E$2:$E$101,0),1)),"",INDEX($C$2:$C$101,MATCH(A17,$E$2:$E$101,0),1)) | I17: =IF(H17="","",DATEDIF(H17,TODAY(),"y")&" J "&DATEDIF(H17,TODAY(),"ym")&" M, und "&DATEDIF(H17,TODAY(),"md")&" T")
A18: 17 | D18: =IF(B18="","",DATEVALUE(CONCATENATE(DAY(B18),".",MONTH(B18),".",Kalender!$A$1))) | E18: =IF(ISERROR(RANK(D18,$D$2:$D$101,1)),"",RANK(D18,$D$2:$D$101,1)) | F18: =IF(ISERROR(INDEX($D$2:$D$101,MATCH(A18,$E$2:$E$101,0),1)),"",INDEX($D$2:$D$101,MATCH(A18,$E$2:$E$101,0),1)) | G18: =IF(ISERROR(INDEX($C$2:$C$101,MATCH(A18,$E$2:$E$101,0),1)),"",INDEX($C$2:$C$101,MATCH(A18,$E$2:$E$101,0),1)) | I18: =IF(H18="","",DATEDIF(H18,TODAY(),"y")&" J "&DATEDIF(H18,TODAY(),"ym")&" M, und "&DATEDIF(H18,TODAY(),"md")&" T")
A19: 18 | D19: =IF(B19="","",DATEVALUE(CONCATENATE(DAY(B19),".",MONTH(B19),".",Kalender!$A$1))) | E19: =IF(ISERROR(RANK(D19,$D$2:$D$101,1)),"",RANK(D19,$D$2:$D$101,1)) | F19: =IF(ISERROR(INDEX($D$2:$D$101,MATCH(A19,$E$2:$E$101,0),1)),"",INDEX($D$2:$D$101,MATCH(A19,$E$2:$E$101,0),1)) | G19: =IF(ISERROR(INDEX($C$2:$C$101,MATCH(A19,$E$2:$E$101,0),1)),"",INDEX($C$2:$C$101,MATCH(A19,$E$2:$E$101,0),1)) | I19: =IF(H19="","",DATEDIF(H19,TODAY(),"y")&" J "&DATEDIF(H19,TODAY(),"ym")&" M, und "&DATEDIF(H19,TODAY(),"md")&" T")
A20: 19 | D20: =IF(B20="","",DATEVALUE(CONCATENATE(DAY(B20),".",MONTH(B20),".",Kalender!$A$1))) | E20: =IF(ISERROR(RANK(D20,$D$2:$D$101,1)),"",RANK(D20,$D$2:$D$101,1)) | F20: =IF(ISERROR(INDEX($D$2:$D$101,MATCH(A20,$E$2:$E$101,0),1)),"",INDEX($D$2:$D$101,MATCH(A20,$E$2:$E$101,0),1)) | G20: =IF(ISERROR(INDEX($C$2:$C$101,MATCH(A20,$E$2:$E$101,0),1)),"",INDEX($C$2:$C$101,MATCH(A20,$E$2:$E$101,0),1)) | I20: =IF(H20="","",DATEDIF(H20,TODAY(),"y")&" J "&DATEDIF(H20,TODAY(),"ym")&" M, und "&DATEDIF(H20,TODAY(),"md")&" T")
... A101: 100 | D101: =IF(B101="","",DATEVALUE(CONCATENATE(DAY(B101),".",MONTH(B101),".",Kalender!$A$1))) | E101: =IF(ISERROR(RANK(D101,$D$2:$D$101,1)),"",RANK(D101,$D$2:$D$101,1)) | F101: =IF(ISERROR(INDEX($D$2:$D$101,MATCH(A101,$E$2:$E$101,0),1)),"",INDEX($D$2:$D$101,MATCH(A101,$E$2:$E$101,0),1)) | G101: =IF(ISERROR(INDEX($C$2:$C$101,MATCH(A101,$E$2:$E$101,0),1)),"",INDEX($C$2:$C$101,MATCH(A101,$E$2:$E$101,0),1)) | I101: =IF(H101="","",DATEDIF(H101,TODAY(),"y")&" J "&DATEDIF(H101,TODAY(),"ym")&" M, und "&DATEDIF(H101,TODAY(),"md")&" T")

Sheet Feiertage
A1: =IF(B1="ja",DATEVALUE(CONCATENATE("01.01.",E1)),"") -> #VALUE! | B1: ja | C1: Neujahr | E1: =Kalender!A1 -> 2020
A2: =IF(B2="ja",DATEVALUE(CONCATENATE("06.01.",Kalender!$A$1)),"") -> #VALUE! | B2: ja | C2: Heilig Drei Könige
A3: =IF(B3="ja",A4-2,"") -> 43931 | B3: ja | C3: Karfeitag
A4: =IF(B4="ja",DATE(E1,3,1)+MOD((255-11*MOD(E1,19)-21),30)+21+(MOD((255-11*MOD(E1,19)-21),30)+21>48)+6-MOD(E1+INT(E1/4)+MOD((255-11*MOD(E1,19)-21),30)+21+(MOD((255-11*MOD(E1,19)-21),30)+21>48)+1,7),"") -> 43933 | B4: ja | C4: Ostersonntag
A5: =IF(B5="ja",A4+1,"") -> 43934 | B5: ja | C5: Ostermontag
A6: =IF(B6="ja",DATEVALUE(CONCATENATE("01.01.",Kalender!$A$1)),"") -> #VALUE! | B6: ja | C6: Maifeiertag
A7: =IF(B7="ja",A4+39,"") -> 43972 | B7: ja | C7: Christi Himmelfahrt
A8: =IF(B8="ja",A4+49,"") -> 43982 | B8: ja | C8: Pfingstsonntag
A9: =IF(B9="ja",A4+50,"") -> 43983 | B9: ja | C9: Pfingstmontag
A10: =IF(B10="ja",A4+60,"") -> 43993 | B10: ja | C10: Fronleichnam
A11: =IF(B11="ja",DATEVALUE(CONCATENATE("01.01.",Kalender!$A$1)),"")
A12: =IF(B12="ja",DATEVALUE(CONCATENATE("01.01.",Kalender!$A$1)),"") -> #VALUE! | B12: ja | C12: Mariä Himmelfahrt
A13: =IF(B13="ja",DATEVALUE(CONCATENATE("01.01.",Kalender!$A$1)),"") -> #VALUE! | B13: ja | C13: Tag der dt. Einheit
A14: =IF(B14="ja",DATEVALUE(CONCATENATE("01.01.",Kalender!$A$1)),"") | C14: Reformationstag
A15: =IF(B15="ja",DATEVALUE(CONCATENATE("01.11.",Kalender!$A$1)),"") -> #VALUE! | B15: ja | C15: Allerheiligen
A16: =IF(B16="ja",DATEVALUE(CONCATENATE(ROUNDUP(22-MOD((E1-1+E1/4),7),0),".11.",E1)),"") -> #VALUE! | B16: ja | C16: Buß- und Bettag
A17: =IF(B17="ja",DATEVALUE(CONCATENATE("25.12.",Kalender!$A$1)),"") -> #VALUE! | B17: ja | C17: 1. Weihnachtstag
A18: =IF(B18="ja",DATEVALUE(CONCATENATE("26.12.",Kalender!$A$1)),"") -> #VALUE! | B18: ja | C18: 2. Weihnachtstag
A19: =IF(B19="ja",DATEVALUE(CONCATENATE("01.01.",Kalender!$A$1)),"")
A20: =IF(B20="ja",DATEVALUE(CONCATENATE("01.01.",Kalender!$A$1)),"")
A21: =IF(B21="ja",DATEVALUE(CONCATENATE("01.01.",Kalender!$A$1)),"")
A22: =IF(B22="ja",DATEVALUE(CONCATENATE("01.01.",Kalender!$A$1)),"")
A23: =IF(B23="ja",DATEVALUE(CONCATENATE("01.01.",Kalender!$A$1)),"")
A24: =IF(B24="ja",DATEVALUE(CONCATENATE("01.01.",Kalender!$A$1)),"")
A25: =IF(B25="ja",DATEVALUE(CONCATENATE("01.01.",Kalender!$A$1)),"")
A26: =IF(B26="ja",DATEVALUE(CONCATENATE("01.01.",Kalender!$A$1)),"")
A27: =IF(B27="ja",DATEVALUE(CONCATENATE("01.01.",Kalender!$A$1)),"")
A28: =IF(B28="ja",DATEVALUE(CONCATENATE("01.01.",Kalender!$A$1)),"")
A29: =IF(B29="ja",DATEVALUE(CONCATENATE("01.01.",Kalender!$A$1)),"")
A30: =IF(B30="ja",DATEVALUE(CONCATENATE("01.01.",Kalender!$A$1)),"")
... A44: =IF(B44="ja",DATEVALUE(CONCATENATE("01.01.",Kalender!$A$1)),"")
