Workbook

Sheet RoyaltyCalculator
C3: =IFERROR(VLOOKUP(E10,'Lookup Tables'!R:S,2,FALSE),"") -> Amazon.com | D3: Tantiemenrechner
C4: =IFERROR(VLOOKUP(C3,'Lookup Tables'!U:V,2,FALSE),"") -> USD
C6: Die Werte, die mit diesem Tool berechnet werden, sind lediglich Schätzwerte. Die Tantiemen, die Sie tatsächlich verdienen, werden beim Einrichten des Buchs ermittelt.
C8: 1. Geben Sie den Inhaltstyp ein:
C9: 2. Geben Sie die Anzahl der Seiten ein: | F9: {=IF(E9="","",IF($E$8="","*Wählen Sie einen Inhaltstyp aus",IF(E9<MIN(IF(MAX(IF(Inputs!C:C=$E$8,Inputs!A:A))=Inputs!A:A,IF(Inputs!C:C=E8,Inputs!E:E))),"*Die minimal zulässige Seitenanzahl liegt bei "&MIN(IF(MAX(IF(Inputs!C:C=$E$8,Inputs!A:A))=Inputs!A:A,IF(Inputs!C:C=$E$8,Inputs!E:E))),IF(E9>MAX(IF(MAX(IF(Inputs!C:C=$E$8,Inputs!A:A))=Inputs!A:A,IF(Inputs!C:C=E8,Inputs!F:F))),"*Die maximal zulässige Seitenanzahl liegt bei "&MAX(IF(MAX(IF(Inputs!C:C=$E$8,Inputs!A:A))=Inputs!A:A,IF(Inputs!C:C=$E$8,Inputs!F:F))),""))))}
C10: 3. Wählen Sie einen Vertriebskanal aus: | E10: Amazon.com
C11: 4. Geben Sie den erwarteten Listenpreis ein: | F11: =IFERROR(IF($E$11<$E$14,"*Der Mindestlistenpreis liegt bei "&VLOOKUP($C$4,'Lookup Tables'!O:P,2,FALSE)&" "&TEXT(ROUND($E$14,2),"0.00"),""),"")
C13: Druckkosten: | E13: =IFERROR(ROUNDUP(IF($E$11="",0,SUMIFS('Lookup Tables'!$G:$G,'Lookup Tables'!$C:$C,$E$8,'Lookup Tables'!$D:$D,$C$3,'Lookup Tables'!$E:$E,"<="&$E$9,'Lookup Tables'!$F:$F,">="&$E$9)+(SUMIFS('Lookup Tables'!$H:$H,'Lookup Tables'!$C:$C,$E$8,'Lookup Tables'!$D:$D,$C$3,'Lookup Tables'!$E:$E,"<="&$E$9,'Lookup Tables'!$F:$F,">="&$E$9)*$E$9)),2),0) -> 0
C14: Mindestlistenpreis: | E14: =IFERROR(ROUNDUP($E$13/0.6,2),0) -> 0
C15: Amazon-Tantiemen: | E15: =IFERROR(ROUNDUP(IF($E$13=0,0,($E$11*0.6)-$E$13),2),0) -> 0 | F15: =IF($E$15<0,"*Der Listenpreis liegt unter dem zulässigen Mindestlistenpreis","")
C16: Tantiemen aus dem erweiterten Vertrieb: | E16: =IFERROR(ROUNDUP(IF($E$13=0,0,($E$11*0.4)-$E$13),2),0) -> 0 | F16: =IFERROR(IF($E$16<0,"*Der Listenpreis ist für den erweiterten Vertrieb zu niedrig",""),"")

Sheet Lookup Tables
A1: Pinting Costs by Channel | J1: Currency Exchange Rates
A2: Updated Date | B2: Pricing Tier | C2: Interior Type | D2: Marketplace | E2: Min Page Count | F2: Max Page Count | G2: Fixed Cost | H2: Per Page | J2: Updated Date | K2: From Currency | L2: To Currency | M2: Exchange Rate | O2: Currency | P2: Symbol | R2: Marketplace | S2: Channel | U2: Channel | V2: Currency
A3: {=MAX(IF(Inputs!C:C=C3,IF(Inputs!D:D=D3,IF(Inputs!B:B=B3,Inputs!A:A))))} -> 43313 | B3: Tier 1 | C3: Schwarze Tinte | D3: Amazon.com | E3: {=MIN(IF(Inputs!$A$3:$A$49980=$A3,IF(Inputs!$C$3:$C$49980=$C3,IF(Inputs!$D$3:$D$49980=$D3,Inputs!E$3:E$49980))))} -> 24 | F3: {=MIN(IF(Inputs!$A$3:$A$49980=$A3,IF(Inputs!$C$3:$C$49980=$C3,IF(Inputs!$D$3:$D$49980=$D3,Inputs!F$3:F$49980))))} -> 109 | G3: =SUMIFS(Inputs!G$3:G$49980,Inputs!$A$3:$A$49980,$A3,Inputs!$C$3:$C$49980,$C3,Inputs!$D$3:$D$49980,$D3,Inputs!$E$3:$E$49980,$E3,Inputs!$F$3:$F$49980,$F3) -> 2.15 | H3: =SUMIFS(Inputs!H$3:H$49980,Inputs!$A$3:$A$49980,$A3,Inputs!$C$3:$C$49980,$C3,Inputs!$D$3:$D$49980,$D3,Inputs!$E$3:$E$49980,$E3,Inputs!$F$3:$F$49980,$F3) -> 0 | J3: {=MAX(IF(Inputs!K$3:K$49980=K3,IF(Inputs!L$3:L$49980=L3,Inputs!J$3:J$49980)))} -> 43313 | K3: EUR | L3: USD | M3: 1.1713923 | O3: USD | P3: $ | R3: Amazon.com | S3: Amazon.com | U3: Amazon.com | V3: USD
A4: {=MAX(IF(Inputs!C:C=C4,IF(Inputs!D:D=D4,IF(Inputs!B:B=B4,Inputs!A:A))))} -> 43313 | B4: Tier 2 | C4: Schwarze Tinte | D4: Amazon.com | E4: {=MAX(IF(Inputs!$A$3:$A$49980=$A4,IF(Inputs!$C$3:$C$49980=$C4,IF(Inputs!$D$3:$D$49980=$D4,Inputs!E$3:E$49980))))} -> 110 | F4: {=MAX(IF(Inputs!$A$3:$A$49980=$A4,IF(Inputs!$C$3:$C$49980=$C4,IF(Inputs!$D$3:$D$49980=$D4,Inputs!F$3:F$49980))))} -> 828 | G4: =SUMIFS(Inputs!G$3:G$49980,Inputs!$A$3:$A$49980,$A4,Inputs!$C$3:$C$49980,$C4,Inputs!$D$3:$D$49980,$D4,Inputs!$E$3:$E$49980,$E4,Inputs!$F$3:$F$49980,$F4) -> 0.85 | H4: =SUMIFS(Inputs!H$3:H$49980,Inputs!$A$3:$A$49980,$A4,Inputs!$C$3:$C$49980,$C4,Inputs!$D$3:$D$49980,$D4,Inputs!$E$3:$E$49980,$E4,Inputs!$F$3:$F$49980,$F4) -> 0.012 | J4: {=MAX(IF(Inputs!K$3:K$49980=K4,IF(Inputs!L$3:L$49980=L4,Inputs!J$3:J$49980)))} -> 43313 | K4: EUR | L4: GBP | M4: 0.89251582 | O4: EUR | P4: € | R4: Amazon.co.uk | S4: Amazon.co.uk | U4: Amazon.co.uk | V4: GBP
A5: {=MAX(IF(Inputs!C:C=C5,IF(Inputs!D:D=D5,IF(Inputs!B:B=B5,Inputs!A:A))))} -> 43313 | B5: Tier 1 | C5: Farbige Tinte | D5: Amazon.com | E5: {=MIN(IF(Inputs!$A$3:$A$49980=$A5,IF(Inputs!$C$3:$C$49980=$C5,IF(Inputs!$D$3:$D$49980=$D5,Inputs!E$3:E$49980))))} -> 24 | F5: {=MIN(IF(Inputs!$A$3:$A$49980=$A5,IF(Inputs!$C$3:$C$49980=$C5,IF(Inputs!$D$3:$D$49980=$D5,Inputs!F$3:F$49980))))} -> 41 | G5: =SUMIFS(Inputs!G$3:G$49980,Inputs!$A$3:$A$49980,$A5,Inputs!$C$3:$C$49980,$C5,Inputs!$D$3:$D$49980,$D5,Inputs!$E$3:$E$49980,$E5,Inputs!$F$3:$F$49980,$F5) -> 3.65 | H5: =SUMIFS(Inputs!H$3:H$49980,Inputs!$A$3:$A$49980,$A5,Inputs!$C$3:$C$49980,$C5,Inputs!$D$3:$D$49980,$D5,Inputs!$E$3:$E$49980,$E5,Inputs!$F$3:$F$49980,$F5) -> 0 | J5: {=MAX(IF(Inputs!K$3:K$49980=K5,IF(Inputs!L$3:L$49980=L5,Inputs!J$3:J$49980)))} -> 43313 | K5: USD | L5: EUR | M5: 0.85380035 | O5: GBP | P5: £ | R5: Amazon.de | S5: Amazon.de | U5: Amazon.de | V5: EUR
A6: {=MAX(IF(Inputs!C:C=C6,IF(Inputs!D:D=D6,IF(Inputs!B:B=B6,Inputs!A:A))))} -> 43313 | B6: Tier 2 | C6: Farbige Tinte | D6: Amazon.com | E6: {=MAX(IF(Inputs!$A$3:$A$49980=$A6,IF(Inputs!$C$3:$C$49980=$C6,IF(Inputs!$D$3:$D$49980=$D6,Inputs!E$3:E$49980))))} -> 42 | F6: {=MAX(IF(Inputs!$A$3:$A$49980=$A6,IF(Inputs!$C$3:$C$49980=$C6,IF(Inputs!$D$3:$D$49980=$D6,Inputs!F$3:F$49980))))} -> 500 | G6: =SUMIFS(Inputs!G$3:G$49980,Inputs!$A$3:$A$49980,$A6,Inputs!$C$3:$C$49980,$C6,Inputs!$D$3:$D$49980,$D6,Inputs!$E$3:$E$49980,$E6,Inputs!$F$3:$F$49980,$F6) -> 0.85 | H6: =SUMIFS(Inputs!H$3:H$49980,Inputs!$A$3:$A$49980,$A6,Inputs!$C$3:$C$49980,$C6,Inputs!$D$3:$D$49980,$D6,Inputs!$E$3:$E$49980,$E6,Inputs!$F$3:$F$49980,$F6) -> 0.07 | J6: {=MAX(IF(Inputs!K$3:K$49980=K6,IF(Inputs!L$3:L$49980=L6,Inputs!J$3:J$49980)))} -> 43313 | K6: USD | L6: GBP | M6: 0.76045512 | R6: Amazon.fr | S6: Amazon.fr/Amazon.it/Amazon.es | U6: Amazon.fr/Amazon.it/Amazon.es | V6: EUR
A7: {=MAX(IF(Inputs!C:C=C7,IF(Inputs!D:D=D7,IF(Inputs!B:B=B7,Inputs!A:A))))} -> 43313 | B7: Tier 1 | C7: Schwarze Tinte | D7: Amazon.co.uk | E7: {=MIN(IF(Inputs!$A$3:$A$49980=$A7,IF(Inputs!$C$3:$C$49980=$C7,IF(Inputs!$D$3:$D$49980=$D7,Inputs!E$3:E$49980))))} -> 24 | F7: {=MIN(IF(Inputs!$A$3:$A$49980=$A7,IF(Inputs!$C$3:$C$49980=$C7,IF(Inputs!$D$3:$D$49980=$D7,Inputs!F$3:F$49980))))} -> 109 | G7: =SUMIFS(Inputs!G$3:G$49980,Inputs!$A$3:$A$49980,$A7,Inputs!$C$3:$C$49980,$C7,Inputs!$D$3:$D$49980,$D7,Inputs!$E$3:$E$49980,$E7,Inputs!$F$3:$F$49980,$F7) -> 1.7 | H7: =SUMIFS(Inputs!H$3:H$49980,Inputs!$A$3:$A$49980,$A7,Inputs!$C$3:$C$49980,$C7,Inputs!$D$3:$D$49980,$D7,Inputs!$E$3:$E$49980,$E7,Inputs!$F$3:$F$49980,$F7) -> 0 | J7: {=MAX(IF(Inputs!K$3:K$49980=K7,IF(Inputs!L$3:L$49980=L7,Inputs!J$3:J$49980)))} -> 43313 | K7: GBP | L7: USD | M7: 1.3131976 | R7: Amazon.it | S7: Amazon.fr/Amazon.it/Amazon.es
A8: {=MAX(IF(Inputs!C:C=C8,IF(Inputs!D:D=D8,IF(Inputs!B:B=B8,Inputs!A:A))))} -> 43313 | B8: Tier 2 | C8: Schwarze Tinte | D8: Amazon.co.uk | E8: {=MAX(IF(Inputs!$A$3:$A$49980=$A8,IF(Inputs!$C$3:$C$49980=$C8,IF(Inputs!$D$3:$D$49980=$D8,Inputs!E$3:E$49980))))} -> 110 | F8: {=MAX(IF(Inputs!$A$3:$A$49980=$A8,IF(Inputs!$C$3:$C$49980=$C8,IF(Inputs!$D$3:$D$49980=$D8,Inputs!F$3:F$49980))))} -> 828 | G8: =SUMIFS(Inputs!G$3:G$49980,Inputs!$A$3:$A$49980,$A8,Inputs!$C$3:$C$49980,$C8,Inputs!$D$3:$D$49980,$D8,Inputs!$E$3:$E$49980,$E8,Inputs!$F$3:$F$49980,$F8) -> 0.7 | H8: =SUMIFS(Inputs!H$3:H$49980,Inputs!$A$3:$A$49980,$A8,Inputs!$C$3:$C$49980,$C8,Inputs!$D$3:$D$49980,$D8,Inputs!$E$3:$E$49980,$E8,Inputs!$F$3:$F$49980,$F8) -> 0.01 | J8: {=MAX(IF(Inputs!K$3:K$49980=K8,IF(Inputs!L$3:L$49980=L8,Inputs!J$3:J$49980)))} -> 43313 | K8: GBP | L8: EUR | M8: 1.1204283 | R8: Amazon.es | S8: Amazon.fr/Amazon.it/Amazon.es
A9: {=MAX(IF(Inputs!C:C=C9,IF(Inputs!D:D=D9,IF(Inputs!B:B=B9,Inputs!A:A))))} -> 43313 | B9: Tier 1 | C9: Farbige Tinte | D9: Amazon.co.uk | E9: {=MIN(IF(Inputs!$A$3:$A$49980=$A9,IF(Inputs!$C$3:$C$49980=$C9,IF(Inputs!$D$3:$D$49980=$D9,Inputs!E$3:E$49980))))} -> 24 | F9: {=MIN(IF(Inputs!$A$3:$A$49980=$A9,IF(Inputs!$C$3:$C$49980=$C9,IF(Inputs!$D$3:$D$49980=$D9,Inputs!F$3:F$49980))))} -> 41 | G9: =SUMIFS(Inputs!G$3:G$49980,Inputs!$A$3:$A$49980,$A9,Inputs!$C$3:$C$49980,$C9,Inputs!$D$3:$D$49980,$D9,Inputs!$E$3:$E$49980,$E9,Inputs!$F$3:$F$49980,$F9) -> 2.05 | H9: =SUMIFS(Inputs!H$3:H$49980,Inputs!$A$3:$A$49980,$A9,Inputs!$C$3:$C$49980,$C9,Inputs!$D$3:$D$49980,$D9,Inputs!$E$3:$E$49980,$E9,Inputs!$F$3:$F$49980,$F9) -> 0 | J9: {=MAX(IF(Inputs!K$3:K$49980=K9,IF(Inputs!L$3:L$49980=L9,Inputs!J$3:J$49980)))} -> 43313 | K9: USD | L9: USD | M9: =SUMIFS(Inputs!M$3:M$49980,Inputs!$J$3:$J$49980,$J9,Inputs!$K$3:$K$49980,$K9,Inputs!$L$3:$L$49980,$L9) -> 1
A10: {=MAX(IF(Inputs!C:C=C10,IF(Inputs!D:D=D10,IF(Inputs!B:B=B10,Inputs!A:A))))} -> 43313 | B10: Tier 2 | C10: Farbige Tinte | D10: Amazon.co.uk | E10: {=MAX(IF(Inputs!$A$3:$A$49980=$A10,IF(Inputs!$C$3:$C$49980=$C10,IF(Inputs!$D$3:$D$49980=$D10,Inputs!E$3:E$49980))))} -> 42 | F10: {=MAX(IF(Inputs!$A$3:$A$49980=$A10,IF(Inputs!$C$3:$C$49980=$C10,IF(Inputs!$D$3:$D$49980=$D10,Inputs!F$3:F$49980))))} -> 500 | G10: =SUMIFS(Inputs!G$3:G$49980,Inputs!$A$3:$A$49980,$A10,Inputs!$C$3:$C$49980,$C10,Inputs!$D$3:$D$49980,$D10,Inputs!$E$3:$E$49980,$E10,Inputs!$F$3:$F$49980,$F10) -> 0.7 | H10: =SUMIFS(Inputs!H$3:H$49980,Inputs!$A$3:$A$49980,$A10,Inputs!$C$3:$C$49980,$C10,Inputs!$D$3:$D$49980,$D10,Inputs!$E$3:$E$49980,$E10,Inputs!$F$3:$F$49980,$F10) -> 0.045 | J10: {=MAX(IF(Inputs!K$3:K$49980=K10,IF(Inputs!L$3:L$49980=L10,Inputs!J$3:J$49980)))} -> 43313 | K10: GBP | L10: GBP | M10: =SUMIFS(Inputs!M$3:M$49980,Inputs!$J$3:$J$49980,$J10,Inputs!$K$3:$K$49980,$K10,Inputs!$L$3:$L$49980,$L10) -> 1
A11: {=MAX(IF(Inputs!C:C=C11,IF(Inputs!D:D=D11,IF(Inputs!B:B=B11,Inputs!A:A))))} -> 43313 | B11: Tier 1 | C11: Schwarze Tinte | D11: Amazon.de | E11: {=MIN(IF(Inputs!$A$3:$A$49980=$A11,IF(Inputs!$C$3:$C$49980=$C11,IF(Inputs!$D$3:$D$49980=$D11,Inputs!E$3:E$49980))))} -> 24 | F11: {=MIN(IF(Inputs!$A$3:$A$49980=$A11,IF(Inputs!$C$3:$C$49980=$C11,IF(Inputs!$D$3:$D$49980=$D11,Inputs!F$3:F$49980))))} -> 109 | G11: =SUMIFS(Inputs!G$3:G$49980,Inputs!$A$3:$A$49980,$A11,Inputs!$C$3:$C$49980,$C11,Inputs!$D$3:$D$49980,$D11,Inputs!$E$3:$E$49980,$E11,Inputs!$F$3:$F$49980,$F11) -> 1.9 | H11: =SUMIFS(Inputs!H$3:H$49980,Inputs!$A$3:$A$49980,$A11,Inputs!$C$3:$C$49980,$C11,Inputs!$D$3:$D$49980,$D11,Inputs!$E$3:$E$49980,$E11,Inputs!$F$3:$F$49980,$F11) -> 0 | J11: {=MAX(IF(Inputs!K$3:K$49980=K11,IF(Inputs!L$3:L$49980=L11,Inputs!J$3:J$49980)))} -> 43313 | K11: EUR | L11: EUR | M11: =SUMIFS(Inputs!M$3:M$49980,Inputs!$J$3:$J$49980,$J11,Inputs!$K$3:$K$49980,$K11,Inputs!$L$3:$L$49980,$L11) -> 1
A12: {=MAX(IF(Inputs!C:C=C12,IF(Inputs!D:D=D12,IF(Inputs!B:B=B12,Inputs!A:A))))} -> 43313 | B12: Tier 2 | C12: Schwarze Tinte | D12: Amazon.de | E12: {=MAX(IF(Inputs!$A$3:$A$49980=$A12,IF(Inputs!$C$3:$C$49980=$C12,IF(Inputs!$D$3:$D$49980=$D12,Inputs!E$3:E$49980))))} -> 110 | F12: {=MAX(IF(Inputs!$A$3:$A$49980=$A12,IF(Inputs!$C$3:$C$49980=$C12,IF(Inputs!$D$3:$D$49980=$D12,Inputs!F$3:F$49980))))} -> 828 | G12: =SUMIFS(Inputs!G$3:G$49980,Inputs!$A$3:$A$49980,$A12,Inputs!$C$3:$C$49980,$C12,Inputs!$D$3:$D$49980,$D12,Inputs!$E$3:$E$49980,$E12,Inputs!$F$3:$F$49980,$F12) -> 0.6 | H12: =SUMIFS(Inputs!H$3:H$49980,Inputs!$A$3:$A$49980,$A12,Inputs!$C$3:$C$49980,$C12,Inputs!$D$3:$D$49980,$D12,Inputs!$E$3:$E$49980,$E12,Inputs!$F$3:$F$49980,$F12) -> 0.012
A13: {=MAX(IF(Inputs!C:C=C13,IF(Inputs!D:D=D13,IF(Inputs!B:B=B13,Inputs!A:A))))} -> 43313 | B13: Tier 1 | C13: Farbige Tinte | D13: Amazon.de | E13: {=MIN(IF(Inputs!$A$3:$A$49980=$A13,IF(Inputs!$C$3:$C$49980=$C13,IF(Inputs!$D$3:$D$49980=$D13,Inputs!E$3:E$49980))))} -> 24 | F13: {=MIN(IF(Inputs!$A$3:$A$49980=$A13,IF(Inputs!$C$3:$C$49980=$C13,IF(Inputs!$D$3:$D$49980=$D13,Inputs!F$3:F$49980))))} -> 41 | G13: =SUMIFS(Inputs!G$3:G$49980,Inputs!$A$3:$A$49980,$A13,Inputs!$C$3:$C$49980,$C13,Inputs!$D$3:$D$49980,$D13,Inputs!$E$3:$E$49980,$E13,Inputs!$F$3:$F$49980,$F13) -> 2.4 | H13: =SUMIFS(Inputs!H$3:H$49980,Inputs!$A$3:$A$49980,$A13,Inputs!$C$3:$C$49980,$C13,Inputs!$D$3:$D$49980,$D13,Inputs!$E$3:$E$49980,$E13,Inputs!$F$3:$F$49980,$F13) -> 0
A14: {=MAX(IF(Inputs!C:C=C14,IF(Inputs!D:D=D14,IF(Inputs!B:B=B14,Inputs!A:A))))} -> 43313 | B14: Tier 2 | C14: Farbige Tinte | D14: Amazon.de | E14: {=MAX(IF(Inputs!$A$3:$A$49980=$A14,IF(Inputs!$C$3:$C$49980=$C14,IF(Inputs!$D$3:$D$49980=$D14,Inputs!E$3:E$49980))))} -> 42 | F14: {=MAX(IF(Inputs!$A$3:$A$49980=$A14,IF(Inputs!$C$3:$C$49980=$C14,IF(Inputs!$D$3:$D$49980=$D14,Inputs!F$3:F$49980))))} -> 500 | G14: =SUMIFS(Inputs!G$3:G$49980,Inputs!$A$3:$A$49980,$A14,Inputs!$C$3:$C$49980,$C14,Inputs!$D$3:$D$49980,$D14,Inputs!$E$3:$E$49980,$E14,Inputs!$F$3:$F$49980,$F14) -> 0.6 | H14: =SUMIFS(Inputs!H$3:H$49980,Inputs!$A$3:$A$49980,$A14,Inputs!$C$3:$C$49980,$C14,Inputs!$D$3:$D$49980,$D14,Inputs!$E$3:$E$49980,$E14,Inputs!$F$3:$F$49980,$F14) -> 0.06
A15: {=MAX(IF(Inputs!C:C=C15,IF(Inputs!D:D=D15,IF(Inputs!B:B=B15,Inputs!A:A))))} -> 43313 | B15: Tier 1 | C15: Schwarze Tinte | D15: Amazon.fr/Amazon.it/Amazon.es | E15: {=MIN(IF(Inputs!$A$3:$A$49980=$A15,IF(Inputs!$C$3:$C$49980=$C15,IF(Inputs!$D$3:$D$49980=$D15,Inputs!E$3:E$49980))))} -> 24 | F15: {=MIN(IF(Inputs!$A$3:$A$49980=$A15,IF(Inputs!$C$3:$C$49980=$C15,IF(Inputs!$D$3:$D$49980=$D15,Inputs!F$3:F$49980))))} -> 109 | G15: =SUMIFS(Inputs!G$3:G$49980,Inputs!$A$3:$A$49980,$A15,Inputs!$C$3:$C$49980,$C15,Inputs!$D$3:$D$49980,$D15,Inputs!$E$3:$E$49980,$E15,Inputs!$F$3:$F$49980,$F15) -> 1.9 | H15: =SUMIFS(Inputs!H$3:H$49980,Inputs!$A$3:$A$49980,$A15,Inputs!$C$3:$C$49980,$C15,Inputs!$D$3:$D$49980,$D15,Inputs!$E$3:$E$49980,$E15,Inputs!$F$3:$F$49980,$F15) -> 0
A16: {=MAX(IF(Inputs!C:C=C16,IF(Inputs!D:D=D16,IF(Inputs!B:B=B16,Inputs!A:A))))} -> 43313 | B16: Tier 2 | C16: Schwarze Tinte | D16: Amazon.fr/Amazon.it/Amazon.es | E16: {=MAX(IF(Inputs!$A$3:$A$49980=$A16,IF(Inputs!$C$3:$C$49980=$C16,IF(Inputs!$D$3:$D$49980=$D16,Inputs!E$3:E$49980))))} -> 110 | F16: {=MAX(IF(Inputs!$A$3:$A$49980=$A16,IF(Inputs!$C$3:$C$49980=$C16,IF(Inputs!$D$3:$D$49980=$D16,Inputs!F$3:F$49980))))} -> 828 | G16: =SUMIFS(Inputs!G$3:G$49980,Inputs!$A$3:$A$49980,$A16,Inputs!$C$3:$C$49980,$C16,Inputs!$D$3:$D$49980,$D16,Inputs!$E$3:$E$49980,$E16,Inputs!$F$3:$F$49980,$F16) -> 0.6 | H16: =SUMIFS(Inputs!H$3:H$49980,Inputs!$A$3:$A$49980,$A16,Inputs!$C$3:$C$49980,$C16,Inputs!$D$3:$D$49980,$D16,Inputs!$E$3:$E$49980,$E16,Inputs!$F$3:$F$49980,$F16) -> 0.012
A17: {=MAX(IF(Inputs!C:C=C17,IF(Inputs!D:D=D17,IF(Inputs!B:B=B17,Inputs!A:A))))} -> 43313 | B17: Tier 1 | C17: Farbige Tinte | D17: Amazon.fr/Amazon.it/Amazon.es | E17: {=MIN(IF(Inputs!$A$3:$A$49980=$A17,IF(Inputs!$C$3:$C$49980=$C17,IF(Inputs!$D$3:$D$49980=$D17,Inputs!E$3:E$49980))))} -> 24 | F17: {=MIN(IF(Inputs!$A$3:$A$49980=$A17,IF(Inputs!$C$3:$C$49980=$C17,IF(Inputs!$D$3:$D$49980=$D17,Inputs!F$3:F$49980))))} -> 41 | G17: =SUMIFS(Inputs!G$3:G$49980,Inputs!$A$3:$A$49980,$A17,Inputs!$C$3:$C$49980,$C17,Inputs!$D$3:$D$49980,$D17,Inputs!$E$3:$E$49980,$E17,Inputs!$F$3:$F$49980,$F17) -> 2.4 | H17: =SUMIFS(Inputs!H$3:H$49980,Inputs!$A$3:$A$49980,$A17,Inputs!$C$3:$C$49980,$C17,Inputs!$D$3:$D$49980,$D17,Inputs!$E$3:$E$49980,$E17,Inputs!$F$3:$F$49980,$F17) -> 0
A18: {=MAX(IF(Inputs!C:C=C18,IF(Inputs!D:D=D18,IF(Inputs!B:B=B18,Inputs!A:A))))} -> 43313 | B18: Tier 2 | C18: Farbige Tinte | D18: Amazon.fr/Amazon.it/Amazon.es | E18: {=MAX(IF(Inputs!$A$3:$A$49980=$A18,IF(Inputs!$C$3:$C$49980=$C18,IF(Inputs!$D$3:$D$49980=$D18,Inputs!E$3:E$49980))))} -> 42 | F18: {=MAX(IF(Inputs!$A$3:$A$49980=$A18,IF(Inputs!$C$3:$C$49980=$C18,IF(Inputs!$D$3:$D$49980=$D18,Inputs!F$3:F$49980))))} -> 500 | G18: =SUMIFS(Inputs!G$3:G$49980,Inputs!$A$3:$A$49980,$A18,Inputs!$C$3:$C$49980,$C18,Inputs!$D$3:$D$49980,$D18,Inputs!$E$3:$E$49980,$E18,Inputs!$F$3:$F$49980,$F18) -> 0.6 | H18: =SUMIFS(Inputs!H$3:H$49980,Inputs!$A$3:$A$49980,$A18,Inputs!$C$3:$C$49980,$C18,Inputs!$D$3:$D$49980,$D18,Inputs!$E$3:$E$49980,$E18,Inputs!$F$3:$F$49980,$F18) -> 0.06

Sheet Inputs
A1: Pinting Costs by Channel | J1: Currency Exchange Rates | O1: Selected Channel Currency
A2: Updated Date | B2: Pricing Tier | C2: Interior Type | D2: Marketplace | E2: Min Page Count | F2: Max Page Count | G2: Fixed Cost | H2: Per Page | J2: Updated Date | K2: From Currency | L2: To Currency | M2: Exchange Rate
A3: 43313 | B3: Tier 1 | C3: Schwarze Tinte | D3: Amazon.com | E3: 24 | F3: 109 | G3: 2.15 | H3: 0 | J3: 43313 | K3: EUR | L3: USD | M3: 0.85380035
A4: 43313 | B4: Tier 2 | C4: Schwarze Tinte | D4: Amazon.com | E4: 110 | F4: 828 | G4: 0.85 | H4: 0.012 | J4: 43313 | K4: EUR | L4: GBP | M4: 1.1204283
A5: 43313 | B5: Tier 1 | C5: Farbige Tinte | D5: Amazon.com | E5: 24 | F5: 41 | G5: 3.65 | H5: 0 | J5: 43313 | K5: USD | L5: EUR | M5: 1.1713923
A6: 43313 | B6: Tier 2 | C6: Farbige Tinte | D6: Amazon.com | E6: 42 | F6: 500 | G6: 0.85 | H6: 0.07 | J6: 43313 | K6: USD | L6: GBP | M6: 1.3131976
A7: 43313 | B7: Tier 1 | C7: Schwarze Tinte | D7: Amazon.co.uk | E7: 24 | F7: 109 | G7: 1.7 | H7: 0 | J7: 43313 | K7: GBP | L7: USD | M7: 0.76045512
A8: 43313 | B8: Tier 2 | C8: Schwarze Tinte | D8: Amazon.co.uk | E8: 110 | F8: 828 | G8: 0.7 | H8: 0.01 | J8: 43313 | K8: GBP | L8: EUR | M8: 0.89251582
A9: 43313 | B9: Tier 1 | C9: Farbige Tinte | D9: Amazon.co.uk | E9: 24 | F9: 41 | G9: 2.05 | H9: 0 | J9: 43313 | K9: USD | L9: USD | M9: 1
A10: 43313 | B10: Tier 2 | C10: Farbige Tinte | D10: Amazon.co.uk | E10: 42 | F10: 500 | G10: 0.7 | H10: 0.045 | J10: 43313 | K10: GBP | L10: GBP | M10: 1
A11: 43313 | B11: Tier 1 | C11: Schwarze Tinte | D11: Amazon.de | E11: 24 | F11: 109 | G11: 1.9 | H11: 0 | J11: 43313 | K11: EUR | L11: EUR | M11: 1
A12: 43313 | B12: Tier 2 | C12: Schwarze Tinte | D12: Amazon.de | E12: 110 | F12: 828 | G12: 0.6 | H12: 0.012
A13: 43313 | B13: Tier 1 | C13: Farbige Tinte | D13: Amazon.de | E13: 24 | F13: 41 | G13: 2.4 | H13: 0
A14: 43313 | B14: Tier 2 | C14: Farbige Tinte | D14: Amazon.de | E14: 42 | F14: 500 | G14: 0.6 | H14: 0.06
A15: 43313 | B15: Tier 1 | C15: Schwarze Tinte | D15: Amazon.fr/Amazon.it/Amazon.es | E15: 24 | F15: 109 | G15: 1.9 | H15: 0
A16: 43313 | B16: Tier 2 | C16: Schwarze Tinte | D16: Amazon.fr/Amazon.it/Amazon.es | E16: 110 | F16: 828 | G16: 0.6 | H16: 0.012
A17: 43313 | B17: Tier 1 | C17: Farbige Tinte | D17: Amazon.fr/Amazon.it/Amazon.es | E17: 24 | F17: 41 | G17: 2.4 | H17: 0
A18: 43313 | B18: Tier 2 | C18: Farbige Tinte | D18: Amazon.fr/Amazon.it/Amazon.es | E18: 42 | F18: 500 | G18: 0.6 | H18: 0.06
