Workbook

Sheet Trainingsbeteiligung
A1: Datum: | C1: 43282 | D1: 43284 | E1: 43285 | F1: 43287 | G1: 7.7.18 Spiel | H1: 8.7.18 Spiel
C3: T | D3: E | E3: U | F3: T

Sheet Auswertung
B2: Name | C2: Vorname | E2: T | F2: E | G2: U | I2: Beteiligung in %
A3: 1 | E3: =COUNTIF(Trainingsbeteiligung!C2:CA2,"T") -> 0 | F3: =COUNTIF(Trainingsbeteiligung!C2:CA2,"E") -> 0 | G3: =COUNTIF(Trainingsbeteiligung!C2:CA2,"U") -> 0 | I3: =IF(ISBLANK(B3),"",E3/(E3+F3+G3)) | K3: E3/(E3+F3+G3)
A4: 2 | B4: Müller | E4: =COUNTIF(Trainingsbeteiligung!C3:CA3,"T") -> 2 | F4: =COUNTIF(Trainingsbeteiligung!C3:CA3,"E") -> 1 | G4: =COUNTIF(Trainingsbeteiligung!C3:CA3,"U") -> 1 | I4: =IF(ISBLANK(B4),"",E4/(E4+F4+G4)) -> 0.5
A5: 3 | E5: =COUNTIF(Trainingsbeteiligung!C4:CA4,"T") -> 0 | F5: =COUNTIF(Trainingsbeteiligung!C4:CA4,"E") -> 0 | G5: =COUNTIF(Trainingsbeteiligung!C4:CA4,"U") -> 0 | I5: =IF((E5+F5+G5)<>0,E5/(E5+F5+G5),"")
A6: 4 | E6: =COUNTIF(Trainingsbeteiligung!C5:CA5,"T") -> 0 | F6: =COUNTIF(Trainingsbeteiligung!C5:CA5,"E") -> 0 | G6: =COUNTIF(Trainingsbeteiligung!C5:CA5,"U") -> 0 | I6: =IF((E6+F6+G6)<>0,E6/(E6+F6+G6),"")
A7: 5 | E7: =COUNTIF(Trainingsbeteiligung!C6:CA6,"T") -> 0 | F7: =COUNTIF(Trainingsbeteiligung!C6:CA6,"E") -> 0 | G7: =COUNTIF(Trainingsbeteiligung!C6:CA6,"U") -> 0 | I7: =IF((E7+F7+G7)<>0,E7/(E7+F7+G7),"")
A8: 6 | E8: =COUNTIF(Trainingsbeteiligung!C7:CA7,"T") -> 0 | F8: =COUNTIF(Trainingsbeteiligung!C7:CA7,"E") -> 0 | G8: =COUNTIF(Trainingsbeteiligung!C7:CA7,"U") -> 0 | I8: =IF((E8+F8+G8)<>0,E8/(E8+F8+G8),"")
A9: 7 | E9: =COUNTIF(Trainingsbeteiligung!C8:CA8,"T") -> 0 | F9: =COUNTIF(Trainingsbeteiligung!C8:CA8,"E") -> 0 | G9: =COUNTIF(Trainingsbeteiligung!C8:CA8,"U") -> 0 | I9: =IF((E9+F9+G9)<>0,E9/(E9+F9+G9),"")
A10: 8 | E10: =COUNTIF(Trainingsbeteiligung!C9:CA9,"T") -> 0 | F10: =COUNTIF(Trainingsbeteiligung!C9:CA9,"E") -> 0 | G10: =COUNTIF(Trainingsbeteiligung!C9:CA9,"U") -> 0 | I10: =IF((E10+F10+G10)<>0,E10/(E10+F10+G10),"")
A11: 9 | E11: =COUNTIF(Trainingsbeteiligung!C10:CA10,"T") -> 0 | F11: =COUNTIF(Trainingsbeteiligung!C10:CA10,"E") -> 0 | G11: =COUNTIF(Trainingsbeteiligung!C10:CA10,"U") -> 0 | I11: =IF((E11+F11+G11)<>0,E11/(E11+F11+G11),"")
A12: 10 | E12: =COUNTIF(Trainingsbeteiligung!C11:CA11,"T") -> 0 | F12: =COUNTIF(Trainingsbeteiligung!C11:CA11,"E") -> 0 | G12: =COUNTIF(Trainingsbeteiligung!C11:CA11,"U") -> 0 | I12: =IF((E12+F12+G12)<>0,E12/(E12+F12+G12),"")
A13: 11 | E13: =COUNTIF(Trainingsbeteiligung!C12:CA12,"T") -> 0 | F13: =COUNTIF(Trainingsbeteiligung!C12:CA12,"E") -> 0 | G13: =COUNTIF(Trainingsbeteiligung!C12:CA12,"U") -> 0 | I13: =IF((E13+F13+G13)<>0,E13/(E13+F13+G13),"")
A14: 12 | E14: =COUNTIF(Trainingsbeteiligung!C13:CA13,"T") -> 0 | F14: =COUNTIF(Trainingsbeteiligung!C13:CA13,"E") -> 0 | G14: =COUNTIF(Trainingsbeteiligung!C13:CA13,"U") -> 0 | I14: =IF((E14+F14+G14)<>0,E14/(E14+F14+G14),"")
A15: 13 | E15: =COUNTIF(Trainingsbeteiligung!C14:CA14,"T") -> 0 | F15: =COUNTIF(Trainingsbeteiligung!C14:CA14,"E") -> 0 | G15: =COUNTIF(Trainingsbeteiligung!C14:CA14,"U") -> 0 | I15: =IF((E15+F15+G15)<>0,E15/(E15+F15+G15),"")
A16: 14 | E16: =COUNTIF(Trainingsbeteiligung!C15:CA15,"T") -> 0 | F16: =COUNTIF(Trainingsbeteiligung!C15:CA15,"E") -> 0 | G16: =COUNTIF(Trainingsbeteiligung!C15:CA15,"U") -> 0 | I16: =IF((E16+F16+G16)<>0,E16/(E16+F16+G16),"")
... A37: 35 | E37: =COUNTIF(Trainingsbeteiligung!C36:CA36,"T") -> 0 | F37: =COUNTIF(Trainingsbeteiligung!C36:CA36,"E") -> 0 | G37: =COUNTIF(Trainingsbeteiligung!C36:CA36,"U") -> 0 | I37: =IF((E37+F37+G37)<>0,E37/(E37+F37+G37),"")
B40: T = Teilgenommen E= Entschuldigt U= unentschuldigt
